PDS_VERSION_ID = PDS3
/* FILE DATA ELEMENTS */
RECORD_TYPE = UNDEFINED
/* POINTERS TO DATA OBJECTS */
^IMAGE = ("HN477_0000_BL4.TIF")
/* IDENTIFICATION DATA ELEMENTS */
DATA_SET_ID = "MEX-M-HRSC-4-REFDR-MAPPROJECT-EXT8-V4.0"
DATA_SET_NAME = "MARS EXPRESS HRSC MAP PROJECTED REFDR EXTENSION8 V4.0"
DETECTOR_ID = MEX_HRSC_BLUE
EVENT_TYPE = "MARS-REGIONAL-COLOR-Fl-Gl-Ts"
INSTRUMENT_HOST_ID = MEX
INSTRUMENT_HOST_NAME = "MARS EXPRESS"
INSTRUMENT_ID = HRSC
INSTRUMENT_NAME = "HIGH RESOLUTION STEREO CAMERA"
MISSION_NAME = "MARS EXPRESS"
MISSION_PHASE_NAME = ME_Phase_47
PROCESSING_LEVEL_ID = 4
PRODUCT_CREATION_TIME = 2023-01-28T22:22:56.000Z
PRODUCT_ID = "HN477_0000_BL4.TIF"
RELEASE_ID = 0004
REVISION_ID = 0000
/* QUALITY DATA ELEMENTS */
DATA_QUALITY_ID = 1
DATA_QUALITY_DESC = "Data calculated based on original SPICE kernels"
/* TIME DATA ELEMENTS */
SPACECRAFT_CLOCK_START_COUNT = "1/0607543159.25694"
SPACECRAFT_CLOCK_STOP_COUNT = "1/0607543515.64600"
START_TIME = 2022-08-02T18:00:35.778Z
STOP_TIME = 2022-08-02T18:04:56.893Z
/* ORBITAL DATA ELEMENTS */
ASCENDING_NODE_LONGITUDE = 136.77
MAXIMUM_RESOLUTION = 0.0314
FOOTPRINT_POINT_LATITUDE = (-84.8938,-85.2379,-85.4591,-85.7286, -85.7357,-85.7657,-85.4075,-84.9153, -84.5362,-84.0221,-83.6215,-83.352, -83.0814,-82.81,-82.5322,-82.2517, -81.9703,-81.6886,-81.2564,-80.967, -80.6769,-80.2345,-79.9379,-79.6402, -79.1849,-78.8806,-78.5768,-78.2662, -77.9549,-77.644,-77.3265,-76.8499, -76.5275,-76.2032,-75.8814,-75.3858, -75.0545,-74.7191,-74.3841,-73.8747, -73.5336,-73.1869,-72.8426,-72.4912, -72.139,-71.7826,-71.4228,-71.0614, -70.6986,-70.5154,-70.5089,-70.4589, -70.386,-70.3156,-70.2555,-70.2521, -70.2515,-70.7919,-71.1497,-71.5032, -71.8552,-72.203,-72.5489,-72.8907, -73.2322,-73.5682,-74.0704,-74.4005, -74.8934,-75.2171,-75.5412,-76.017, -76.3339,-76.6451,-76.956,-77.2662, -77.5698,-77.8729,-78.1753,-78.4711, -78.7664,-79.206,-79.493,-79.7794, -80.0652,-80.4827,-80.897,-81.1703, -81.4372,-81.7025,-81.9662,-82.2265, -82.4794,-82.73,-83.3432,-83.8069, -84.2534,-84.7799,-84.88,-84.8938)
FOOTPRINT_POINT_LONGITUDE = (78.0005,82.1819,85.427,90.2472,90.3895 ,90.5895,93.5732,96.8807,98.9513, 101.292,102.818,103.737,104.584,105.367 ,106.106,106.792,107.427,108.02,108.851 ,109.364,109.841,110.516,110.938, 111.329,111.879,112.227,112.557,112.874 ,113.172,113.456,113.729,114.113, 114.353,114.584,114.813,115.13,115.322, 115.518,115.706,115.975,116.143,116.305 ,116.472,116.623,116.769,116.91,117.038 ,117.173,117.301,117.364,117.367, 115.852,114.124,112.738,111.687,111.632 ,111.612,111.35,111.167,110.977,110.777 ,110.573,110.367,110.149,109.921, 109.684,109.308,109.047,108.621,108.332 ,108.027,107.551,107.22,106.876,106.502 ,106.114,105.71,105.291,104.848,104.388 ,103.903,103.128,102.588,102.018, 101.405,100.421,99.3719,98.6072,97.805, 96.9425,96.0224,95.0512,94.0313,92.9376 ,89.8656,87.0208,83.7084,78.7668, 77.6526,78.0005)
ORBIT_NUMBER = 23477
ORBITAL_ECCENTRICITY = 0.575
ORBITAL_INCLINATION = 87.03
ORBITAL_SEMIMAJOR_AXIS = 8755.75
PERIAPSIS_ALTITUDE = 344.78
PERIAPSIS_ARGUMENT_ANGLE = 258.29
PERIAPSIS_TIME = 2022-08-02T17:56:35.000Z
SPACECRAFT_ORIENTATION = (0.0,-1.0,0.0)
^MEX_ORIENTATION_DESC = "MEX_ORIENTATION_DESC.TXT"
SPACECRAFT_POINTING_MODE = ACROSSTRACK
^MEX_POINTING_DESC = "MEX_POINTING_DESC.TXT"
RIGHT_ASCENSION = -1e+32
DECLINATION = -1e+32
OFFSET_ANGLE = 0.07
SPACECRAFT_SOLAR_DISTANCE = 2.08532e+08
TARGET_NAME = MARS
/* CAMERA DATA ELEMENTS */
DETECTOR_TEMPERATURE = 18.1666
FOCAL_PLANE_TEMPERATURE = 8.1755
INST_CMPRS_NAME = "DISCRETE COSINE TRANSFORMATION (DCT)"
INST_CMPRS_RATIO = 3.71189
INST_CMPRS_QUALITY = 0
INST_CMPRS_QUANTZ_TBL_ID = 0
INSTRUMENT_TEMPERATURE = 11.234
LENS_TEMPERATURE = 8.5833
MACROPIXEL_SIZE = 2
MISSING_FRAMES = 0
PIXEL_SUBSAMPLING_FLAG = N
SIGNAL_CHAIN_ID = 2
/* RADIOMETRIC DATA ELEMENTS */
BANDWIDTH = 76.0
CENTER_FILTER_WAVELENGTH = 444.0
RADIANCE_OFFSET = 0.614293
RADIANCE_SCALING_FACTOR = 0.00479208
REFLECTANCE_SCALING_FACTOR = 0.000214106
MEX:REFLECTANCE_OFFSET = 0.0274461
/* IMAGE OBJECT DEFINITIONS */
OBJECT = IMAGE
  INTERCHANGE_FORMAT = BINARY
  LINES = 36813
  LINE_SAMPLES = 13812
  SAMPLE_TYPE = UNSIGNED_INTEGER
  SAMPLE_BITS = 8
  BANDS = 1
  BAND_STORAGE_TYPE = BAND_SEQUENTIAL
  MAXIMUM = 255
  MEAN = 63.6894
  MINIMUM = 1
  STANDARD_DEVIATION = 16.9906
END_OBJECT = IMAGE
/* MAP OBJECT DEFINITIONS */
OBJECT = IMAGE_MAP_PROJECTION
  ^DATA_SET_MAP_PROJECTION_CATALOG= "DSMAP.CAT"
  A_AXIS_RADIUS = 3396.0
  B_AXIS_RADIUS = 3396.0
  C_AXIS_RADIUS = 3396.0
  CENTER_LATITUDE = 0.0
  CENTER_LONGITUDE = 108.0
  COORDINATE_SYSTEM_NAME = PLANETOGRAPHIC
  COORDINATE_SYSTEM_TYPE = "BODY-FIXED ROTATING"
  EASTERNMOST_LONGITUDE = 117.367
  FIRST_STANDARD_PARALLEL = "N/A"
  LINE_FIRST_PIXEL = 1
  LINE_LAST_PIXEL = 36813
  LINE_PROJECTION_OFFSET = -166546.25
  MAP_PROJECTION_ROTATION = 0.0
  MAP_PROJECTION_TYPE = SINUSOIDAL
  MAP_RESOLUTION = 2370.85521546667
  MAP_SCALE = 0.025
  MAXIMUM_LATITUDE = -70.25149999999999
  MINIMUM_LATITUDE = -85.7657
  POSITIVE_LONGITUDE_DIRECTION = EAST
  REFERENCE_LATITUDE = "N/A"
  REFERENCE_LONGITUDE = "N/A"
  SAMPLE_FIRST_PIXEL = 1
  SAMPLE_LAST_PIXEL = 13812
  SAMPLE_PROJECTION_OFFSET = 6418.75
  SECOND_STANDARD_PARALLEL = "N/A"
  WESTERNMOST_LONGITUDE = 77.65260000000001
END_OBJECT = IMAGE_MAP_PROJECTION
END
