PDS_VERSION_ID = PDS3
/* FILE DATA ELEMENTS */
RECORD_TYPE = UNDEFINED
/* POINTERS TO DATA OBJECTS */
^IMAGE = ("HN479_0000_RE4.TIF")
/* IDENTIFICATION DATA ELEMENTS */
DATA_SET_ID = "MEX-M-HRSC-4-REFDR-MAPPROJECT-EXT8-V4.0"
DATA_SET_NAME = "MARS EXPRESS HRSC MAP PROJECTED REFDR EXTENSION8 V4.0"
DETECTOR_ID = MEX_HRSC_RED
EVENT_TYPE = "MARS-TERMINATOR-CALIBRATION-Tc"
INSTRUMENT_HOST_ID = MEX
INSTRUMENT_HOST_NAME = "MARS EXPRESS"
INSTRUMENT_ID = HRSC
INSTRUMENT_NAME = "HIGH RESOLUTION STEREO CAMERA"
MISSION_NAME = "MARS EXPRESS"
MISSION_PHASE_NAME = ME_Phase_47
PROCESSING_LEVEL_ID = 4
PRODUCT_CREATION_TIME = 2023-01-28T22:22:56.000Z
PRODUCT_ID = "HN479_0000_RE4.TIF"
RELEASE_ID = 0004
REVISION_ID = 0000
/* QUALITY DATA ELEMENTS */
DATA_QUALITY_ID = 1
DATA_QUALITY_DESC = "Data calculated based on original SPICE kernels"
/* TIME DATA ELEMENTS */
SPACECRAFT_CLOCK_START_COUNT = "1/0607594871.25682"
SPACECRAFT_CLOCK_STOP_COUNT = "1/0607595434.09348"
START_TIME = 2022-08-03T08:26:48.534Z
STOP_TIME = 2022-08-03T08:31:07.289Z
/* ORBITAL DATA ELEMENTS */
ASCENDING_NODE_LONGITUDE = 136.73
MAXIMUM_RESOLUTION = 0.2496
FOOTPRINT_POINT_LATITUDE = (0.606562,0.696533,0.817753,0.981025, 1.20468,1.52416,1.74239,2.02679,2.43101 ,2.72511,3.18371,3.24353,2.55467, 1.78812,0.564962,0.639523,-0.594055, -1.65239,-3.53926,-4.73321,-5.54186, -6.32938,-6.66953,-7.36879,-8.03735, -8.7195,-9.00815,-9.65436,-9.9993, -10.5676,-10.894,-11.9667,-12.3462, -13.3329,-13.7018,-14.231,-15.6137, -18.3053,-18.6228,-18.9437,-19.2534, -19.8674,-20.4737,-21.0743,-21.6699, -22.8575,-24.0517,-25.2663,-26.513, -27.8013,-29.1412,-30.569,-32.0967, -33.7398,-36.5835,-37.1123,-37.1589, -35.4778,-34.7601,-33.6752,-32.8892, -32.1673,-30.9896,-29.9405,-28.9566, -28.187,-27.2214,-26.5113,-25.7534, -24.9306,-24.1549,-23.4157,-22.7092, -22.623,-22.5918,-21.4326,-20.543, -19.681,-18.843,-18.0251,-17.2244, -15.6554,-14.4922,-12.9397,-12.1554, -11.3596,-10.5503,-9.72235,-8.87024, -7.98807,-7.06862,-6.10326,-5.08448, -3.98668,-2.78828,-1.45295,-0.719682, 0.0638089,0.478326,0.606562)
FOOTPRINT_POINT_LONGITUDE = (237.058,235.905,234.637,233.217, 231.585,229.628,228.457,227.07,225.301, 224.127,222.44,222.146,220.769,221.6, 222.33,219.89,220.663,220.835,220.216, 218.444,220.606,219.259,218.132,219.981 ,217.326,219.32,217.36,219.297,217.618, 219.01,216.795,219.298,217.158,218.98, 215.464,217.264,218.709,219.261,220.966 ,222.15,223.227,224.938,226.316,227.491 ,228.53,230.304,231.791,233.067,234.178 ,235.161,236.037,236.766,237.371, 237.859,238.176,238.172,238.171,241.197 ,242.437,244.256,245.536,246.689, 248.517,250.106,251.555,252.674,254.053 ,255.038,256.089,257.213,258.263, 259.253,260.191,260.305,260.346,259.37, 258.609,257.862,257.126,256.397,255.671 ,254.223,253.134,251.659,250.901,250.14 ,249.357,248.535,247.686,246.798, 245.861,244.863,243.802,242.613,241.268 ,239.705,238.819,237.856,237.338, 237.058)
ORBIT_NUMBER = 23479
ORBITAL_ECCENTRICITY = 0.575
ORBITAL_INCLINATION = 87.02
ORBITAL_SEMIMAJOR_AXIS = 8758.33
PERIAPSIS_ALTITUDE = 345.09
PERIAPSIS_ARGUMENT_ANGLE = 257.96
PERIAPSIS_TIME = 2022-08-03T07:54:40.000Z
SPACECRAFT_ORIENTATION = (0.0,1.0,0.0)
^MEX_ORIENTATION_DESC = "MEX_ORIENTATION_DESC.TXT"
SPACECRAFT_POINTING_MODE = FIXED
^MEX_POINTING_DESC = "MEX_POINTING_DESC.TXT"
RIGHT_ASCENSION = -1e+32
DECLINATION = -1e+32
OFFSET_ANGLE = -1e+32
SPACECRAFT_SOLAR_DISTANCE = 2.08584e+08
TARGET_NAME = MARS
/* CAMERA DATA ELEMENTS */
DETECTOR_TEMPERATURE = 18.3705
FOCAL_PLANE_TEMPERATURE = 8.9911
INST_CMPRS_NAME = "DISCRETE COSINE TRANSFORMATION (DCT)"
INST_CMPRS_RATIO = 13.2229
INST_CMPRS_QUALITY = 0
INST_CMPRS_QUANTZ_TBL_ID = 0
INSTRUMENT_TEMPERATURE = 11.4379
LENS_TEMPERATURE = 8.7872
MACROPIXEL_SIZE = 2
MISSING_FRAMES = 0
PIXEL_SUBSAMPLING_FLAG = N
SIGNAL_CHAIN_ID = 1
/* RADIOMETRIC DATA ELEMENTS */
BANDWIDTH = 48.0
CENTER_FILTER_WAVELENGTH = 748.0
RADIANCE_OFFSET = 0.0
RADIANCE_SCALING_FACTOR = 0.0170037
REFLECTANCE_SCALING_FACTOR = 0.00168826
MEX:REFLECTANCE_OFFSET = 0.0
/* IMAGE OBJECT DEFINITIONS */
OBJECT = IMAGE
  INTERCHANGE_FORMAT = BINARY
  LINES = 10478
  LINE_SAMPLES = 11182
  SAMPLE_TYPE = UNSIGNED_INTEGER
  SAMPLE_BITS = 8
  BANDS = 1
  BAND_STORAGE_TYPE = BAND_SEQUENTIAL
  MAXIMUM = 255
  MEAN = 204.108
  MINIMUM = 106
  STANDARD_DEVIATION = 18.4526
END_OBJECT = IMAGE
/* MAP OBJECT DEFINITIONS */
OBJECT = IMAGE_MAP_PROJECTION
  ^DATA_SET_MAP_PROJECTION_CATALOG= "DSMAP.CAT"
  A_AXIS_RADIUS = 3396.0
  B_AXIS_RADIUS = 3396.0
  C_AXIS_RADIUS = 3396.0
  CENTER_LATITUDE = -15.9227
  CENTER_LONGITUDE = 241.547
  COORDINATE_SYSTEM_NAME = PLANETOGRAPHIC
  COORDINATE_SYSTEM_TYPE = "BODY-FIXED ROTATING"
  EASTERNMOST_LONGITUDE = 260.346
  FIRST_STANDARD_PARALLEL = "N/A"
  LINE_FIRST_PIXEL = 1
  LINE_LAST_PIXEL = 10478
  LINE_PROJECTION_OFFSET = 4622.0
  MAP_PROJECTION_ROTATION = 0.0
  MAP_PROJECTION_TYPE = ORTHOGRAPHIC
  MAP_RESOLUTION = 296.356901933333
  MAP_SCALE = 0.2
  MAXIMUM_LATITUDE = 3.24353
  MINIMUM_LATITUDE = -37.1589
  POSITIVE_LONGITUDE_DIRECTION = EAST
  REFERENCE_LATITUDE = "N/A"
  REFERENCE_LONGITUDE = "N/A"
  SAMPLE_FIRST_PIXEL = 1
  SAMPLE_LAST_PIXEL = 11182
  SAMPLE_PROJECTION_OFFSET = 6795.0
  SECOND_STANDARD_PARALLEL = "N/A"
  WESTERNMOST_LONGITUDE = 215.464
END_OBJECT = IMAGE_MAP_PROJECTION
END
