PDS_VERSION_ID = PDS3
/* FILE DATA ELEMENTS */
RECORD_TYPE = UNDEFINED
/* POINTERS TO DATA OBJECTS */
^IMAGE = ("HN481_0000_P14.TIF")
/* IDENTIFICATION DATA ELEMENTS */
DATA_SET_ID = "MEX-M-HRSC-4-REFDR-MAPPROJECT-EXT8-V4.0"
DATA_SET_NAME = "MARS EXPRESS HRSC MAP PROJECTED REFDR EXTENSION8 V4.0"
DETECTOR_ID = MEX_HRSC_P1
EVENT_TYPE = "MARS-REGIONAL-MAPPING-Gl-Pf-La"
INSTRUMENT_HOST_ID = MEX
INSTRUMENT_HOST_NAME = "MARS EXPRESS"
INSTRUMENT_ID = HRSC
INSTRUMENT_NAME = "HIGH RESOLUTION STEREO CAMERA"
MISSION_NAME = "MARS EXPRESS"
MISSION_PHASE_NAME = ME_Phase_47
PROCESSING_LEVEL_ID = 4
PRODUCT_CREATION_TIME = 2023-01-28T22:22:56.000Z
PRODUCT_ID = "HN481_0000_P14.TIF"
RELEASE_ID = 0004
REVISION_ID = 0000
/* QUALITY DATA ELEMENTS */
DATA_QUALITY_ID = 1
DATA_QUALITY_DESC = "Data calculated based on original SPICE kernels"
/* TIME DATA ELEMENTS */
SPACECRAFT_CLOCK_START_COUNT = "1/0607643767.25694"
SPACECRAFT_CLOCK_STOP_COUNT = "1/0607644046.55336"
START_TIME = 2022-08-03T21:56:54.808Z
STOP_TIME = 2022-08-03T21:59:50.755Z
/* ORBITAL DATA ELEMENTS */
ASCENDING_NODE_LONGITUDE = 136.69
MAXIMUM_RESOLUTION = 0.0325
FOOTPRINT_POINT_LATITUDE = (-83.6624,-83.8812,-84.1464,-84.3062, -84.3114,-84.2676,-83.7859,-83.3992, -83.1062,-82.8118,-82.4097,-82.2064, -81.9005,-81.6959,-81.4913,-81.2827, -81.0678,-80.8576,-80.5414,-80.3305, -80.1166,-79.9,-79.6834,-79.3583, -79.1415,-78.9203,-78.6979,-78.476, -78.253,-78.0305,-77.8029,-77.5754, -77.3532,-77.1233,-76.8949,-76.6618, -76.3119,-76.0794,-75.8446,-75.5981, -75.3594,-75.121,-74.8786,-74.6354, -74.3926,-74.1502,-73.7806,-73.5342, -73.4108,-73.2869,-73.2512,-73.2217, -73.1778,-73.1317,-73.0628,-73.0058, -73.0021,-73.0014,-73.3689,-73.617, -73.8572,-74.2162,-74.4556,-74.6951, -74.9315,-75.2834,-75.521,-75.7531, -76.0958,-76.3241,-76.6659,-76.8888, -77.1116,-77.3339,-77.5563,-77.7746, -77.9879,-78.2037,-78.4202,-78.6399, -78.8511,-79.1631,-79.3729,-79.5826, -79.7911,-79.9943,-80.1968,-80.3988, -80.6004,-80.9055,-81.2954,-81.5853, -81.7775,-81.9691,-82.3435,-82.7084, -83.1568,-83.4206,-83.5077,-83.6624)
FOOTPRINT_POINT_LONGITUDE = (40.7179,43.7982,48.3203,51.6798,51.799 ,52.3488,54.2852,55.6043,56.5031, 57.3273,58.3427,58.8144,59.478,59.8935, 60.2871,60.6678,61.0413,61.3868,61.8771 ,62.1853,62.4838,62.7724,63.048,63.4399 ,63.6875,63.9294,64.1633,64.3857, 64.6027,64.8098,65.0133,65.2079,65.379, 65.5672,65.7399,65.9127,66.161,66.3176, 66.4667,66.6293,66.7758,66.9166,67.0545 ,67.1881,67.3166,67.4401,67.6181, 67.7324,67.7886,67.847,66.7998,66.0461, 65.0666,64.1485,62.8934,61.9856,61.9291 ,61.9083,61.664,61.4964,61.3167,61.0467 ,60.8587,60.6642,60.4664,60.1581, 59.9377,59.7153,59.3729,59.134,58.7597, 58.5039,58.2385,57.9627,57.6763,57.3819 ,57.078,56.7637,56.4376,56.1001,55.7523 ,55.2064,54.8247,54.4269,54.0114, 53.5887,53.1477,52.6872,52.206,51.432, 50.354,49.4798,48.8615,48.2125,46.8346, 45.3318,43.2233,41.8181,41.3238, 40.7179)
ORBIT_NUMBER = 23481
ORBITAL_ECCENTRICITY = 0.575
ORBITAL_INCLINATION = 87.03
ORBITAL_SEMIMAJOR_AXIS = 8756.1
PERIAPSIS_ALTITUDE = 344.41
PERIAPSIS_ARGUMENT_ANGLE = 257.63
PERIAPSIS_TIME = 2022-08-03T21:52:46.000Z
SPACECRAFT_ORIENTATION = (0.0,-1.0,0.0)
^MEX_ORIENTATION_DESC = "MEX_ORIENTATION_DESC.TXT"
SPACECRAFT_POINTING_MODE = NADIR
^MEX_POINTING_DESC = "MEX_POINTING_DESC.TXT"
RIGHT_ASCENSION = -1e+32
DECLINATION = -1e+32
OFFSET_ANGLE = -1e+32
SPACECRAFT_SOLAR_DISTANCE = 2.08636e+08
TARGET_NAME = MARS
/* CAMERA DATA ELEMENTS */
DETECTOR_TEMPERATURE = 18.3705
FOCAL_PLANE_TEMPERATURE = 7.9716
INST_CMPRS_NAME = "DISCRETE COSINE TRANSFORMATION (DCT)"
INST_CMPRS_RATIO = 10.3511
INST_CMPRS_QUALITY = 0
INST_CMPRS_QUANTZ_TBL_ID = 0
INSTRUMENT_TEMPERATURE = 11.234
LENS_TEMPERATURE = 8.3794
MACROPIXEL_SIZE = 2
PIXEL_SUBSAMPLING_FLAG = N
SIGNAL_CHAIN_ID = 3
/* RADIOMETRIC DATA ELEMENTS */
BANDWIDTH = 174.0
CENTER_FILTER_WAVELENGTH = 675.0
RADIANCE_OFFSET = 4.98999
RADIANCE_SCALING_FACTOR = 0.0457358
REFLECTANCE_SCALING_FACTOR = 0.00107083
MEX:REFLECTANCE_OFFSET = 0.116833
/* IMAGE OBJECT DEFINITIONS */
OBJECT = IMAGE
  INTERCHANGE_FORMAT = BINARY
  LINES = 26727
  LINE_SAMPLES = 10563
  SAMPLE_TYPE = UNSIGNED_INTEGER
  SAMPLE_BITS = 8
  BANDS = 1
  BAND_STORAGE_TYPE = BAND_SEQUENTIAL
  MAXIMUM = 255
  MEAN = 62.5786
  MINIMUM = 1
  STANDARD_DEVIATION = 50.7689
END_OBJECT = IMAGE
/* MAP OBJECT DEFINITIONS */
OBJECT = IMAGE_MAP_PROJECTION
  ^DATA_SET_MAP_PROJECTION_CATALOG= "DSMAP.CAT"
  A_AXIS_RADIUS = 3396.0
  B_AXIS_RADIUS = 3396.0
  C_AXIS_RADIUS = 3396.0
  CENTER_LATITUDE = 0.0
  CENTER_LONGITUDE = 60.0
  COORDINATE_SYSTEM_NAME = PLANETOGRAPHIC
  COORDINATE_SYSTEM_TYPE = "BODY-FIXED ROTATING"
  EASTERNMOST_LONGITUDE = 67.84699999999999
  FIRST_STANDARD_PARALLEL = "N/A"
  LINE_FIRST_PIXEL = 1
  LINE_LAST_PIXEL = 26727
  LINE_PROJECTION_OFFSET = -173063.25
  MAP_PROJECTION_ROTATION = 0.0
  MAP_PROJECTION_TYPE = SINUSOIDAL
  MAP_RESOLUTION = 2370.85521546667
  MAP_SCALE = 0.025
  MAXIMUM_LATITUDE = -73.0014
  MINIMUM_LATITUDE = -84.31140000000001
  POSITIVE_LONGITUDE_DIRECTION = EAST
  REFERENCE_LATITUDE = "N/A"
  REFERENCE_LONGITUDE = "N/A"
  SAMPLE_FIRST_PIXEL = 1
  SAMPLE_LAST_PIXEL = 10563
  SAMPLE_PROJECTION_OFFSET = 5121.25
  SECOND_STANDARD_PARALLEL = "N/A"
  WESTERNMOST_LONGITUDE = 40.7179
END_OBJECT = IMAGE_MAP_PROJECTION
END
