PDS_VERSION_ID = PDS3
/* FILE DATA ELEMENTS */
RECORD_TYPE = UNDEFINED
/* POINTERS TO DATA OBJECTS */
^IMAGE = ("HN481_0000_S14.TIF")
/* IDENTIFICATION DATA ELEMENTS */
DATA_SET_ID = "MEX-M-HRSC-4-REFDR-MAPPROJECT-EXT8-V4.0"
DATA_SET_NAME = "MARS EXPRESS HRSC MAP PROJECTED REFDR EXTENSION8 V4.0"
DETECTOR_ID = MEX_HRSC_S1
EVENT_TYPE = "MARS-REGIONAL-MAPPING-Gl-Pf-La"
INSTRUMENT_HOST_ID = MEX
INSTRUMENT_HOST_NAME = "MARS EXPRESS"
INSTRUMENT_ID = HRSC
INSTRUMENT_NAME = "HIGH RESOLUTION STEREO CAMERA"
MISSION_NAME = "MARS EXPRESS"
MISSION_PHASE_NAME = ME_Phase_47
PROCESSING_LEVEL_ID = 4
PRODUCT_CREATION_TIME = 2023-01-28T22:22:56.000Z
PRODUCT_ID = "HN481_0000_S14.TIF"
RELEASE_ID = 0004
REVISION_ID = 0000
/* QUALITY DATA ELEMENTS */
DATA_QUALITY_ID = 1
DATA_QUALITY_DESC = "Data calculated based on original SPICE kernels"
/* TIME DATA ELEMENTS */
SPACECRAFT_CLOCK_START_COUNT = "1/0607643767.25694"
SPACECRAFT_CLOCK_STOP_COUNT = "1/0607644046.55336"
START_TIME = 2022-08-03T21:56:42.557Z
STOP_TIME = 2022-08-03T21:59:35.168Z
/* ORBITAL DATA ELEMENTS */
ASCENDING_NODE_LONGITUDE = 136.69
MAXIMUM_RESOLUTION = 0.0332
FOOTPRINT_POINT_LATITUDE = (-83.7085,-83.9603,-84.1917,-84.3515, -84.3566,-84.2832,-83.9904,-83.7955, -83.4055,-83.1092,-82.8115,-82.4126, -82.2122,-82.0111,-81.8064,-81.5991, -81.3915,-81.1841,-80.8724,-80.6642, -80.4518,-80.2379,-80.024,-79.7027, -79.4885,-79.2711,-79.0509,-78.8311, -78.6108,-78.3912,-78.1684,-77.9426, -77.6041,-77.3851,-77.1571,-76.9283, -76.5808,-76.3488,-76.118,-75.8841, -75.6426,-75.4046,-75.1669,-74.9259, -74.6834,-74.3203,-74.0787,-73.8336, -73.4652,-73.3406,-73.2946,-73.2527, -73.2177,-73.1745,-73.1151,-73.0136, -73.01,-73.0093,-73.3768,-73.6255, -73.8634,-74.2216,-74.4603,-74.6991, -74.9368,-75.1706,-75.4016,-75.6337, -75.977,-76.2039,-76.4311,-76.6579, -76.8825,-77.1038,-77.3244,-77.5452, -77.7632,-77.9749,-78.1894,-78.4039, -78.6227,-78.8358,-79.1471,-79.4586, -79.6657,-79.9745,-80.1795,-80.3791, -80.5782,-80.7767,-80.9737,-81.1714, -81.4642,-81.8435,-82.2193,-82.6826, -83.0464,-83.4919,-83.5791,-83.7085)
FOOTPRINT_POINT_LONGITUDE = (40.5474,44.1169,48.0946,51.4347, 51.5533,52.2401,53.4698,54.2122,55.5465 ,56.4571,57.2914,58.2993,58.7651, 59.2081,59.6358,60.0463,60.4361,60.8053 ,61.3273,61.6555,61.9745,62.2808, 62.5731,62.9886,63.2507,63.5053,63.7529 ,63.989,64.2168,64.4335,64.6473,64.8537 ,65.1484,65.32,65.506,65.6794,65.936, 66.1001,66.2562,66.407,66.5659,66.7128, 66.8541,66.9921,67.1261,67.318,67.4389, 67.5567,67.7277,67.7858,67.8071,66.6079 ,65.7556,64.8525,63.7276,62.0547, 61.9992,61.9788,61.7342,61.5651,61.3879 ,61.1184,60.9309,60.7369,60.5395, 60.3364,60.1255,59.9073,59.5707,59.338, 59.0968,58.8466,58.5894,58.3265,58.0537 ,57.7705,57.4764,57.175,56.8654,56.5434 ,56.208,55.8595,55.3178,54.7482,54.3483 ,53.7165,53.2727,52.8207,52.3487, 51.8554,51.3402,50.8001,49.9462,48.7373 ,47.4068,45.5471,43.8791,41.5284,41.02, 40.5474)
ORBIT_NUMBER = 23481
ORBITAL_ECCENTRICITY = 0.575
ORBITAL_INCLINATION = 87.03
ORBITAL_SEMIMAJOR_AXIS = 8756.1
PERIAPSIS_ALTITUDE = 344.41
PERIAPSIS_ARGUMENT_ANGLE = 257.63
PERIAPSIS_TIME = 2022-08-03T21:52:46.000Z
SPACECRAFT_ORIENTATION = (0.0,-1.0,0.0)
^MEX_ORIENTATION_DESC = "MEX_ORIENTATION_DESC.TXT"
SPACECRAFT_POINTING_MODE = NADIR
^MEX_POINTING_DESC = "MEX_POINTING_DESC.TXT"
RIGHT_ASCENSION = -1e+32
DECLINATION = -1e+32
OFFSET_ANGLE = -1e+32
SPACECRAFT_SOLAR_DISTANCE = 2.08636e+08
TARGET_NAME = MARS
/* CAMERA DATA ELEMENTS */
DETECTOR_TEMPERATURE = 18.3705
FOCAL_PLANE_TEMPERATURE = 7.9716
INST_CMPRS_NAME = "DISCRETE COSINE TRANSFORMATION (DCT)"
INST_CMPRS_RATIO = 14.3704
INST_CMPRS_QUALITY = 0
INST_CMPRS_QUANTZ_TBL_ID = 0
INSTRUMENT_TEMPERATURE = 11.234
LENS_TEMPERATURE = 8.3794
MACROPIXEL_SIZE = 2
MISSING_FRAMES = 0
PIXEL_SUBSAMPLING_FLAG = N
SIGNAL_CHAIN_ID = 1
/* RADIOMETRIC DATA ELEMENTS */
BANDWIDTH = 180.0
CENTER_FILTER_WAVELENGTH = 677.0
RADIANCE_OFFSET = 6.461
RADIANCE_SCALING_FACTOR = 0.0444055
REFLECTANCE_SCALING_FACTOR = 0.00100846
MEX:REFLECTANCE_OFFSET = 0.146731
/* IMAGE OBJECT DEFINITIONS */
OBJECT = IMAGE
  INTERCHANGE_FORMAT = BINARY
  LINES = 26727
  LINE_SAMPLES = 10563
  SAMPLE_TYPE = UNSIGNED_INTEGER
  SAMPLE_BITS = 8
  BANDS = 1
  BAND_STORAGE_TYPE = BAND_SEQUENTIAL
  MAXIMUM = 255
  MEAN = 46.881
  MINIMUM = 1
  STANDARD_DEVIATION = 56.91
END_OBJECT = IMAGE
/* MAP OBJECT DEFINITIONS */
OBJECT = IMAGE_MAP_PROJECTION
  ^DATA_SET_MAP_PROJECTION_CATALOG= "DSMAP.CAT"
  A_AXIS_RADIUS = 3396.0
  B_AXIS_RADIUS = 3396.0
  C_AXIS_RADIUS = 3396.0
  CENTER_LATITUDE = 0.0
  CENTER_LONGITUDE = 60.0
  COORDINATE_SYSTEM_NAME = PLANETOGRAPHIC
  COORDINATE_SYSTEM_TYPE = "BODY-FIXED ROTATING"
  EASTERNMOST_LONGITUDE = 67.80710000000001
  FIRST_STANDARD_PARALLEL = "N/A"
  LINE_FIRST_PIXEL = 1
  LINE_LAST_PIXEL = 26727
  LINE_PROJECTION_OFFSET = -173063.25
  MAP_PROJECTION_ROTATION = 0.0
  MAP_PROJECTION_TYPE = SINUSOIDAL
  MAP_RESOLUTION = 2370.85521546667
  MAP_SCALE = 0.025
  MAXIMUM_LATITUDE = -73.0093
  MINIMUM_LATITUDE = -84.3566
  POSITIVE_LONGITUDE_DIRECTION = EAST
  REFERENCE_LATITUDE = "N/A"
  REFERENCE_LONGITUDE = "N/A"
  SAMPLE_FIRST_PIXEL = 1
  SAMPLE_LAST_PIXEL = 10563
  SAMPLE_PROJECTION_OFFSET = 5121.25
  SECOND_STANDARD_PARALLEL = "N/A"
  WESTERNMOST_LONGITUDE = 40.5474
END_OBJECT = IMAGE_MAP_PROJECTION
END
