PDS_VERSION_ID = PDS3
/* FILE DATA ELEMENTS */
RECORD_TYPE = UNDEFINED
/* POINTERS TO DATA OBJECTS */
^IMAGE = ("HN501_0000_BL4.TIF")
/* IDENTIFICATION DATA ELEMENTS */
DATA_SET_ID = "MEX-M-HRSC-4-REFDR-MAPPROJECT-EXT8-V4.0"
DATA_SET_NAME = "MARS EXPRESS HRSC MAP PROJECTED REFDR EXTENSION8 V4.0"
DETECTOR_ID = MEX_HRSC_BLUE
EVENT_TYPE = "MARS-TERMINATOR-CALIBRATION-Tc"
INSTRUMENT_HOST_ID = MEX
INSTRUMENT_HOST_NAME = "MARS EXPRESS"
INSTRUMENT_ID = HRSC
INSTRUMENT_NAME = "HIGH RESOLUTION STEREO CAMERA"
MISSION_NAME = "MARS EXPRESS"
MISSION_PHASE_NAME = ME_Phase_47
PROCESSING_LEVEL_ID = 4
PRODUCT_CREATION_TIME = 2023-02-07T06:07:28.000Z
PRODUCT_ID = "HN501_0000_BL4.TIF"
RELEASE_ID = 0005
REVISION_ID = 0000
/* QUALITY DATA ELEMENTS */
DATA_QUALITY_ID = 1
DATA_QUALITY_DESC = "Data calculated based on original SPICE kernels"
/* TIME DATA ELEMENTS */
SPACECRAFT_CLOCK_START_COUNT = "1/0608149975.26018"
SPACECRAFT_CLOCK_STOP_COUNT = "1/0608150353.31222"
START_TIME = 2022-08-09T18:35:32.649Z
STOP_TIME = 2022-08-09T18:38:26.709Z
/* ORBITAL DATA ELEMENTS */
ASCENDING_NODE_LONGITUDE = 136.34
MAXIMUM_RESOLUTION = 0.847
FOOTPRINT_POINT_LATITUDE = (36.7002,35.3728,34.5158,33.6788, 32.8602,31.2699,29.7358,28.2498,26.8051 ,25.3975,24.0225,22.6752,21.3515, 20.0475,18.7605,17.4912,17.3335,17.295, 18.7333,19.6538,20.5487,21.4217,22.2756 ,23.1128,23.9352,24.7455,25.7423, 26.5297,27.3086,28.0815,28.8485,29.6108 ,30.369,31.121,31.8759,32.6263,33.3751, 34.1231,34.8704,35.6173,36.3638,37.1084 ,37.2943,37.3765,39.0964,40.908,42.8033 ,44.7936,46.9028,49.1546,51.5897, 54.2619,55.7144,57.2595,58.9212,60.7303 ,62.7333,63.8352,65.0261,66.3281, 67.7992,68.6317,69.5662,70.8001,69.9353 ,71.3924,74.0609,74.5934,72.8675, 71.6083,70.5319,69.5711,67.8906,66.432, 65.114,63.9092,62.7835,61.734,59.8083, 58.0483,56.4264,54.8951,53.4674,52.1062 ,50.8022,49.5481,48.3354,47.1573,46.009 ,44.8842,43.7782,42.6863,41.6044, 40.5249,39.4393,38.3417,37.784,37.2183, 36.931,36.7002)
FOOTPRINT_POINT_LONGITUDE = (131.821,134.747,136.416,137.915, 139.276,141.673,143.733,145.536,147.138 ,148.575,149.877,151.067,152.161, 153.174,154.117,154.995,155.1,155.082, 157.832,159.59,161.303,162.983,164.637, 166.275,167.904,169.529,171.568,173.211 ,174.872,176.557,178.273,180.027, 181.827,183.681,185.6,187.593,189.674, 191.857,194.16,196.606,199.223,202.044, 202.788,203.122,203.344,203.646,204.045 ,204.563,205.241,206.131,207.327, 208.983,210.071,211.402,213.075,215.249 ,218.212,220.173,222.637,225.861, 230.471,233.761,238.398,247.894,240.649 ,239.29,240.798,233.241,221.857,215.483 ,210.838,207.145,201.429,197.029,193.41 ,190.324,187.614,185.194,180.976, 177.341,174.108,171.168,168.434,165.859 ,163.4,161.024,158.704,156.416,154.136, 151.843,149.512,147.117,144.625,141.997 ,139.187,136.107,134.431,132.631, 131.677,131.821)
ORBIT_NUMBER = 23501
ORBITAL_ECCENTRICITY = 0.575
ORBITAL_INCLINATION = 87.02
ORBITAL_SEMIMAJOR_AXIS = 8760.63
PERIAPSIS_ALTITUDE = 345.87
PERIAPSIS_ARGUMENT_ANGLE = 254.25
PERIAPSIS_TIME = 2022-08-09T17:33:33.000Z
SPACECRAFT_ORIENTATION = (0.0,-1.0,0.0)
^MEX_ORIENTATION_DESC = "MEX_ORIENTATION_DESC.TXT"
SPACECRAFT_POINTING_MODE = FIXED
^MEX_POINTING_DESC = "MEX_POINTING_DESC.TXT"
RIGHT_ASCENSION = -1e+32
DECLINATION = -1e+32
OFFSET_ANGLE = -1e+32
SPACECRAFT_SOLAR_DISTANCE = 2.09191e+08
TARGET_NAME = MARS
/* CAMERA DATA ELEMENTS */
DETECTOR_TEMPERATURE = 18.3705
FOCAL_PLANE_TEMPERATURE = 8.3794
INST_CMPRS_NAME = "DISCRETE COSINE TRANSFORMATION (DCT)"
INST_CMPRS_RATIO = 16.5753
INST_CMPRS_QUALITY = 0
INST_CMPRS_QUANTZ_TBL_ID = 0
INSTRUMENT_TEMPERATURE = 11.0301
LENS_TEMPERATURE = 8.5833
MACROPIXEL_SIZE = 4
MISSING_FRAMES = 0
PIXEL_SUBSAMPLING_FLAG = N
SIGNAL_CHAIN_ID = 2
/* RADIOMETRIC DATA ELEMENTS */
BANDWIDTH = 76.0
CENTER_FILTER_WAVELENGTH = 444.0
RADIANCE_OFFSET = 0.0
RADIANCE_SCALING_FACTOR = 0.0061442
REFLECTANCE_SCALING_FACTOR = 0.000276265
MEX:REFLECTANCE_OFFSET = 0.0
/* IMAGE OBJECT DEFINITIONS */
OBJECT = IMAGE
  INTERCHANGE_FORMAT = BINARY
  LINES = 4450
  LINE_SAMPLES = 3867
  SAMPLE_TYPE = UNSIGNED_INTEGER
  SAMPLE_BITS = 8
  BANDS = 1
  BAND_STORAGE_TYPE = BAND_SEQUENTIAL
  MAXIMUM = 255
  MEAN = 172.026
  MINIMUM = 1
  STANDARD_DEVIATION = 44.1342
END_OBJECT = IMAGE
/* MAP OBJECT DEFINITIONS */
OBJECT = IMAGE_MAP_PROJECTION
  ^DATA_SET_MAP_PROJECTION_CATALOG= "DSMAP.CAT"
  A_AXIS_RADIUS = 3396.0
  B_AXIS_RADIUS = 3396.0
  C_AXIS_RADIUS = 3396.0
  CENTER_LATITUDE = 37.0498
  CENTER_LONGITUDE = 172.581
  COORDINATE_SYSTEM_NAME = PLANETOGRAPHIC
  COORDINATE_SYSTEM_TYPE = "BODY-FIXED ROTATING"
  EASTERNMOST_LONGITUDE = 247.894
  FIRST_STANDARD_PARALLEL = "N/A"
  LINE_FIRST_PIXEL = 1
  LINE_LAST_PIXEL = 4450
  LINE_PROJECTION_OFFSET = 3075.25
  MAP_PROJECTION_ROTATION = 0.0
  MAP_PROJECTION_TYPE = ORTHOGRAPHIC
  MAP_RESOLUTION = 74.08922548333329
  MAP_SCALE = 0.8
  MAXIMUM_LATITUDE = 74.5934
  MINIMUM_LATITUDE = 17.295
  POSITIVE_LONGITUDE_DIRECTION = EAST
  REFERENCE_LATITUDE = "N/A"
  REFERENCE_LONGITUDE = "N/A"
  SAMPLE_FIRST_PIXEL = 1
  SAMPLE_LAST_PIXEL = 3867
  SAMPLE_PROJECTION_OFFSET = 2133.25
  SECOND_STANDARD_PARALLEL = "N/A"
  WESTERNMOST_LONGITUDE = 131.677
END_OBJECT = IMAGE_MAP_PROJECTION
END
