PDS_VERSION_ID = PDS3
/* FILE DATA ELEMENTS */
RECORD_TYPE = UNDEFINED
/* POINTERS TO DATA OBJECTS */
^IMAGE = ("HN515_0001_RE4.TIF")
/* IDENTIFICATION DATA ELEMENTS */
DATA_SET_ID = "MEX-M-HRSC-4-REFDR-MAPPROJECT-EXT8-V4.0"
DATA_SET_NAME = "MARS EXPRESS HRSC MAP PROJECTED REFDR EXTENSION8 V4.0"
DETECTOR_ID = MEX_HRSC_RED
EVENT_TYPE = "MARS-TERMINATOR-CALIBRATION-Tc"
INSTRUMENT_HOST_ID = MEX
INSTRUMENT_HOST_NAME = "MARS EXPRESS"
INSTRUMENT_ID = HRSC
INSTRUMENT_NAME = "HIGH RESOLUTION STEREO CAMERA"
MISSION_NAME = "MARS EXPRESS"
MISSION_PHASE_NAME = ME_Phase_47
PROCESSING_LEVEL_ID = 4
PRODUCT_CREATION_TIME = 2023-02-07T06:07:28.000Z
PRODUCT_ID = "HN515_0001_RE4.TIF"
RELEASE_ID = 0005
REVISION_ID = 0000
/* QUALITY DATA ELEMENTS */
DATA_QUALITY_ID = 1
DATA_QUALITY_DESC = "Data calculated based on original SPICE kernels"
/* TIME DATA ELEMENTS */
SPACECRAFT_CLOCK_START_COUNT = "1/0608507017.24897"
SPACECRAFT_CLOCK_STOP_COUNT = "1/0608507350.65036"
START_TIME = 2022-08-13T21:44:12.559Z
STOP_TIME = 2022-08-13T21:46:10.171Z
/* ORBITAL DATA ELEMENTS */
ASCENDING_NODE_LONGITUDE = 136.1
MAXIMUM_RESOLUTION = 0.7652
FOOTPRINT_POINT_LATITUDE = (51.4721,49.0558,46.5977,44.0917, 41.5251,38.884,36.155,33.3213,31.8576, 30.3566,28.8149,27.2279,25.5882,23.887, 22.1159,20.2639,18.3159,16.2519,12.8803 ,12.279,11.9582,12.707,13.384,14.5447, 15.4994,16.2773,16.9051,17.3903,17.7424 ,17.9844,18.0923,18.1252,18.0137, 17.7944,17.487,17.0502,16.4957,15.8241, 15.0224,14.0667,12.9421,11.6185,10.0551 ,9.163,8.18456,7.10944,5.91443,4.57219, 3.04332,1.26976,0.242979,-0.282118, 2.33639,3.9069,5.35905,7.99935,10.3796, 12.5355,14.6045,16.4983,18.2859,19.9821 ,21.5923,23.131,24.5924,27.0317,29.9897 ,32.4699,34.816,37.0347,39.1401,40.8867 ,41.1289,41.2184,43.6642,45.1022, 46.4078,47.5919,48.6689,49.642,50.5183, 51.3021,51.9964,52.6034,53.1244,53.5604 ,53.9115,54.1779,54.359,54.4539,54.4615 ,54.3804,54.2089,53.9449,53.5858, 53.1283,52.5684,51.717,51.5256,51.4721)
FOOTPRINT_POINT_LONGITUDE = (207.629,206.44,205.442,204.607,203.911 ,203.339,202.88,202.527,202.389,202.276 ,202.19,202.129,202.097,202.093,202.121 ,202.184,202.285,202.43,202.752,202.82, 202.899,201.53,200.193,197.607,195.106, 192.673,190.292,187.956,185.657,183.383 ,181.135,178.341,176.123,173.913, 171.707,169.499,167.286,165.063,162.822 ,160.555,158.253,155.9,153.477,152.231, 150.955,149.644,148.289,146.877,145.391 ,143.804,142.953,142.538,142.706, 142.754,142.762,142.693,142.537,142.301 ,142.04,141.708,141.333,140.916,140.454 ,139.951,139.399,138.344,136.827, 135.319,133.643,131.776,129.702,127.695 ,127.393,127.287,131.694,134.615,137.54 ,140.475,143.441,146.432,149.458, 152.522,155.625,158.771,161.957,165.184 ,168.448,171.746,175.077,178.434, 181.814,185.212,188.622,192.042,195.466 ,198.89,202.314,206.59,207.445,207.629)
ORBIT_NUMBER = 23515
ORBITAL_ECCENTRICITY = 0.575
ORBITAL_INCLINATION = 87.02
ORBITAL_SEMIMAJOR_AXIS = 8763.1
PERIAPSIS_ALTITUDE = 345.96
PERIAPSIS_ARGUMENT_ANGLE = 251.9
PERIAPSIS_TIME = 2022-08-13T19:20:15.000Z
SPACECRAFT_ORIENTATION = (0.0,1.0,0.0)
^MEX_ORIENTATION_DESC = "MEX_ORIENTATION_DESC.TXT"
SPACECRAFT_POINTING_MODE = FIXED
^MEX_POINTING_DESC = "MEX_POINTING_DESC.TXT"
RIGHT_ASCENSION = -1e+32
DECLINATION = -1e+32
OFFSET_ANGLE = -1e+32
SPACECRAFT_SOLAR_DISTANCE = 2.09617e+08
TARGET_NAME = MARS
/* CAMERA DATA ELEMENTS */
DETECTOR_TEMPERATURE = 23.8758
FOCAL_PLANE_TEMPERATURE = 9.195
INST_CMPRS_NAME = "DISCRETE COSINE TRANSFORMATION (DCT)"
INST_CMPRS_RATIO = 9.62581
INST_CMPRS_QUALITY = 0
INST_CMPRS_QUANTZ_TBL_ID = 0
INSTRUMENT_TEMPERATURE = 16.9432
LENS_TEMPERATURE = 9.8067
MACROPIXEL_SIZE = 2
MISSING_FRAMES = 0
PIXEL_SUBSAMPLING_FLAG = N
SIGNAL_CHAIN_ID = 1
/* RADIOMETRIC DATA ELEMENTS */
BANDWIDTH = 48.0
CENTER_FILTER_WAVELENGTH = 748.0
RADIANCE_OFFSET = 0.434288
RADIANCE_SCALING_FACTOR = 0.0125603
REFLECTANCE_SCALING_FACTOR = 0.00125957
MEX:REFLECTANCE_OFFSET = 0.0435514
/* IMAGE OBJECT DEFINITIONS */
OBJECT = IMAGE
  INTERCHANGE_FORMAT = BINARY
  LINES = 3646
  LINE_SAMPLES = 4435
  SAMPLE_TYPE = UNSIGNED_INTEGER
  SAMPLE_BITS = 8
  BANDS = 1
  BAND_STORAGE_TYPE = BAND_SEQUENTIAL
  MAXIMUM = 255
  MEAN = 128.551
  MINIMUM = 1
  STANDARD_DEVIATION = 63.8672
END_OBJECT = IMAGE
/* MAP OBJECT DEFINITIONS */
OBJECT = IMAGE_MAP_PROJECTION
  ^DATA_SET_MAP_PROJECTION_CATALOG= "DSMAP.CAT"
  A_AXIS_RADIUS = 3396.0
  B_AXIS_RADIUS = 3396.0
  C_AXIS_RADIUS = 3396.0
  CENTER_LATITUDE = 39.8002
  CENTER_LONGITUDE = 169.759
  COORDINATE_SYSTEM_NAME = PLANETOGRAPHIC
  COORDINATE_SYSTEM_TYPE = "BODY-FIXED ROTATING"
  EASTERNMOST_LONGITUDE = 207.629
  FIRST_STANDARD_PARALLEL = "N/A"
  LINE_FIRST_PIXEL = 1
  LINE_LAST_PIXEL = 3646
  LINE_PROJECTION_OFFSET = 1413.0
  MAP_PROJECTION_ROTATION = 0.0
  MAP_PROJECTION_TYPE = ORTHOGRAPHIC
  MAP_RESOLUTION = 74.08922548333329
  MAP_SCALE = 0.8
  MAXIMUM_LATITUDE = 54.4615
  MINIMUM_LATITUDE = -0.282118
  POSITIVE_LONGITUDE_DIRECTION = EAST
  REFERENCE_LATITUDE = "N/A"
  REFERENCE_LONGITUDE = "N/A"
  SAMPLE_FIRST_PIXEL = 1
  SAMPLE_LAST_PIXEL = 4435
  SAMPLE_PROJECTION_OFFSET = 2187.0
  SECOND_STANDARD_PARALLEL = "N/A"
  WESTERNMOST_LONGITUDE = 127.287
END_OBJECT = IMAGE_MAP_PROJECTION
END
