PDS_VERSION_ID = PDS3
/* FILE DATA ELEMENTS */
RECORD_TYPE = UNDEFINED
/* POINTERS TO DATA OBJECTS */
^IMAGE = ("HN526_0000_GR4.TIF")
/* IDENTIFICATION DATA ELEMENTS */
DATA_SET_ID = "MEX-M-HRSC-4-REFDR-MAPPROJECT-EXT8-V4.0"
DATA_SET_NAME = "MARS EXPRESS HRSC MAP PROJECTED REFDR EXTENSION8 V4.0"
DETECTOR_ID = MEX_HRSC_GREEN
EVENT_TYPE = "MARS-TERMINATOR-CALIBRATION-Tc"
INSTRUMENT_HOST_ID = MEX
INSTRUMENT_HOST_NAME = "MARS EXPRESS"
INSTRUMENT_ID = HRSC
INSTRUMENT_NAME = "HIGH RESOLUTION STEREO CAMERA"
MISSION_NAME = "MARS EXPRESS"
MISSION_PHASE_NAME = ME_Phase_47
PROCESSING_LEVEL_ID = 4
PRODUCT_CREATION_TIME = 2023-02-07T06:07:28.000Z
PRODUCT_ID = "HN526_0000_GR4.TIF"
RELEASE_ID = 0005
REVISION_ID = 0000
/* QUALITY DATA ELEMENTS */
DATA_QUALITY_ID = 1
DATA_QUALITY_DESC = "Data calculated based on original SPICE kernels"
/* TIME DATA ELEMENTS */
SPACECRAFT_CLOCK_START_COUNT = "1/0608779671.25665"
SPACECRAFT_CLOCK_STOP_COUNT = "1/0608780038.16330"
START_TIME = 2022-08-17T01:29:48.564Z
STOP_TIME = 2022-08-17T01:32:25.589Z
/* ORBITAL DATA ELEMENTS */
ASCENDING_NODE_LONGITUDE = 135.91
MAXIMUM_RESOLUTION = 0.5167
FOOTPRINT_POINT_LATITUDE = (27.652,26.6377,25.0188,23.4022,21.7819 ,20.155,18.5176,16.8707,15.2075,13.5237 ,11.8154,10.0767,8.30025,6.25354, 6.02244,5.92722,7.38048,8.28728,9.14616 ,9.9613,10.738,11.4789,12.1791,12.846, 13.4791,14.0788,14.6442,15.1782,15.6784 ,16.1439,16.5717,16.9599,17.3041,17.601 ,17.7296,17.8438,17.9425,18.0242, 18.0866,18.1268,18.1474,18.142,18.1065, 18.0381,17.9318,17.7789,17.6837,17.5714 ,19.2317,21.137,22.4781,24.5869,25.8891 ,27.956,30.0104,32.06,34.1158,36.9637, 39.0571,40.1134,41.1774,42.2511,43.3356 ,44.431,44.7068,44.8061,44.6841,44.548, 44.3785,44.1823,43.9633,43.7261,43.4719 ,43.2062,42.9287,42.6404,42.3348, 42.0323,41.7211,41.4004,41.0852,40.757, 40.0876,39.4018,38.7022,37.9897,37.2645 ,36.5277,35.778,35.0164,34.2418,33.4531 ,32.6504,31.8312,30.9942,30.1377, 29.2594,28.1258,27.8938,27.652)
FOOTPRINT_POINT_LONGITUDE = (122.179,122.796,123.728,124.602, 125.425,126.204,126.941,127.641,128.308 ,128.945,129.554,130.14,130.704,131.314 ,131.38,131.39,134.102,135.877,137.633, 139.379,141.121,142.864,144.616,146.381 ,148.167,149.979,151.826,153.711, 155.643,157.631,159.684,161.814,164.034 ,166.357,167.563,168.802,170.078, 171.393,172.755,174.172,175.634,177.16, 178.76,180.44,182.211,184.097,185.084, 186.109,185.756,185.442,185.266,185.09, 185.039,185.056,185.19,185.454,185.857, 186.677,187.502,187.999,188.561,189.197 ,189.918,190.734,190.955,191.031, 186.578,183.905,181.419,179.092,176.898 ,174.822,172.846,170.967,169.169, 167.443,165.767,164.173,162.631,161.134 ,159.699,158.294,155.599,153.036, 150.586,148.234,145.964,143.765,141.626 ,139.537,137.488,135.473,133.481, 131.506,129.539,127.573,125.598,123.104 ,122.601,122.179)
ORBIT_NUMBER = 23526
ORBITAL_ECCENTRICITY = 0.575
ORBITAL_INCLINATION = 87.02
ORBITAL_SEMIMAJOR_AXIS = 8764.15
PERIAPSIS_ALTITUDE = 347.22
PERIAPSIS_ARGUMENT_ANGLE = 250.03
PERIAPSIS_TIME = 2022-08-17T00:09:53.000Z
SPACECRAFT_ORIENTATION = (0.0,1.0,0.0)
^MEX_ORIENTATION_DESC = "MEX_ORIENTATION_DESC.TXT"
SPACECRAFT_POINTING_MODE = FIXED
^MEX_POINTING_DESC = "MEX_POINTING_DESC.TXT"
RIGHT_ASCENSION = -1e+32
DECLINATION = -1e+32
OFFSET_ANGLE = -1e+32
SPACECRAFT_SOLAR_DISTANCE = 2.09972e+08
TARGET_NAME = MARS
/* CAMERA DATA ELEMENTS */
DETECTOR_TEMPERATURE = 17.9627
FOCAL_PLANE_TEMPERATURE = 8.5833
INST_CMPRS_NAME = "DISCRETE COSINE TRANSFORMATION (DCT)"
INST_CMPRS_RATIO = 7.44424
INST_CMPRS_QUALITY = 0
INST_CMPRS_QUANTZ_TBL_ID = 0
INSTRUMENT_TEMPERATURE = 10.8262
LENS_TEMPERATURE = 8.7872
MACROPIXEL_SIZE = 2
MISSING_FRAMES = 0
PIXEL_SUBSAMPLING_FLAG = N
SIGNAL_CHAIN_ID = 2
/* RADIOMETRIC DATA ELEMENTS */
BANDWIDTH = 88.0
CENTER_FILTER_WAVELENGTH = 538.0
RADIANCE_OFFSET = 1.64954
RADIANCE_SCALING_FACTOR = 0.00852355
REFLECTANCE_SCALING_FACTOR = 0.000323562
MEX:REFLECTANCE_OFFSET = 0.0626179
/* IMAGE OBJECT DEFINITIONS */
OBJECT = IMAGE
  INTERCHANGE_FORMAT = BINARY
  LINES = 6091
  LINE_SAMPLES = 8290
  SAMPLE_TYPE = UNSIGNED_INTEGER
  SAMPLE_BITS = 8
  BANDS = 1
  BAND_STORAGE_TYPE = BAND_SEQUENTIAL
  MAXIMUM = 255
  MEAN = 120.473
  MINIMUM = 1
  STANDARD_DEVIATION = 37.9998
END_OBJECT = IMAGE
/* MAP OBJECT DEFINITIONS */
OBJECT = IMAGE_MAP_PROJECTION
  ^DATA_SET_MAP_PROJECTION_CATALOG= "DSMAP.CAT"
  A_AXIS_RADIUS = 3396.0
  B_AXIS_RADIUS = 3396.0
  C_AXIS_RADIUS = 3396.0
  CENTER_LATITUDE = 27.01
  CENTER_LONGITUDE = 150.588
  COORDINATE_SYSTEM_NAME = PLANETOGRAPHIC
  COORDINATE_SYSTEM_TYPE = "BODY-FIXED ROTATING"
  EASTERNMOST_LONGITUDE = 191.031
  FIRST_STANDARD_PARALLEL = "N/A"
  LINE_FIRST_PIXEL = 1
  LINE_LAST_PIXEL = 6091
  LINE_PROJECTION_OFFSET = 3327.0
  MAP_PROJECTION_ROTATION = 0.0
  MAP_PROJECTION_TYPE = ORTHOGRAPHIC
  MAP_RESOLUTION = 148.178450966667
  MAP_SCALE = 0.4
  MAXIMUM_LATITUDE = 44.8061
  MINIMUM_LATITUDE = 5.92722
  POSITIVE_LONGITUDE_DIRECTION = EAST
  REFERENCE_LATITUDE = "N/A"
  REFERENCE_LONGITUDE = "N/A"
  SAMPLE_FIRST_PIXEL = 1
  SAMPLE_LAST_PIXEL = 8290
  SAMPLE_PROJECTION_OFFSET = 3607.0
  SECOND_STANDARD_PARALLEL = "N/A"
  WESTERNMOST_LONGITUDE = 122.179
END_OBJECT = IMAGE_MAP_PROJECTION
END
