PDS_VERSION_ID = PDS3
/* FILE DATA ELEMENTS */
RECORD_TYPE = UNDEFINED
/* POINTERS TO DATA OBJECTS */
^IMAGE = ("HN564_0009_S24.TIF")
/* IDENTIFICATION DATA ELEMENTS */
DATA_SET_ID = "MEX-M-HRSC-4-REFDR-MAPPROJECT-EXT8-V4.0"
DATA_SET_NAME = "MARS EXPRESS HRSC MAP PROJECTED REFDR EXTENSION8 V4.0"
DETECTOR_ID = MEX_HRSC_S2
EVENT_TYPE = "MARS-TERMINATOR-CALIBRATION-Tc"
INSTRUMENT_HOST_ID = MEX
INSTRUMENT_HOST_NAME = "MARS EXPRESS"
INSTRUMENT_ID = HRSC
INSTRUMENT_NAME = "HIGH RESOLUTION STEREO CAMERA"
MISSION_NAME = "MARS EXPRESS"
MISSION_PHASE_NAME = ME_Phase_47
PROCESSING_LEVEL_ID = 4
PRODUCT_CREATION_TIME = 2023-02-07T06:07:28.000Z
PRODUCT_ID = "HN564_0009_S24.TIF"
RELEASE_ID = 0005
REVISION_ID = 0000
/* QUALITY DATA ELEMENTS */
DATA_QUALITY_ID = 1
DATA_QUALITY_DESC = "Data calculated based on original SPICE kernels"
/* TIME DATA ELEMENTS */
SPACECRAFT_CLOCK_START_COUNT = "1/0609741119.25661"
SPACECRAFT_CLOCK_STOP_COUNT = "1/0609741420.25125"
START_TIME = 2022-08-28T04:36:46.641Z
STOP_TIME = 2022-08-28T04:37:33.660Z
/* ORBITAL DATA ELEMENTS */
ASCENDING_NODE_LONGITUDE = 135.25
MAXIMUM_RESOLUTION = 1.6839
FOOTPRINT_POINT_LATITUDE = (42.2459,39.5514,36.7557,33.8367, 30.7655,27.502,25.7822,23.9925,22.1223, 20.1584,18.0834,15.8738,13.4972,10.9069 ,8.03201,4.75487,2.90215,0.846869, -1.49311,-4.27512,-7.88817,-10.3916, -14.6387,-11.3494,-12.3328,-14.9661, -9.9766,-11.7163,-13.6213,-9.2156, -10.7308,-13.0664,-8.7271,-11.677, -13.3105,-8.46637,-11.4515,-7.6985, -10.8004,-7.21916,-10.7692,-6.99353, -9.51192,-11.463,-7.82024,-9.11366, -7.41817,-9.28602,-7.32631,-9.34146, -6.49568,-9.06881,-5.86404,-8.58437, -5.38586,-8.48301,-5.06611,-6.44317, -3.74788,-6.90123,-2.70002,-5.63451, -2.70736,-4.27459,-1.71601,-3.13609, -5.27193,-0.621441,1.3228,3.81086, 6.32769,8.4763,10.3687,13.6613,16.514, 19.0663,21.4037,23.5842,25.632,27.5654, 29.408,31.171,34.5072,37.6461,40.6125, 40.972,41.0927,41.8788,42.3262,42.6811, 42.9438,43.1194,43.2135,43.184,43.0428, 42.8467,42.5862,42.2623,42.2173, 42.2459)
FOOTPRINT_POINT_LONGITUDE = (209.242,209.943,210.624,211.297, 211.968,212.648,212.996,213.351,213.716 ,214.093,214.486,214.9,215.342,215.821, 216.353,216.962,217.309,217.697,218.145 ,218.687,219.411,219.93,220.848,220.137 ,223.158,225.847,224.829,226.989, 228.405,227.449,229.02,230.61,229.595, 231.958,232.802,231.543,233.691,232.769 ,234.991,234.091,236.52,235.508,237.297 ,238.627,237.613,238.95,238.703,240.29, 239.922,241.316,240.561,242.207,241.279 ,243.006,242.062,243.976,242.913, 244.806,244.043,246.035,245.286,247.205 ,246.287,247.301,246.55,247.498,248.777 ,246.728,246.012,245.262,244.483, 243.874,243.384,242.625,242.066,241.642 ,241.317,241.063,240.873,240.74,240.656 ,240.616,240.654,240.829,241.156, 241.209,241.221,237.453,234.756,232.088 ,229.458,226.867,224.315,219.633, 216.893,214.496,212.138,209.82,209.533, 209.242)
ORBIT_NUMBER = 23564
ORBITAL_ECCENTRICITY = 0.575
ORBITAL_INCLINATION = 87.04
ORBITAL_SEMIMAJOR_AXIS = 8772.96
PERIAPSIS_ALTITUDE = 346.45
PERIAPSIS_ARGUMENT_ANGLE = 243.64
PERIAPSIS_TIME = 2022-08-28T01:33:54.000Z
SPACECRAFT_ORIENTATION = (0.0,-1.0,0.0)
^MEX_ORIENTATION_DESC = "MEX_ORIENTATION_DESC.TXT"
SPACECRAFT_POINTING_MODE = FIXED
^MEX_POINTING_DESC = "MEX_POINTING_DESC.TXT"
RIGHT_ASCENSION = -1e+32
DECLINATION = -1e+32
OFFSET_ANGLE = -1e+32
SPACECRAFT_SOLAR_DISTANCE = 2.1133e+08
TARGET_NAME = MARS
/* CAMERA DATA ELEMENTS */
DETECTOR_TEMPERATURE = 18.9822
FOCAL_PLANE_TEMPERATURE = 8.5833
INST_CMPRS_NAME = "DISCRETE COSINE TRANSFORMATION (DCT)"
INST_CMPRS_RATIO = 16.1429
INST_CMPRS_QUALITY = 0
INST_CMPRS_QUANTZ_TBL_ID = 0
INSTRUMENT_TEMPERATURE = 11.6418
LENS_TEMPERATURE = 8.7872
MACROPIXEL_SIZE = 4
MISSING_FRAMES = 0
PIXEL_SUBSAMPLING_FLAG = N
SIGNAL_CHAIN_ID = 3
/* RADIOMETRIC DATA ELEMENTS */
BANDWIDTH = 178.0
CENTER_FILTER_WAVELENGTH = 679.0
RADIANCE_OFFSET = 0.0
RADIANCE_SCALING_FACTOR = 0.0623152
REFLECTANCE_SCALING_FACTOR = 0.00147405
MEX:REFLECTANCE_OFFSET = 0.0
/* IMAGE OBJECT DEFINITIONS */
OBJECT = IMAGE
  INTERCHANGE_FORMAT = BINARY
  LINES = 1053
  LINE_SAMPLES = 1056
  SAMPLE_TYPE = UNSIGNED_INTEGER
  SAMPLE_BITS = 8
  BANDS = 1
  BAND_STORAGE_TYPE = BAND_SEQUENTIAL
  MAXIMUM = 241
  MEAN = 165.816
  MINIMUM = 85
  STANDARD_DEVIATION = 33.595
END_OBJECT = IMAGE
/* MAP OBJECT DEFINITIONS */
OBJECT = IMAGE_MAP_PROJECTION
  ^DATA_SET_MAP_PROJECTION_CATALOG= "DSMAP.CAT"
  A_AXIS_RADIUS = 3396.0
  B_AXIS_RADIUS = 3396.0
  C_AXIS_RADIUS = 3396.0
  CENTER_LATITUDE = 25.3577
  CENTER_LONGITUDE = 226.323
  COORDINATE_SYSTEM_NAME = PLANETOGRAPHIC
  COORDINATE_SYSTEM_TYPE = "BODY-FIXED ROTATING"
  EASTERNMOST_LONGITUDE = 248.777
  FIRST_STANDARD_PARALLEL = "N/A"
  LINE_FIRST_PIXEL = 1
  LINE_LAST_PIXEL = 1053
  LINE_PROJECTION_OFFSET = 612.25
  MAP_PROJECTION_ROTATION = 0.0
  MAP_PROJECTION_TYPE = ORTHOGRAPHIC
  MAP_RESOLUTION = 37.0446127416667
  MAP_SCALE = 1.6
  MAXIMUM_LATITUDE = 43.2135
  MINIMUM_LATITUDE = -14.9661
  POSITIVE_LONGITUDE_DIRECTION = EAST
  REFERENCE_LATITUDE = "N/A"
  REFERENCE_LONGITUDE = "N/A"
  SAMPLE_FIRST_PIXEL = 1
  SAMPLE_LAST_PIXEL = 1056
  SAMPLE_PROJECTION_OFFSET = 461.75
  SECOND_STANDARD_PARALLEL = "N/A"
  WESTERNMOST_LONGITUDE = 209.242
END_OBJECT = IMAGE_MAP_PROJECTION
END
