PDS_VERSION_ID = PDS3
/* FILE DATA ELEMENTS */
RECORD_TYPE = UNDEFINED
/* POINTERS TO DATA OBJECTS */
^IMAGE = ("HN597_0000_RE4.TIF")
/* IDENTIFICATION DATA ELEMENTS */
DATA_SET_ID = "MEX-M-HRSC-4-REFDR-MAPPROJECT-EXT8-V4.0"
DATA_SET_NAME = "MARS EXPRESS HRSC MAP PROJECTED REFDR EXTENSION8 V4.0"
DETECTOR_ID = MEX_HRSC_RED
EVENT_TYPE = "MARS-REGIONAL-MAPPING-Gl-Pf-La"
INSTRUMENT_HOST_ID = MEX
INSTRUMENT_HOST_NAME = "MARS EXPRESS"
INSTRUMENT_ID = HRSC
INSTRUMENT_NAME = "HIGH RESOLUTION STEREO CAMERA"
MISSION_NAME = "MARS EXPRESS"
MISSION_PHASE_NAME = ME_Phase_47
PROCESSING_LEVEL_ID = 4
PRODUCT_CREATION_TIME = 2023-02-07T06:07:28.000Z
PRODUCT_ID = "HN597_0000_RE4.TIF"
RELEASE_ID = 0005
REVISION_ID = 0000
/* QUALITY DATA ELEMENTS */
DATA_QUALITY_ID = 1
DATA_QUALITY_DESC = "Data calculated based on original SPICE kernels"
/* TIME DATA ELEMENTS */
SPACECRAFT_CLOCK_START_COUNT = "1/0610560678.24059"
SPACECRAFT_CLOCK_STOP_COUNT = "1/0610561050.34967"
START_TIME = 2022-09-06T16:14:03.122Z
STOP_TIME = 2022-09-06T16:17:38.247Z
/* ORBITAL DATA ELEMENTS */
ASCENDING_NODE_LONGITUDE = 134.66
MAXIMUM_RESOLUTION = 0.0613
FOOTPRINT_POINT_LATITUDE = (-82.6442,-82.8265,-82.9254,-83.0664, -83.1555,-83.2506,-83.3304,-83.4148, -83.4848,-83.55,-83.6102,-83.6782, -83.6846,-83.7832,-83.5274,-83.1842, -82.8388,-82.49,-82.2261,-81.8718, -81.418,-81.0534,-80.6885,-80.3278, -79.9531,-79.5789,-79.2006,-79.0093, -78.722,-78.4324,-78.1411,-77.9457, -77.6503,-77.4532,-77.2533,-77.0508, -76.85,-76.6481,-76.4496,-76.2464, -76.0434,-75.834,-75.6243,-75.4184, -75.212,-75.0039,-74.797,-74.5891, -74.382,-74.2784,-74.2309,-74.2157, -74.1906,-74.1593,-74.1339,-74.087, -74.0528,-74.0065,-73.934,-73.8893, -73.8343,-73.7825,-73.7359,-73.7279, -73.7259,-73.9266,-74.2295,-74.4311, -74.6317,-74.9315,-75.129,-75.4234, -75.6228,-75.8193,-76.013,-76.2063, -76.398,-76.5877,-76.8704,-77.0587, -77.2494,-77.437,-77.717,-77.9938, -78.3586,-78.7191,-78.9859,-79.3387, -79.6864,-79.9444,-80.2844,-80.6181, -80.9473,-81.2715,-81.5115,-81.903, -82.2109,-82.5916,-82.6672,-82.6442)
FOOTPRINT_POINT_LONGITUDE = (72.3395,74.6287,75.9845,78.0854,79.532 ,81.2024,82.7231,84.476,86.0693,87.6979 ,89.3596,91.4834,91.6983,91.851,92.5631 ,93.4231,94.1937,94.895,95.383,95.9879, 96.6715,97.1745,97.6454,98.0925,98.4973 ,98.8799,99.2373,99.4077,99.6534, 99.8878,100.112,100.256,100.464,100.598 ,100.726,100.85,100.973,101.091,101.213 ,101.326,101.438,101.54,101.641,101.744 ,101.846,101.944,102.042,102.136, 102.227,102.272,102.292,101.187,100.2, 98.8546,98.002,96.6671,95.822,94.7377, 93.3042,92.4722,91.5258,90.7023,89.9993 ,89.8823,89.8396,89.6802,89.4294, 89.2578,89.0812,88.8061,88.6198,88.331, 88.1194,87.9082,87.6958,87.4763,87.2534 ,87.0264,86.6748,86.4286,86.1637, 85.8973,85.4825,85.053,84.4519,83.8148, 83.3143,82.6067,81.8565,81.2601,80.4187 ,79.5297,78.5761,77.5531,76.7369, 75.2833,74.0182,72.2771,71.9035, 72.3395)
ORBIT_NUMBER = 23597
ORBITAL_ECCENTRICITY = 0.575
ORBITAL_INCLINATION = 87.03
ORBITAL_SEMIMAJOR_AXIS = 8778.15
PERIAPSIS_ALTITUDE = 347.55
PERIAPSIS_ARGUMENT_ANGLE = 238.07
PERIAPSIS_TIME = 2022-09-06T16:02:43.000Z
SPACECRAFT_ORIENTATION = (0.0,-1.0,0.0)
^MEX_ORIENTATION_DESC = "MEX_ORIENTATION_DESC.TXT"
SPACECRAFT_POINTING_MODE = ACROSSTRACK
^MEX_POINTING_DESC = "MEX_POINTING_DESC.TXT"
RIGHT_ASCENSION = -1e+32
DECLINATION = -1e+32
OFFSET_ANGLE = 0.0
SPACECRAFT_SOLAR_DISTANCE = 2.12662e+08
TARGET_NAME = MARS
/* CAMERA DATA ELEMENTS */
DETECTOR_TEMPERATURE = 18.5744
FOCAL_PLANE_TEMPERATURE = 7.7677
INST_CMPRS_NAME = "DISCRETE COSINE TRANSFORMATION (DCT)"
INST_CMPRS_RATIO = 10.2813
INST_CMPRS_QUALITY = 0
INST_CMPRS_QUANTZ_TBL_ID = 0
INSTRUMENT_TEMPERATURE = 11.0301
LENS_TEMPERATURE = 8.5833
MACROPIXEL_SIZE = 2
MISSING_FRAMES = 0
PIXEL_SUBSAMPLING_FLAG = N
SIGNAL_CHAIN_ID = 3
/* RADIOMETRIC DATA ELEMENTS */
BANDWIDTH = 48.0
CENTER_FILTER_WAVELENGTH = 748.0
RADIANCE_OFFSET = 0.903296
RADIANCE_SCALING_FACTOR = 0.00429508
REFLECTANCE_SCALING_FACTOR = 0.000443286
MEX:REFLECTANCE_OFFSET = 0.0932272
/* IMAGE OBJECT DEFINITIONS */
OBJECT = IMAGE
  INTERCHANGE_FORMAT = BINARY
  LINES = 11869
  LINE_SAMPLES = 6084
  SAMPLE_TYPE = UNSIGNED_INTEGER
  SAMPLE_BITS = 8
  BANDS = 1
  BAND_STORAGE_TYPE = BAND_SEQUENTIAL
  MAXIMUM = 255
  MEAN = 121.025
  MINIMUM = 1
  STANDARD_DEVIATION = 30.46
END_OBJECT = IMAGE
/* MAP OBJECT DEFINITIONS */
OBJECT = IMAGE_MAP_PROJECTION
  ^DATA_SET_MAP_PROJECTION_CATALOG= "DSMAP.CAT"
  A_AXIS_RADIUS = 3396.0
  B_AXIS_RADIUS = 3396.0
  C_AXIS_RADIUS = 3396.0
  CENTER_LATITUDE = 0.0
  CENTER_LONGITUDE = 91.0
  COORDINATE_SYSTEM_NAME = PLANETOGRAPHIC
  COORDINATE_SYSTEM_TYPE = "BODY-FIXED ROTATING"
  EASTERNMOST_LONGITUDE = 102.292
  FIRST_STANDARD_PARALLEL = "N/A"
  LINE_FIRST_PIXEL = 1
  LINE_LAST_PIXEL = 11869
  LINE_PROJECTION_OFFSET = -87432.25
  MAP_PROJECTION_ROTATION = 0.0
  MAP_PROJECTION_TYPE = SINUSOIDAL
  MAP_RESOLUTION = 1185.42760773333
  MAP_SCALE = 0.05
  MAXIMUM_LATITUDE = -73.7259
  MINIMUM_LATITUDE = -83.78319999999999
  POSITIVE_LONGITUDE_DIRECTION = EAST
  REFERENCE_LATITUDE = "N/A"
  REFERENCE_LONGITUDE = "N/A"
  SAMPLE_FIRST_PIXEL = 1
  SAMPLE_LAST_PIXEL = 6084
  SAMPLE_PROJECTION_OFFSET = 2773.75
  SECOND_STANDARD_PARALLEL = "N/A"
  WESTERNMOST_LONGITUDE = 71.90349999999999
END_OBJECT = IMAGE_MAP_PROJECTION
END
