PDS_VERSION_ID = PDS3
/* FILE DATA ELEMENTS */
RECORD_TYPE = UNDEFINED
/* POINTERS TO DATA OBJECTS */
^IMAGE = ("HN597_0000_S14.TIF")
/* IDENTIFICATION DATA ELEMENTS */
DATA_SET_ID = "MEX-M-HRSC-4-REFDR-MAPPROJECT-EXT8-V4.0"
DATA_SET_NAME = "MARS EXPRESS HRSC MAP PROJECTED REFDR EXTENSION8 V4.0"
DETECTOR_ID = MEX_HRSC_S1
EVENT_TYPE = "MARS-REGIONAL-MAPPING-Gl-Pf-La"
INSTRUMENT_HOST_ID = MEX
INSTRUMENT_HOST_NAME = "MARS EXPRESS"
INSTRUMENT_ID = HRSC
INSTRUMENT_NAME = "HIGH RESOLUTION STEREO CAMERA"
MISSION_NAME = "MARS EXPRESS"
MISSION_PHASE_NAME = ME_Phase_47
PROCESSING_LEVEL_ID = 4
PRODUCT_CREATION_TIME = 2023-02-07T06:07:28.000Z
PRODUCT_ID = "HN597_0000_S14.TIF"
RELEASE_ID = 0005
REVISION_ID = 0000
/* QUALITY DATA ELEMENTS */
DATA_QUALITY_ID = 1
DATA_QUALITY_DESC = "Data calculated based on original SPICE kernels"
/* TIME DATA ELEMENTS */
SPACECRAFT_CLOCK_START_COUNT = "1/0610560678.24059"
SPACECRAFT_CLOCK_STOP_COUNT = "1/0610561050.34967"
START_TIME = 2022-09-06T16:11:53.676Z
STOP_TIME = 2022-09-06T16:14:33.133Z
/* ORBITAL DATA ELEMENTS */
ASCENDING_NODE_LONGITUDE = 134.66
MAXIMUM_RESOLUTION = 0.0516
FOOTPRINT_POINT_LATITUDE = (-82.9404,-83.0747,-83.1819,-83.4109, -83.6051,-83.7226,-83.8593,-83.8655, -83.7799,-83.4476,-83.1055,-82.8489, -82.5909,-82.0689,-81.7167,-81.5386, -81.1842,-80.9137,-80.7326,-80.5489, -80.3638,-80.1756,-79.8973,-79.7104, -79.5214,-79.3334,-79.1454,-78.9577, -78.7701,-78.4888,-78.2078,-77.9273, -77.74,-77.4593,-77.2721,-76.9649, -76.6486,-76.4333,-76.222,-76.0122, -75.6974,-75.4904,-75.2805,-75.0689, -74.753,-74.4346,-74.3277,-74.2803, -74.238,-74.1785,-74.1344,-74.0992, -74.0492,-73.9908,-73.9099,-73.8589, -73.8051,-73.7982,-73.7966,-74.0049, -74.3161,-74.5215,-74.7272,-74.9342, -75.1416,-75.3486,-75.5525,-75.8576, -76.0637,-76.2703,-76.4759,-76.7735, -76.9538,-77.1343,-77.3141,-77.4938, -77.6725,-77.9417,-78.1217,-78.392, -78.5718,-78.7508,-79.0202,-79.1993, -79.3766,-79.5516,-79.7273,-79.9869, -80.2443,-80.5835,-80.9191,-81.1659, -81.4913,-81.8099,-82.0467,-82.2791, -82.5081,-82.7317,-82.8057,-82.9404)
FOOTPRINT_POINT_LONGITUDE = (72.818,74.4629,75.882,79.3165,82.8209, 85.3324,88.8284,89.0074,89.63,90.6104, 91.524,92.1455,92.7165,93.7563,94.38, 94.6749,95.2152,95.6028,95.8478,96.0913 ,96.3262,96.5591,96.8784,97.081,97.2818 ,97.4727,97.6564,97.8331,98.0034, 98.2479,98.4795,98.6991,98.8406,99.0438 ,99.1744,99.3709,99.569,99.7039,99.8274 ,99.9443,100.113,100.217,100.323, 100.428,100.579,100.723,100.77,100.791, 99.3634,97.7507,96.714,95.9636,95.0307, 94.0101,92.7225,91.9925,91.2667,91.1762 ,91.143,90.9783,90.7229,90.5475,90.3666 ,90.1801,89.9877,89.7889,89.5835, 89.2628,89.0401,88.8099,88.5717,88.214, 87.987,87.7529,87.5115,87.2624,87.0054, 86.604,86.325,85.8887,85.5854,85.2718, 84.78,84.4375,84.0856,83.724,83.3485, 82.7663,82.1536,81.2903,80.3641,79.6317 ,78.5894,77.4761,76.5816,75.6423, 74.6452,73.599,73.2356,72.818)
ORBIT_NUMBER = 23597
ORBITAL_ECCENTRICITY = 0.575
ORBITAL_INCLINATION = 87.03
ORBITAL_SEMIMAJOR_AXIS = 8778.15
PERIAPSIS_ALTITUDE = 347.55
PERIAPSIS_ARGUMENT_ANGLE = 238.07
PERIAPSIS_TIME = 2022-09-06T16:02:43.000Z
SPACECRAFT_ORIENTATION = (0.0,-1.0,0.0)
^MEX_ORIENTATION_DESC = "MEX_ORIENTATION_DESC.TXT"
SPACECRAFT_POINTING_MODE = ACROSSTRACK
^MEX_POINTING_DESC = "MEX_POINTING_DESC.TXT"
RIGHT_ASCENSION = -1e+32
DECLINATION = -1e+32
OFFSET_ANGLE = 0.0
SPACECRAFT_SOLAR_DISTANCE = 2.12662e+08
TARGET_NAME = MARS
/* CAMERA DATA ELEMENTS */
DETECTOR_TEMPERATURE = 17.5549
FOCAL_PLANE_TEMPERATURE = 7.7677
INST_CMPRS_NAME = "DISCRETE COSINE TRANSFORMATION (DCT)"
INST_CMPRS_RATIO = 9.76999
INST_CMPRS_QUALITY = 0
INST_CMPRS_QUANTZ_TBL_ID = 0
INSTRUMENT_TEMPERATURE = 11.0301
LENS_TEMPERATURE = 8.5833
MACROPIXEL_SIZE = 2
MISSING_FRAMES = 0
PIXEL_SUBSAMPLING_FLAG = N
SIGNAL_CHAIN_ID = 1
/* RADIOMETRIC DATA ELEMENTS */
BANDWIDTH = 180.0
CENTER_FILTER_WAVELENGTH = 677.0
RADIANCE_OFFSET = 3.69737
RADIANCE_SCALING_FACTOR = 0.0171518
REFLECTANCE_SCALING_FACTOR = 0.000404703
MEX:REFLECTANCE_OFFSET = 0.0872406
/* IMAGE OBJECT DEFINITIONS */
OBJECT = IMAGE
  INTERCHANGE_FORMAT = BINARY
  LINES = 11869
  LINE_SAMPLES = 6084
  SAMPLE_TYPE = UNSIGNED_INTEGER
  SAMPLE_BITS = 8
  BANDS = 1
  BAND_STORAGE_TYPE = BAND_SEQUENTIAL
  MAXIMUM = 255
  MEAN = 111.139
  MINIMUM = 1
  STANDARD_DEVIATION = 33.4828
END_OBJECT = IMAGE
/* MAP OBJECT DEFINITIONS */
OBJECT = IMAGE_MAP_PROJECTION
  ^DATA_SET_MAP_PROJECTION_CATALOG= "DSMAP.CAT"
  A_AXIS_RADIUS = 3396.0
  B_AXIS_RADIUS = 3396.0
  C_AXIS_RADIUS = 3396.0
  CENTER_LATITUDE = 0.0
  CENTER_LONGITUDE = 91.0
  COORDINATE_SYSTEM_NAME = PLANETOGRAPHIC
  COORDINATE_SYSTEM_TYPE = "BODY-FIXED ROTATING"
  EASTERNMOST_LONGITUDE = 100.791
  FIRST_STANDARD_PARALLEL = "N/A"
  LINE_FIRST_PIXEL = 1
  LINE_LAST_PIXEL = 11869
  LINE_PROJECTION_OFFSET = -87432.25
  MAP_PROJECTION_ROTATION = 0.0
  MAP_PROJECTION_TYPE = SINUSOIDAL
  MAP_RESOLUTION = 1185.42760773333
  MAP_SCALE = 0.05
  MAXIMUM_LATITUDE = -73.7966
  MINIMUM_LATITUDE = -83.8655
  POSITIVE_LONGITUDE_DIRECTION = EAST
  REFERENCE_LATITUDE = "N/A"
  REFERENCE_LONGITUDE = "N/A"
  SAMPLE_FIRST_PIXEL = 1
  SAMPLE_LAST_PIXEL = 6084
  SAMPLE_PROJECTION_OFFSET = 2773.75
  SECOND_STANDARD_PARALLEL = "N/A"
  WESTERNMOST_LONGITUDE = 72.818
END_OBJECT = IMAGE_MAP_PROJECTION
END
