PDS_VERSION_ID = PDS3
/* FILE DATA ELEMENTS */
RECORD_TYPE = UNDEFINED
/* POINTERS TO DATA OBJECTS */
^IMAGE = ("HN599_0000_GR4.TIF")
/* IDENTIFICATION DATA ELEMENTS */
DATA_SET_ID = "MEX-M-HRSC-4-REFDR-MAPPROJECT-EXT8-V4.0"
DATA_SET_NAME = "MARS EXPRESS HRSC MAP PROJECTED REFDR EXTENSION8 V4.0"
DETECTOR_ID = MEX_HRSC_GREEN
EVENT_TYPE = "MARS-REGIONAL-MAPPING-Gl-Pf-La"
INSTRUMENT_HOST_ID = MEX
INSTRUMENT_HOST_NAME = "MARS EXPRESS"
INSTRUMENT_ID = HRSC
INSTRUMENT_NAME = "HIGH RESOLUTION STEREO CAMERA"
MISSION_NAME = "MARS EXPRESS"
MISSION_PHASE_NAME = ME_Phase_47
PROCESSING_LEVEL_ID = 4
PRODUCT_CREATION_TIME = 2023-02-07T06:07:28.000Z
PRODUCT_ID = "HN599_0000_GR4.TIF"
RELEASE_ID = 0005
REVISION_ID = 0000
/* QUALITY DATA ELEMENTS */
DATA_QUALITY_ID = 1
DATA_QUALITY_DESC = "Data calculated based on original SPICE kernels"
/* TIME DATA ELEMENTS */
SPACECRAFT_CLOCK_START_COUNT = "1/0610611054.23985"
SPACECRAFT_CLOCK_STOP_COUNT = "1/0610611645.60687"
START_TIME = 2022-09-07T06:12:31.553Z
STOP_TIME = 2022-09-07T06:17:28.246Z
/* ORBITAL DATA ELEMENTS */
ASCENDING_NODE_LONGITUDE = 134.63
MAXIMUM_RESOLUTION = 0.0604
FOOTPRINT_POINT_LATITUDE = (-78.0535,-78.1776,-78.298,-78.4186, -78.5121,-78.5924,-78.6775,-78.681, -78.6692,-78.1589,-77.7725,-77.2513, -76.7242,-76.19,-75.6491,-75.1023, -74.5479,-73.9871,-73.4188,-72.844, -72.2615,-71.671,-71.3732,-71.0738, -70.772,-70.4683,-70.1625,-69.8546, -69.5447,-69.2331,-68.9192,-68.6035, -68.2857,-67.9657,-67.6437,-67.3195, -66.9932,-66.6646,-66.3335,-66.0012, -65.67,-65.3397,-65.0114,-64.684, -64.3566,-64.0315,-63.8696,-63.8501, -63.8455,-63.8257,-63.8044,-63.7825, -63.7595,-63.7317,-63.6985,-63.6667, -63.5949,-63.5468,-63.5412,-63.5402, -63.8594,-64.18,-64.5019,-64.8252, -65.1492,-65.4748,-65.8014,-66.1283, -66.4529,-66.7753,-67.0958,-67.4138, -67.7296,-68.0436,-68.3553,-68.6644, -68.972,-69.277,-69.5801,-69.8813, -70.1805,-70.4775,-70.7724,-71.0657, -71.3571,-71.9335,-72.5012,-73.0622, -73.6149,-74.1604,-74.6976,-75.228, -75.7513,-76.2665,-76.7746,-77.1507, -77.5225,-77.8902,-78.0119,-78.0535)
FOOTPRINT_POINT_LONGITUDE = (241.624,243.341,245.207,247.35,249.287 ,251.255,253.883,254.009,254.228, 254.646,254.938,255.304,255.642,255.956 ,256.249,256.522,256.778,257.017, 257.241,257.452,257.647,257.835,257.925 ,258.011,258.095,258.176,258.255, 258.333,258.408,258.481,258.552,258.621 ,258.687,258.752,258.815,258.876, 258.935,258.993,259.049,259.103,259.156 ,259.209,259.256,259.302,259.353, 259.397,259.417,259.42,258.738,257.285, 256.352,255.589,254.913,254.237,253.478 ,252.807,251.549,250.796,250.712, 250.682,250.612,250.539,250.463,250.385 ,250.301,250.216,250.126,250.031, 249.934,249.834,249.731,249.624,249.513 ,249.4,249.282,249.16,249.035,248.904, 248.771,248.633,248.49,248.343,248.192, 248.036,247.875,247.538,247.177,246.793 ,246.385,245.947,245.481,244.982, 244.449,243.878,243.266,242.777,242.261 ,241.715,241.526,241.624)
ORBIT_NUMBER = 23599
ORBITAL_ECCENTRICITY = 0.575
ORBITAL_INCLINATION = 87.03
ORBITAL_SEMIMAJOR_AXIS = 8782.94
PERIAPSIS_ALTITUDE = 347.92
PERIAPSIS_ARGUMENT_ANGLE = 237.71
PERIAPSIS_TIME = 2022-09-07T06:00:48.000Z
SPACECRAFT_ORIENTATION = (0.0,-1.0,0.0)
^MEX_ORIENTATION_DESC = "MEX_ORIENTATION_DESC.TXT"
SPACECRAFT_POINTING_MODE = NADIR
^MEX_POINTING_DESC = "MEX_POINTING_DESC.TXT"
RIGHT_ASCENSION = -1e+32
DECLINATION = -1e+32
OFFSET_ANGLE = -1e+32
SPACECRAFT_SOLAR_DISTANCE = 2.12747e+08
TARGET_NAME = MARS
/* CAMERA DATA ELEMENTS */
DETECTOR_TEMPERATURE = 17.9627
FOCAL_PLANE_TEMPERATURE = 7.5638
INST_CMPRS_NAME = "DISCRETE COSINE TRANSFORMATION (DCT)"
INST_CMPRS_RATIO = 9.62274
INST_CMPRS_QUALITY = 0
INST_CMPRS_QUANTZ_TBL_ID = 0
INSTRUMENT_TEMPERATURE = 11.0301
LENS_TEMPERATURE = 7.9716
MACROPIXEL_SIZE = 2
MISSING_FRAMES = 0
PIXEL_SUBSAMPLING_FLAG = N
SIGNAL_CHAIN_ID = 2
/* RADIOMETRIC DATA ELEMENTS */
BANDWIDTH = 88.0
CENTER_FILTER_WAVELENGTH = 538.0
RADIANCE_OFFSET = 1.36926
RADIANCE_SCALING_FACTOR = 0.00359493
REFLECTANCE_SCALING_FACTOR = 0.000140091
MEX:REFLECTANCE_OFFSET = 0.0533588
/* IMAGE OBJECT DEFINITIONS */
OBJECT = IMAGE
  INTERCHANGE_FORMAT = BINARY
  LINES = 17924
  LINE_SAMPLES = 6289
  SAMPLE_TYPE = UNSIGNED_INTEGER
  SAMPLE_BITS = 8
  BANDS = 1
  BAND_STORAGE_TYPE = BAND_SEQUENTIAL
  MAXIMUM = 255
  MEAN = 143.953
  MINIMUM = 1
  STANDARD_DEVIATION = 24.4292
END_OBJECT = IMAGE
/* MAP OBJECT DEFINITIONS */
OBJECT = IMAGE_MAP_PROJECTION
  ^DATA_SET_MAP_PROJECTION_CATALOG= "DSMAP.CAT"
  A_AXIS_RADIUS = 3396.0
  B_AXIS_RADIUS = 3396.0
  C_AXIS_RADIUS = 3396.0
  CENTER_LATITUDE = 0.0
  CENTER_LONGITUDE = 253.0
  COORDINATE_SYSTEM_NAME = PLANETOGRAPHIC
  COORDINATE_SYSTEM_TYPE = "BODY-FIXED ROTATING"
  EASTERNMOST_LONGITUDE = 259.42
  FIRST_STANDARD_PARALLEL = "N/A"
  LINE_FIRST_PIXEL = 1
  LINE_LAST_PIXEL = 17924
  LINE_PROJECTION_OFFSET = -75331.25
  MAP_PROJECTION_ROTATION = 0.0
  MAP_PROJECTION_TYPE = SINUSOIDAL
  MAP_RESOLUTION = 1185.42760773333
  MAP_SCALE = 0.05
  MAXIMUM_LATITUDE = -63.5402
  MINIMUM_LATITUDE = -78.681
  POSITIVE_LONGITUDE_DIRECTION = EAST
  REFERENCE_LATITUDE = "N/A"
  REFERENCE_LONGITUDE = "N/A"
  SAMPLE_FIRST_PIXEL = 1
  SAMPLE_LAST_PIXEL = 6289
  SAMPLE_PROJECTION_OFFSET = 2859.25
  SECOND_STANDARD_PARALLEL = "N/A"
  WESTERNMOST_LONGITUDE = 241.526
END_OBJECT = IMAGE_MAP_PROJECTION
END
