PDS_VERSION_ID = PDS3
/* FILE DATA ELEMENTS */
RECORD_TYPE = UNDEFINED
/* POINTERS TO DATA OBJECTS */
^IMAGE = ("HN599_0000_IR4.TIF")
/* IDENTIFICATION DATA ELEMENTS */
DATA_SET_ID = "MEX-M-HRSC-4-REFDR-MAPPROJECT-EXT8-V4.0"
DATA_SET_NAME = "MARS EXPRESS HRSC MAP PROJECTED REFDR EXTENSION8 V4.0"
DETECTOR_ID = MEX_HRSC_IR
EVENT_TYPE = "MARS-REGIONAL-MAPPING-Gl-Pf-La"
INSTRUMENT_HOST_ID = MEX
INSTRUMENT_HOST_NAME = "MARS EXPRESS"
INSTRUMENT_ID = HRSC
INSTRUMENT_NAME = "HIGH RESOLUTION STEREO CAMERA"
MISSION_NAME = "MARS EXPRESS"
MISSION_PHASE_NAME = ME_Phase_47
PROCESSING_LEVEL_ID = 4
PRODUCT_CREATION_TIME = 2023-02-07T06:07:28.000Z
PRODUCT_ID = "HN599_0000_IR4.TIF"
RELEASE_ID = 0005
REVISION_ID = 0000
/* QUALITY DATA ELEMENTS */
DATA_QUALITY_ID = 1
DATA_QUALITY_DESC = "Data calculated based on original SPICE kernels"
/* TIME DATA ELEMENTS */
SPACECRAFT_CLOCK_START_COUNT = "1/0610611054.23985"
SPACECRAFT_CLOCK_STOP_COUNT = "1/0610611645.60687"
START_TIME = 2022-09-07T06:11:41.476Z
STOP_TIME = 2022-09-07T06:16:05.301Z
/* ORBITAL DATA ELEMENTS */
ASCENDING_NODE_LONGITUDE = 134.63
MAXIMUM_RESOLUTION = 0.0589
FOOTPRINT_POINT_LATITUDE = (-78.1521,-78.3369,-78.4776,-78.5709, -78.6793,-78.7539,-78.7573,-78.674, -78.0549,-77.3882,-76.8559,-76.4578, -75.9282,-75.3934,-74.8511,-74.3022, -73.8863,-73.4668,-73.0426,-72.7579, -72.4701,-72.1845,-71.7473,-71.3063, -71.0107,-70.7126,-70.4125,-70.1111, -69.8063,-69.4993,-69.1911,-68.881, -68.5684,-68.2546,-67.9379,-67.6191, -67.2986,-66.9761,-66.6511,-66.3242, -65.9948,-65.6619,-65.3285,-64.9914, -64.4773,-64.1332,-63.9615,-63.8735, -63.8643,-63.8571,-63.8371,-63.8012, -63.7586,-63.6992,-63.6453,-63.5655, -63.56,-63.5591,-63.8982,-64.2357, -64.5719,-64.9051,-65.2364,-65.5592, -65.8886,-66.3757,-66.8562,-67.1737, -67.4879,-67.7998,-68.1108,-68.4198, -68.7252,-69.0287,-69.3294,-69.6289, -69.9267,-70.2226,-70.5158,-70.8065, -71.0969,-71.3846,-71.6698,-71.9546, -72.2351,-72.5141,-72.7924,-73.0683, -73.3423,-73.8837,-74.2853,-74.9453, -75.4652,-75.9798,-76.4947,-77.0098, -77.525,-77.8869,-77.9998,-78.1521)
FOOTPRINT_POINT_LONGITUDE = (241.948,244.551,246.893,248.713, 251.262,253.505,253.624,253.899,254.409 ,254.899,255.253,255.498,255.8,256.082, 256.346,256.593,256.768,256.934,257.094 ,257.195,257.296,257.387,257.527, 257.661,257.746,257.828,257.909,257.986 ,258.063,258.138,258.209,258.279, 258.347,258.412,258.476,258.538,258.598 ,258.656,258.713,258.768,258.821, 258.875,258.924,258.974,259.05,259.097, 259.119,259.13,258.193,257.566,256.71, 255.548,254.621,253.311,252.466,251.244 ,251.168,251.14,251.063,250.984,250.903 ,250.819,250.732,250.64,250.549,250.406 ,250.255,250.151,250.042,249.931, 249.817,249.699,249.577,249.451,249.322 ,249.189,249.051,248.91,248.764,248.614 ,248.459,248.3,248.136,247.967,247.791, 247.611,247.425,247.233,247.036,246.621 ,246.292,245.708,245.205,244.665, 244.078,243.439,242.74,242.209,242.036, 241.948)
ORBIT_NUMBER = 23599
ORBITAL_ECCENTRICITY = 0.575
ORBITAL_INCLINATION = 87.03
ORBITAL_SEMIMAJOR_AXIS = 8782.94
PERIAPSIS_ALTITUDE = 347.92
PERIAPSIS_ARGUMENT_ANGLE = 237.71
PERIAPSIS_TIME = 2022-09-07T06:00:48.000Z
SPACECRAFT_ORIENTATION = (0.0,-1.0,0.0)
^MEX_ORIENTATION_DESC = "MEX_ORIENTATION_DESC.TXT"
SPACECRAFT_POINTING_MODE = NADIR
^MEX_POINTING_DESC = "MEX_POINTING_DESC.TXT"
RIGHT_ASCENSION = -1e+32
DECLINATION = -1e+32
OFFSET_ANGLE = -1e+32
SPACECRAFT_SOLAR_DISTANCE = 2.12747e+08
TARGET_NAME = MARS
/* CAMERA DATA ELEMENTS */
DETECTOR_TEMPERATURE = 17.1471
FOCAL_PLANE_TEMPERATURE = 7.5638
INST_CMPRS_NAME = "DISCRETE COSINE TRANSFORMATION (DCT)"
INST_CMPRS_RATIO = 7.60148
INST_CMPRS_QUALITY = 0
INST_CMPRS_QUANTZ_TBL_ID = 0
INSTRUMENT_TEMPERATURE = 11.0301
LENS_TEMPERATURE = 7.9716
MACROPIXEL_SIZE = 2
MISSING_FRAMES = 0
PIXEL_SUBSAMPLING_FLAG = N
SIGNAL_CHAIN_ID = 3
/* RADIOMETRIC DATA ELEMENTS */
BANDWIDTH = 81.0
CENTER_FILTER_WAVELENGTH = 955.5
RADIANCE_OFFSET = 0.811699
RADIANCE_SCALING_FACTOR = 0.00424418
REFLECTANCE_SCALING_FACTOR = 0.000414432
MEX:REFLECTANCE_OFFSET = 0.0792601
/* IMAGE OBJECT DEFINITIONS */
OBJECT = IMAGE
  INTERCHANGE_FORMAT = BINARY
  LINES = 17924
  LINE_SAMPLES = 6289
  SAMPLE_TYPE = UNSIGNED_INTEGER
  SAMPLE_BITS = 8
  BANDS = 1
  BAND_STORAGE_TYPE = BAND_SEQUENTIAL
  MAXIMUM = 255
  MEAN = 130.465
  MINIMUM = 1
  STANDARD_DEVIATION = 25.6543
END_OBJECT = IMAGE
/* MAP OBJECT DEFINITIONS */
OBJECT = IMAGE_MAP_PROJECTION
  ^DATA_SET_MAP_PROJECTION_CATALOG= "DSMAP.CAT"
  A_AXIS_RADIUS = 3396.0
  B_AXIS_RADIUS = 3396.0
  C_AXIS_RADIUS = 3396.0
  CENTER_LATITUDE = 0.0
  CENTER_LONGITUDE = 253.0
  COORDINATE_SYSTEM_NAME = PLANETOGRAPHIC
  COORDINATE_SYSTEM_TYPE = "BODY-FIXED ROTATING"
  EASTERNMOST_LONGITUDE = 259.13
  FIRST_STANDARD_PARALLEL = "N/A"
  LINE_FIRST_PIXEL = 1
  LINE_LAST_PIXEL = 17924
  LINE_PROJECTION_OFFSET = -75331.25
  MAP_PROJECTION_ROTATION = 0.0
  MAP_PROJECTION_TYPE = SINUSOIDAL
  MAP_RESOLUTION = 1185.42760773333
  MAP_SCALE = 0.05
  MAXIMUM_LATITUDE = -63.5591
  MINIMUM_LATITUDE = -78.7573
  POSITIVE_LONGITUDE_DIRECTION = EAST
  REFERENCE_LATITUDE = "N/A"
  REFERENCE_LONGITUDE = "N/A"
  SAMPLE_FIRST_PIXEL = 1
  SAMPLE_LAST_PIXEL = 6289
  SAMPLE_PROJECTION_OFFSET = 2859.25
  SECOND_STANDARD_PARALLEL = "N/A"
  WESTERNMOST_LONGITUDE = 241.948
END_OBJECT = IMAGE_MAP_PROJECTION
END
