PDS_VERSION_ID = PDS3
/* FILE DATA ELEMENTS */
RECORD_TYPE = UNDEFINED
/* POINTERS TO DATA OBJECTS */
^IMAGE = ("HN631_0000_ND4.TIF")
/* IDENTIFICATION DATA ELEMENTS */
DATA_SET_ID = "MEX-M-HRSC-4-REFDR-MAPPROJECT-EXT8-V4.0"
DATA_SET_NAME = "MARS EXPRESS HRSC MAP PROJECTED REFDR EXTENSION8 V4.0"
DETECTOR_ID = MEX_HRSC_NADIR
EVENT_TYPE = "MARS-TERMINATOR-CALIBRATION-Tc"
INSTRUMENT_HOST_ID = MEX
INSTRUMENT_HOST_NAME = "MARS EXPRESS"
INSTRUMENT_ID = HRSC
INSTRUMENT_NAME = "HIGH RESOLUTION STEREO CAMERA"
MISSION_NAME = "MARS EXPRESS"
MISSION_PHASE_NAME = ME_Phase_47
PROCESSING_LEVEL_ID = 4
PRODUCT_CREATION_TIME = 2023-02-07T06:07:28.000Z
PRODUCT_ID = "HN631_0000_ND4.TIF"
RELEASE_ID = 0005
REVISION_ID = 0000
/* QUALITY DATA ELEMENTS */
DATA_QUALITY_ID = 1
DATA_QUALITY_DESC = "Data calculated based on original SPICE kernels"
/* TIME DATA ELEMENTS */
SPACECRAFT_CLOCK_START_COUNT = "1/0611422447.25684"
SPACECRAFT_CLOCK_STOP_COUNT = "1/0611422720.38931"
START_TIME = 2022-09-16T15:36:45.708Z
STOP_TIME = 2022-09-16T15:37:10.973Z
/* ORBITAL DATA ELEMENTS */
ASCENDING_NODE_LONGITUDE = 134.07
MAXIMUM_RESOLUTION = 0.7162
FOOTPRINT_POINT_LATITUDE = (32.3265,31.3743,30.417,29.4542,28.485, 27.5086,26.5236,25.5286,24.5223,23.5042 ,22.4738,21.4296,20.3701,19.2937, 18.1988,17.0838,15.9467,14.784,13.592, 12.9843,12.3684,11.7441,11.1105,10.4669 ,9.81216,9.14558,8.46646,7.77424,7.0683 ,6.34773,5.61126,4.85741,4.08457, 3.29082,2.88554,2.8316,3.22492,3.6011, 4.13879,4.45004,4.97642,5.2858,5.57744, 5.84537,6.06304,6.30187,6.59531,6.61507 ,6.62776,8.02538,8.8903,9.72075,10.5309 ,11.3336,12.122,12.891,13.6425,14.3764, 15.0949,15.7988,16.4895,17.1684,17.8371 ,18.4949,19.1435,19.7825,20.4132, 21.0356,21.6514,22.2605,23.4616,24.6408 ,25.8006,26.9434,28.071,29.1856,30.2889 ,31.3818,32.4651,33.5405,34.6098, 35.6748,36.7329,37.7962,38.592,38.8562, 38.9501,38.3646,37.911,37.3262,36.61, 36.0877,35.4971,34.9047,34.3769,33.8483 ,33.3185,32.4564,32.3895,32.3265)
FOOTPRINT_POINT_LONGITUDE = (217.51,218.362,219.206,220.042,220.874 ,221.701,222.525,223.349,224.174, 225.001,225.832,226.668,227.511,228.362 ,229.224,230.1,230.99,231.899,232.83, 233.305,233.787,234.276,234.772,235.277 ,235.793,236.318,236.856,237.405, 237.967,238.544,239.136,239.745,240.373 ,241.022,241.355,241.373,242.249, 243.153,244.556,245.385,247.011,248.044 ,249.112,250.225,251.234,252.412, 254.306,254.473,254.588,253.244,252.46, 251.727,251.019,250.312,249.62,248.952, 248.306,247.683,247.079,246.493,245.923 ,245.367,244.823,244.294,243.776,243.27 ,242.773,242.287,241.806,241.333, 240.405,239.502,238.621,237.756,236.906 ,236.068,235.242,234.423,233.612, 232.807,232.004,231.202,230.388,229.594 ,228.993,228.789,228.713,227.553, 226.683,225.597,224.314,223.41,222.415, 221.446,220.605,219.783,218.978,217.706 ,217.609,217.51)
ORBIT_NUMBER = 23631
ORBITAL_ECCENTRICITY = 0.575
ORBITAL_INCLINATION = 87.04
ORBITAL_SEMIMAJOR_AXIS = 8790.13
PERIAPSIS_ALTITUDE = 348.03
PERIAPSIS_ARGUMENT_ANGLE = 232.32
PERIAPSIS_TIME = 2022-09-16T13:30:45.000Z
SPACECRAFT_ORIENTATION = (0.0,-1.0,0.0)
^MEX_ORIENTATION_DESC = "MEX_ORIENTATION_DESC.TXT"
SPACECRAFT_POINTING_MODE = FIXED
^MEX_POINTING_DESC = "MEX_POINTING_DESC.TXT"
RIGHT_ASCENSION = -1e+32
DECLINATION = -1e+32
OFFSET_ANGLE = -1e+32
SPACECRAFT_SOLAR_DISTANCE = 2.14167e+08
TARGET_NAME = MARS
/* CAMERA DATA ELEMENTS */
DETECTOR_TEMPERATURE = 17.9627
FOCAL_PLANE_TEMPERATURE = 8.5833
INST_CMPRS_NAME = "DISCRETE COSINE TRANSFORMATION (DCT)"
INST_CMPRS_RATIO = 7.54852
INST_CMPRS_QUALITY = 0
INST_CMPRS_QUANTZ_TBL_ID = 0
INSTRUMENT_TEMPERATURE = 11.0301
LENS_TEMPERATURE = 8.7872
MACROPIXEL_SIZE = 2
MISSING_FRAMES = 0
PIXEL_SUBSAMPLING_FLAG = N
SIGNAL_CHAIN_ID = 0
/* RADIOMETRIC DATA ELEMENTS */
BANDWIDTH = 177.0
CENTER_FILTER_WAVELENGTH = 677.5
RADIANCE_OFFSET = 4.9755
RADIANCE_SCALING_FACTOR = 0.0436894
REFLECTANCE_SCALING_FACTOR = 0.00106468
MEX:REFLECTANCE_OFFSET = 0.12125
/* IMAGE OBJECT DEFINITIONS */
OBJECT = IMAGE
  INTERCHANGE_FORMAT = BINARY
  LINES = 2677
  LINE_SAMPLES = 2557
  SAMPLE_TYPE = UNSIGNED_INTEGER
  SAMPLE_BITS = 8
  BANDS = 1
  BAND_STORAGE_TYPE = BAND_SEQUENTIAL
  MAXIMUM = 254
  MEAN = 148.235
  MINIMUM = 1
  STANDARD_DEVIATION = 51.31
END_OBJECT = IMAGE
/* MAP OBJECT DEFINITIONS */
OBJECT = IMAGE_MAP_PROJECTION
  ^DATA_SET_MAP_PROJECTION_CATALOG= "DSMAP.CAT"
  A_AXIS_RADIUS = 3396.0
  B_AXIS_RADIUS = 3396.0
  C_AXIS_RADIUS = 3396.0
  CENTER_LATITUDE = 0.0
  CENTER_LONGITUDE = 233.0
  COORDINATE_SYSTEM_NAME = PLANETOGRAPHIC
  COORDINATE_SYSTEM_TYPE = "BODY-FIXED ROTATING"
  EASTERNMOST_LONGITUDE = 254.588
  FIRST_STANDARD_PARALLEL = "N/A"
  LINE_FIRST_PIXEL = 1
  LINE_LAST_PIXEL = 2677
  LINE_PROJECTION_OFFSET = 2885.0
  MAP_PROJECTION_ROTATION = 0.0
  MAP_PROJECTION_TYPE = SINUSOIDAL
  MAP_RESOLUTION = 74.08922548333329
  MAP_SCALE = 0.8
  MAXIMUM_LATITUDE = 38.9501
  MINIMUM_LATITUDE = 2.8316
  POSITIVE_LONGITUDE_DIRECTION = EAST
  REFERENCE_LATITUDE = "N/A"
  REFERENCE_LONGITUDE = "N/A"
  SAMPLE_FIRST_PIXEL = 1
  SAMPLE_LAST_PIXEL = 2557
  SAMPLE_PROJECTION_OFFSET = 967.0
  SECOND_STANDARD_PARALLEL = "N/A"
  WESTERNMOST_LONGITUDE = 217.51
END_OBJECT = IMAGE_MAP_PROJECTION
END
