PDS_VERSION_ID = PDS3
/* FILE DATA ELEMENTS */
RECORD_TYPE = UNDEFINED
/* POINTERS TO DATA OBJECTS */
^IMAGE = ("HN649_0000_ND4.TIF")
/* IDENTIFICATION DATA ELEMENTS */
DATA_SET_ID = "MEX-M-HRSC-4-REFDR-MAPPROJECT-EXT8-V4.0"
DATA_SET_NAME = "MARS EXPRESS HRSC MAP PROJECTED REFDR EXTENSION8 V4.0"
DETECTOR_ID = MEX_HRSC_NADIR
EVENT_TYPE = "MARS-REGIONAL-MAPPING-Gl-Pf-La"
INSTRUMENT_HOST_ID = MEX
INSTRUMENT_HOST_NAME = "MARS EXPRESS"
INSTRUMENT_ID = HRSC
INSTRUMENT_NAME = "HIGH RESOLUTION STEREO CAMERA"
MISSION_NAME = "MARS EXPRESS"
MISSION_PHASE_NAME = ME_Phase_47
PROCESSING_LEVEL_ID = 4
PRODUCT_CREATION_TIME = 2023-02-07T06:07:28.000Z
PRODUCT_ID = "HN649_0000_ND4.TIF"
RELEASE_ID = 0005
REVISION_ID = 0000
/* QUALITY DATA ELEMENTS */
DATA_QUALITY_ID = 1
DATA_QUALITY_DESC = "Data calculated based on original SPICE kernels"
/* TIME DATA ELEMENTS */
SPACECRAFT_CLOCK_START_COUNT = "1/0611868190.23970"
SPACECRAFT_CLOCK_STOP_COUNT = "1/0611868737.44144"
START_TIME = 2022-09-21T19:24:59.330Z
STOP_TIME = 2022-09-21T19:29:45.389Z
/* ORBITAL DATA ELEMENTS */
ASCENDING_NODE_LONGITUDE = 133.75
MAXIMUM_RESOLUTION = 0.0296
FOOTPRINT_POINT_LATITUDE = (-86.896,-87.2572,-87.6097,-87.9475, -88.2591,-88.5253,-88.7431,-88.7493, -88.7652,-88.4007,-87.7816,-87.0257, -86.5151,-85.9958,-85.4728,-84.9437, -84.6757,-84.4065,-84.1379,-83.8647, -83.4549,-83.1787,-82.9009,-82.4826, -82.2006,-81.9194,-81.633,-81.3473, -80.9138,-80.6242,-80.3307,-79.8903, -79.5919,-79.2944,-78.993,-78.6915, -78.3867,-78.0813,-77.7771,-77.4669, -77.1559,-76.6877,-76.3708,-76.0551, -75.5742,-75.2529,-74.7638,-74.6003, -74.5813,-74.5908,-74.5938,-74.5898, -74.5747,-74.5515,-74.5194,-74.4506, -74.3906,-74.3409,-74.286,-74.2788, -74.2757,-74.5958,-74.9141,-75.2279, -75.6977,-76.0055,-76.3142,-76.7703, -77.0726,-77.3743,-77.6694,-77.9652, -78.2605,-78.5518,-78.8429,-79.1294, -79.4164,-79.8391,-80.1202,-80.3966, -80.8093,-81.0801,-81.3508,-81.6157, -81.8802,-82.2707,-82.5282,-82.7831, -83.1581,-83.4061,-83.6476,-84.1242, -84.5826,-85.0223,-85.4418,-86.0179, -86.5109,-86.8382,-86.8928,-86.896)
FOOTPRINT_POINT_LONGITUDE = (128.967,132.233,136.51,142.287,150.298 ,161.602,181.728,182.899,186.288, 189.036,191.554,193.099,193.74,194.234, 194.617,194.922,195.054,195.174,195.281 ,195.38,195.513,195.593,195.667,195.767 ,195.828,195.884,195.936,195.985, 196.051,196.092,196.13,196.182,196.214, 196.244,196.273,196.299,196.335,196.355 ,196.377,196.397,196.412,196.44,196.454 ,196.472,196.492,196.501,196.516, 196.525,196.526,195.381,193.776,192.764 ,191.191,189.774,188.368,186.147,184.64 ,183.555,182.48,182.346,182.281,182.099 ,181.909,181.712,181.397,181.177, 180.945,180.579,180.32,180.046,179.764, 179.465,179.149,178.819,178.471,178.107 ,177.72,177.106,176.665,176.203,175.455 ,174.924,174.355,173.758,173.12,172.088 ,171.341,170.543,169.247,168.298, 167.292,165.025,162.398,159.321,155.678 ,148.924,140.225,131.209,129.195, 128.967)
ORBIT_NUMBER = 23649
ORBITAL_ECCENTRICITY = 0.575
ORBITAL_INCLINATION = 87.02
ORBITAL_SEMIMAJOR_AXIS = 8795.54
PERIAPSIS_ALTITUDE = 349.37
PERIAPSIS_ARGUMENT_ANGLE = 229.26
PERIAPSIS_TIME = 2022-09-21T19:13:29.000Z
SPACECRAFT_ORIENTATION = (0.0,-1.0,0.0)
^MEX_ORIENTATION_DESC = "MEX_ORIENTATION_DESC.TXT"
SPACECRAFT_POINTING_MODE = ACROSSTRACK
^MEX_POINTING_DESC = "MEX_POINTING_DESC.TXT"
RIGHT_ASCENSION = -1e+32
DECLINATION = -1e+32
OFFSET_ANGLE = -1.374
SPACECRAFT_SOLAR_DISTANCE = 2.15012e+08
TARGET_NAME = MARS
/* CAMERA DATA ELEMENTS */
DETECTOR_TEMPERATURE = 17.7588
FOCAL_PLANE_TEMPERATURE = 7.5638
INST_CMPRS_NAME = "DISCRETE COSINE TRANSFORMATION (DCT)"
INST_CMPRS_RATIO = 5.47706
INST_CMPRS_QUALITY = 0
INST_CMPRS_QUANTZ_TBL_ID = 0
INSTRUMENT_TEMPERATURE = 10.6223
LENS_TEMPERATURE = 8.1755
MACROPIXEL_SIZE = 1
MISSING_FRAMES = 0
PIXEL_SUBSAMPLING_FLAG = N
SIGNAL_CHAIN_ID = 0
/* RADIOMETRIC DATA ELEMENTS */
BANDWIDTH = 177.0
CENTER_FILTER_WAVELENGTH = 677.5
RADIANCE_OFFSET = 2.00382
RADIANCE_SCALING_FACTOR = 0.0201911
REFLECTANCE_SCALING_FACTOR = 0.000495876
MEX:REFLECTANCE_OFFSET = 0.0492124
/* IMAGE OBJECT DEFINITIONS */
OBJECT = IMAGE
  INTERCHANGE_FORMAT = BINARY
  LINES = 32532
  LINE_SAMPLES = 14955
  SAMPLE_TYPE = UNSIGNED_INTEGER
  SAMPLE_BITS = 8
  BANDS = 1
  BAND_STORAGE_TYPE = BAND_SEQUENTIAL
  MAXIMUM = 255
  MEAN = 102.573
  MINIMUM = 1
  STANDARD_DEVIATION = 40.3242
END_OBJECT = IMAGE
/* MAP OBJECT DEFINITIONS */
OBJECT = IMAGE_MAP_PROJECTION
  ^DATA_SET_MAP_PROJECTION_CATALOG= "DSMAP.CAT"
  A_AXIS_RADIUS = 3396.0
  B_AXIS_RADIUS = 3396.0
  C_AXIS_RADIUS = 3396.0
  CENTER_LATITUDE = 0.0
  CENTER_LONGITUDE = 184.0
  COORDINATE_SYSTEM_NAME = PLANETOGRAPHIC
  COORDINATE_SYSTEM_TYPE = "BODY-FIXED ROTATING"
  EASTERNMOST_LONGITUDE = 196.526
  FIRST_STANDARD_PARALLEL = "N/A"
  LINE_FIRST_PIXEL = 1
  LINE_LAST_PIXEL = 32532
  LINE_PROJECTION_OFFSET = -176098.0
  MAP_PROJECTION_ROTATION = 0.0
  MAP_PROJECTION_TYPE = SINUSOIDAL
  MAP_RESOLUTION = 2370.85521546667
  MAP_SCALE = 0.025
  MAXIMUM_LATITUDE = -74.2757
  MINIMUM_LATITUDE = -88.76519999999999
  POSITIVE_LONGITUDE_DIRECTION = EAST
  REFERENCE_LATITUDE = "N/A"
  REFERENCE_LONGITUDE = "N/A"
  SAMPLE_FIRST_PIXEL = 1
  SAMPLE_LAST_PIXEL = 14955
  SAMPLE_PROJECTION_OFFSET = 7059.0
  SECOND_STANDARD_PARALLEL = "N/A"
  WESTERNMOST_LONGITUDE = 128.967
END_OBJECT = IMAGE_MAP_PROJECTION
END
