PDS_VERSION_ID = PDS3
/* FILE DATA ELEMENTS */
RECORD_TYPE = UNDEFINED
/* POINTERS TO DATA OBJECTS */
^IMAGE = ("HN659_0000_BL4.TIF")
/* IDENTIFICATION DATA ELEMENTS */
DATA_SET_ID = "MEX-M-HRSC-4-REFDR-MAPPROJECT-EXT8-V4.0"
DATA_SET_NAME = "MARS EXPRESS HRSC MAP PROJECTED REFDR EXTENSION8 V4.0"
DETECTOR_ID = MEX_HRSC_BLUE
EVENT_TYPE = "MARS-TERMINATOR-CALIBRATION-Tc"
INSTRUMENT_HOST_ID = MEX
INSTRUMENT_HOST_NAME = "MARS EXPRESS"
INSTRUMENT_ID = HRSC
INSTRUMENT_NAME = "HIGH RESOLUTION STEREO CAMERA"
MISSION_NAME = "MARS EXPRESS"
MISSION_PHASE_NAME = ME_Phase_47
PROCESSING_LEVEL_ID = 4
PRODUCT_CREATION_TIME = 2023-02-07T06:07:28.000Z
PRODUCT_ID = "HN659_0000_BL4.TIF"
RELEASE_ID = 0005
REVISION_ID = 0000
/* QUALITY DATA ELEMENTS */
DATA_QUALITY_ID = 1
DATA_QUALITY_DESC = "Data calculated based on original SPICE kernels"
/* TIME DATA ELEMENTS */
SPACECRAFT_CLOCK_START_COUNT = "1/0612126234.23978"
SPACECRAFT_CLOCK_STOP_COUNT = "1/0612126542.48789"
START_TIME = 2022-09-24T19:06:53.729Z
STOP_TIME = 2022-09-24T19:07:55.086Z
/* ORBITAL DATA ELEMENTS */
ASCENDING_NODE_LONGITUDE = 133.58
MAXIMUM_RESOLUTION = 0.6986
FOOTPRINT_POINT_LATITUDE = (19.4739,18.4553,17.7685,17.0758, 16.3769,15.6707,14.9574,14.2373,13.5102 ,12.7753,12.0322,11.281,10.5213,9.7528, 8.97503,8.18763,7.38983,6.58058,5.75926 ,4.92528,4.07764,3.21477,2.33575, 1.44084,0.529027,-0.401539,-0.637375, -0.681705,0.167384,1.00164,1.82317, 2.63257,3.42861,4.2177,4.99564,6.33987, 7.64625,8.38157,9.82214,10.5371,11.2461 ,11.9494,12.6471,13.3397,14.0274, 14.7103,15.3888,16.0631,16.7333,17.5657 ,17.7315,17.8452,19.6875,20.599,21.5028 ,22.3991,23.2876,24.1698,25.047,25.9196 ,26.7886,27.6539,28.5178,29.38,30.2416, 31.1025,31.9633,32.8246,33.6864,34.9814 ,36.2894,37.1546,38.0275,38.9201, 40.2515,40.4749,40.5528,39.013,37.9293, 37.0789,36.0155,35.1724,33.717,32.8819, 32.0531,31.2269,30.4029,29.5798,28.7581 ,27.7313,26.9092,26.0866,25.2624, 23.8149,22.9836,22.1483,21.3087,19.8268 ,19.6136,19.4739)
FOOTPRINT_POINT_LONGITUDE = (206.074,207.811,208.933,210.027, 211.097,212.146,213.174,214.184,215.177 ,216.154,217.117,218.068,219.007, 219.935,220.853,221.763,222.667,223.565 ,224.458,225.349,226.237,227.126, 228.016,228.907,229.8,230.698,230.923, 230.993,231.626,232.258,232.89,233.523, 234.158,234.794,235.433,236.557,237.701 ,238.363,239.717,240.403,241.098, 241.802,242.517,243.243,243.982,244.735 ,245.501,246.284,247.083,248.106, 248.314,248.458,246.61,245.692,244.777, 243.866,242.956,242.045,241.132,240.216 ,239.296,238.369,237.433,236.488, 235.531,234.561,233.576,232.575,231.556 ,229.988,228.365,227.25,226.104,224.919 ,223.071,222.753,222.636,221.327, 220.424,219.712,218.846,218.165,216.987 ,216.333,215.683,215.038,214.399, 213.763,213.13,212.342,211.714,211.085, 210.456,209.349,208.713,208.074,207.431 ,206.291,206.127,206.074)
ORBIT_NUMBER = 23659
ORBITAL_ECCENTRICITY = 0.576
ORBITAL_INCLINATION = 87.04
ORBITAL_SEMIMAJOR_AXIS = 8799.01
PERIAPSIS_ALTITUDE = 349.29
PERIAPSIS_ARGUMENT_ANGLE = 227.55
PERIAPSIS_TIME = 2022-09-24T17:04:00.000Z
SPACECRAFT_ORIENTATION = (0.0,-1.0,0.0)
^MEX_ORIENTATION_DESC = "MEX_ORIENTATION_DESC.TXT"
SPACECRAFT_POINTING_MODE = FIXED
^MEX_POINTING_DESC = "MEX_POINTING_DESC.TXT"
RIGHT_ASCENSION = -1e+32
DECLINATION = -1e+32
OFFSET_ANGLE = -1e+32
SPACECRAFT_SOLAR_DISTANCE = 2.15494e+08
TARGET_NAME = MARS
/* CAMERA DATA ELEMENTS */
DETECTOR_TEMPERATURE = 17.9627
FOCAL_PLANE_TEMPERATURE = 8.1755
INST_CMPRS_NAME = "DISCRETE COSINE TRANSFORMATION (DCT)"
INST_CMPRS_RATIO = 4.46628
INST_CMPRS_QUALITY = 0
INST_CMPRS_QUANTZ_TBL_ID = 0
INSTRUMENT_TEMPERATURE = 11.234
LENS_TEMPERATURE = 8.5833
MACROPIXEL_SIZE = 2
MISSING_FRAMES = 0
PIXEL_SUBSAMPLING_FLAG = N
SIGNAL_CHAIN_ID = 2
/* RADIOMETRIC DATA ELEMENTS */
BANDWIDTH = 76.0
CENTER_FILTER_WAVELENGTH = 444.0
RADIANCE_OFFSET = 0.352668
RADIANCE_SCALING_FACTOR = 0.00420666
REFLECTANCE_SCALING_FACTOR = 0.000200735
MEX:REFLECTANCE_OFFSET = 0.0168287
/* IMAGE OBJECT DEFINITIONS */
OBJECT = IMAGE
  INTERCHANGE_FORMAT = BINARY
  LINES = 2988
  LINE_SAMPLES = 2909
  SAMPLE_TYPE = UNSIGNED_INTEGER
  SAMPLE_BITS = 8
  BANDS = 1
  BAND_STORAGE_TYPE = BAND_SEQUENTIAL
  MAXIMUM = 250
  MEAN = 124.659
  MINIMUM = 1
  STANDARD_DEVIATION = 34.0713
END_OBJECT = IMAGE
/* MAP OBJECT DEFINITIONS */
OBJECT = IMAGE_MAP_PROJECTION
  ^DATA_SET_MAP_PROJECTION_CATALOG= "DSMAP.CAT"
  A_AXIS_RADIUS = 3396.0
  B_AXIS_RADIUS = 3396.0
  C_AXIS_RADIUS = 3396.0
  CENTER_LATITUDE = 19.6236
  CENTER_LONGITUDE = 227.693
  COORDINATE_SYSTEM_NAME = PLANETOGRAPHIC
  COORDINATE_SYSTEM_TYPE = "BODY-FIXED ROTATING"
  EASTERNMOST_LONGITUDE = 248.458
  FIRST_STANDARD_PARALLEL = "N/A"
  LINE_FIRST_PIXEL = 1
  LINE_LAST_PIXEL = 2988
  LINE_PROJECTION_OFFSET = 1485.0
  MAP_PROJECTION_ROTATION = 0.0
  MAP_PROJECTION_TYPE = ORTHOGRAPHIC
  MAP_RESOLUTION = 74.08922548333329
  MAP_SCALE = 0.8
  MAXIMUM_LATITUDE = 40.5528
  MINIMUM_LATITUDE = -0.681705
  POSITIVE_LONGITUDE_DIRECTION = EAST
  REFERENCE_LATITUDE = "N/A"
  REFERENCE_LONGITUDE = "N/A"
  SAMPLE_FIRST_PIXEL = 1
  SAMPLE_LAST_PIXEL = 2909
  SAMPLE_PROJECTION_OFFSET = 1459.0
  SECOND_STANDARD_PARALLEL = "N/A"
  WESTERNMOST_LONGITUDE = 206.074
END_OBJECT = IMAGE_MAP_PROJECTION
END
