PDS_VERSION_ID = PDS3
/* FILE DATA ELEMENTS */
RECORD_TYPE = UNDEFINED
/* POINTERS TO DATA OBJECTS */
^IMAGE = ("HN659_0000_ND4.TIF")
/* IDENTIFICATION DATA ELEMENTS */
DATA_SET_ID = "MEX-M-HRSC-4-REFDR-MAPPROJECT-EXT8-V4.0"
DATA_SET_NAME = "MARS EXPRESS HRSC MAP PROJECTED REFDR EXTENSION8 V4.0"
DETECTOR_ID = MEX_HRSC_NADIR
EVENT_TYPE = "MARS-TERMINATOR-CALIBRATION-Tc"
INSTRUMENT_HOST_ID = MEX
INSTRUMENT_HOST_NAME = "MARS EXPRESS"
INSTRUMENT_ID = HRSC
INSTRUMENT_NAME = "HIGH RESOLUTION STEREO CAMERA"
MISSION_NAME = "MARS EXPRESS"
MISSION_PHASE_NAME = ME_Phase_47
PROCESSING_LEVEL_ID = 4
PRODUCT_CREATION_TIME = 2023-02-07T06:07:28.000Z
PRODUCT_ID = "HN659_0000_ND4.TIF"
RELEASE_ID = 0005
REVISION_ID = 0000
/* QUALITY DATA ELEMENTS */
DATA_QUALITY_ID = 1
DATA_QUALITY_DESC = "Data calculated based on original SPICE kernels"
/* TIME DATA ELEMENTS */
SPACECRAFT_CLOCK_START_COUNT = "1/0612126234.23978"
SPACECRAFT_CLOCK_STOP_COUNT = "1/0612126542.48789"
START_TIME = 2022-09-24T19:06:31.746Z
STOP_TIME = 2022-09-24T19:07:33.102Z
/* ORBITAL DATA ELEMENTS */
ASCENDING_NODE_LONGITUDE = 133.58
MAXIMUM_RESOLUTION = 0.6981
FOOTPRINT_POINT_LATITUDE = (19.1511,18.3005,17.613,16.9195,16.2199 ,15.5138,14.8007,14.08,13.3514,12.6153, 11.8717,11.12,10.3596,9.59034,8.81178, 8.0237,7.2254,6.41537,5.59265,4.75743, 3.90911,3.04556,2.16527,1.2684,0.354461 ,-0.814864,-1.05258,-1.09537,0.174687, 1.00387,1.82082,2.62343,3.41817,4.20208 ,4.97485,5.93195,6.68264,7.42447, 8.88391,10.3089,11.016,11.7176,12.4136, 13.1047,13.7907,14.4719,15.1488,15.8214 ,16.4899,17.1546,17.3202,17.4337, 18.3594,19.5118,20.4237,21.3276,22.2231 ,23.1108,23.9926,24.8698,25.7422, 26.6103,27.475,28.3384,29.2001,30.061, 30.9212,31.781,32.6419,33.5041,34.367, 35.2281,36.0946,37.1878,38.4995,39.8397 ,40.0626,40.1408,38.8217,37.3217, 35.8361,34.7807,33.9508,32.5096,31.6844 ,30.8618,29.8339,28.4017,27.5839, 26.7662,25.9468,25.1259,24.303,23.4778, 22.6495,21.8169,20.98,19.5025,19.29, 19.1511)
FOOTPRINT_POINT_LONGITUDE = (206.35,207.795,208.918,210.015,211.087 ,212.136,213.165,214.176,215.17,216.149 ,217.114,218.065,219.004,219.933, 220.853,221.764,222.669,223.568,224.463 ,225.355,226.244,227.133,228.024, 228.917,229.812,230.937,231.163,231.234 ,232.181,232.811,233.442,234.075, 234.709,235.344,235.984,236.786,237.436 ,238.091,239.422,240.792,241.487, 242.191,242.907,243.633,244.373,245.126 ,245.893,246.676,247.476,248.294, 248.501,248.644,247.715,246.558,245.637 ,244.721,243.81,242.899,241.987,241.073 ,240.156,239.234,238.306,237.369, 236.423,235.465,234.495,233.509,232.506 ,231.486,230.445,229.382,228.294, 226.893,225.146,223.309,222.994,222.878 ,221.76,220.496,219.276,218.431,217.758 ,216.597,215.948,215.305,214.511, 213.404,212.773,212.143,211.515,210.887 ,210.259,209.626,208.987,208.349, 207.707,206.568,206.404,206.35)
ORBIT_NUMBER = 23659
ORBITAL_ECCENTRICITY = 0.576
ORBITAL_INCLINATION = 87.04
ORBITAL_SEMIMAJOR_AXIS = 8799.01
PERIAPSIS_ALTITUDE = 349.29
PERIAPSIS_ARGUMENT_ANGLE = 227.55
PERIAPSIS_TIME = 2022-09-24T17:04:00.000Z
SPACECRAFT_ORIENTATION = (0.0,-1.0,0.0)
^MEX_ORIENTATION_DESC = "MEX_ORIENTATION_DESC.TXT"
SPACECRAFT_POINTING_MODE = FIXED
^MEX_POINTING_DESC = "MEX_POINTING_DESC.TXT"
RIGHT_ASCENSION = -1e+32
DECLINATION = -1e+32
OFFSET_ANGLE = -1e+32
SPACECRAFT_SOLAR_DISTANCE = 2.15494e+08
TARGET_NAME = MARS
/* CAMERA DATA ELEMENTS */
DETECTOR_TEMPERATURE = 17.9627
FOCAL_PLANE_TEMPERATURE = 8.1755
INST_CMPRS_NAME = "DISCRETE COSINE TRANSFORMATION (DCT)"
INST_CMPRS_RATIO = 8.54216
INST_CMPRS_QUALITY = 0
INST_CMPRS_QUANTZ_TBL_ID = 0
INSTRUMENT_TEMPERATURE = 11.234
LENS_TEMPERATURE = 8.5833
MACROPIXEL_SIZE = 2
MISSING_FRAMES = 0
PIXEL_SUBSAMPLING_FLAG = N
SIGNAL_CHAIN_ID = 0
/* RADIOMETRIC DATA ELEMENTS */
BANDWIDTH = 177.0
CENTER_FILTER_WAVELENGTH = 677.5
RADIANCE_OFFSET = 2.67716
RADIANCE_SCALING_FACTOR = 0.0413584
REFLECTANCE_SCALING_FACTOR = 0.00102041
MEX:REFLECTANCE_OFFSET = 0.0660521
/* IMAGE OBJECT DEFINITIONS */
OBJECT = IMAGE
  INTERCHANGE_FORMAT = BINARY
  LINES = 2988
  LINE_SAMPLES = 2909
  SAMPLE_TYPE = UNSIGNED_INTEGER
  SAMPLE_BITS = 8
  BANDS = 1
  BAND_STORAGE_TYPE = BAND_SEQUENTIAL
  MAXIMUM = 255
  MEAN = 125.293
  MINIMUM = 1
  STANDARD_DEVIATION = 52.5929
END_OBJECT = IMAGE
/* MAP OBJECT DEFINITIONS */
OBJECT = IMAGE_MAP_PROJECTION
  ^DATA_SET_MAP_PROJECTION_CATALOG= "DSMAP.CAT"
  A_AXIS_RADIUS = 3396.0
  B_AXIS_RADIUS = 3396.0
  C_AXIS_RADIUS = 3396.0
  CENTER_LATITUDE = 19.6236
  CENTER_LONGITUDE = 227.693
  COORDINATE_SYSTEM_NAME = PLANETOGRAPHIC
  COORDINATE_SYSTEM_TYPE = "BODY-FIXED ROTATING"
  EASTERNMOST_LONGITUDE = 248.644
  FIRST_STANDARD_PARALLEL = "N/A"
  LINE_FIRST_PIXEL = 1
  LINE_LAST_PIXEL = 2988
  LINE_PROJECTION_OFFSET = 1485.0
  MAP_PROJECTION_ROTATION = 0.0
  MAP_PROJECTION_TYPE = ORTHOGRAPHIC
  MAP_RESOLUTION = 74.08922548333329
  MAP_SCALE = 0.8
  MAXIMUM_LATITUDE = 40.1408
  MINIMUM_LATITUDE = -1.09537
  POSITIVE_LONGITUDE_DIRECTION = EAST
  REFERENCE_LATITUDE = "N/A"
  REFERENCE_LONGITUDE = "N/A"
  SAMPLE_FIRST_PIXEL = 1
  SAMPLE_LAST_PIXEL = 2909
  SAMPLE_PROJECTION_OFFSET = 1459.0
  SECOND_STANDARD_PARALLEL = "N/A"
  WESTERNMOST_LONGITUDE = 206.35
END_OBJECT = IMAGE_MAP_PROJECTION
END
