PDS_VERSION_ID = PDS3
/* FILE DATA ELEMENTS */
RECORD_TYPE = UNDEFINED
/* POINTERS TO DATA OBJECTS */
^IMAGE = ("HN659_0000_RE4.TIF")
/* IDENTIFICATION DATA ELEMENTS */
DATA_SET_ID = "MEX-M-HRSC-4-REFDR-MAPPROJECT-EXT8-V4.0"
DATA_SET_NAME = "MARS EXPRESS HRSC MAP PROJECTED REFDR EXTENSION8 V4.0"
DETECTOR_ID = MEX_HRSC_RED
EVENT_TYPE = "MARS-TERMINATOR-CALIBRATION-Tc"
INSTRUMENT_HOST_ID = MEX
INSTRUMENT_HOST_NAME = "MARS EXPRESS"
INSTRUMENT_ID = HRSC
INSTRUMENT_NAME = "HIGH RESOLUTION STEREO CAMERA"
MISSION_NAME = "MARS EXPRESS"
MISSION_PHASE_NAME = ME_Phase_47
PROCESSING_LEVEL_ID = 4
PRODUCT_CREATION_TIME = 2023-02-07T06:07:28.000Z
PRODUCT_ID = "HN659_0000_RE4.TIF"
RELEASE_ID = 0005
REVISION_ID = 0000
/* QUALITY DATA ELEMENTS */
DATA_QUALITY_ID = 1
DATA_QUALITY_DESC = "Data calculated based on original SPICE kernels"
/* TIME DATA ELEMENTS */
SPACECRAFT_CLOCK_START_COUNT = "1/0612126234.23978"
SPACECRAFT_CLOCK_STOP_COUNT = "1/0612126542.48789"
START_TIME = 2022-09-24T19:08:14.733Z
STOP_TIME = 2022-09-24T19:09:16.090Z
/* ORBITAL DATA ELEMENTS */
ASCENDING_NODE_LONGITUDE = 133.58
MAXIMUM_RESOLUTION = 0.7046
FOOTPRINT_POINT_LATITUDE = (19.7903,18.8106,18.1497,17.4827, 16.8094,16.1302,15.4446,14.7517,14.0514 ,13.3437,12.6285,11.9055,11.1745, 10.4353,9.68753,8.93022,8.16302,7.38594 ,6.59817,5.79831,4.98559,4.15973,3.3199 ,2.46454,1.59259,0.703252,0.478032, 0.431585,1.49533,2.32682,3.14576, 4.55844,5.34585,6.70892,7.4737,8.23965, 9.72035,10.9931,12.4267,13.135,13.8379, 14.5357,15.2287,15.9171,16.6013,17.2814 ,17.9576,18.7974,18.9648,19.0795, 20.1914,21.0777,21.9554,22.8254,23.689, 24.547,25.3995,26.2473,27.0918,27.9336, 28.7732,29.6104,30.4471,31.2833,32.119, 32.955,33.7918,34.6292,35.671,36.5233, 37.3619,38.642,39.4949,40.795,41.0114, 41.0872,39.7644,38.8846,38.0127,37.1574 ,36.3062,34.8259,33.9829,33.1425, 32.3037,31.4698,30.0149,29.1846,28.3544 ,27.5241,26.6929,25.8597,25.0243, 24.1862,23.1338,22.287,21.4353,20.1471, 19.931,19.7903)
FOOTPRINT_POINT_LONGITUDE = (205.136,206.85,207.956,209.036,210.092 ,211.125,212.138,213.132,214.11,215.072 ,216.02,216.955,217.877,218.788,219.689 ,220.582,221.467,222.345,223.218, 224.087,224.954,225.818,226.682,227.547 ,228.414,229.284,229.502,229.572, 230.368,231.006,231.643,232.76,233.402, 234.53,235.18,235.829,237.159,238.345, 239.731,240.437,241.154,241.883,242.624 ,243.378,244.147,244.93,245.73,246.755, 246.963,247.107,245.994,245.104,244.218 ,243.334,242.45,241.565,240.678,239.789 ,238.894,237.991,237.081,236.162, 235.232,234.288,233.33,232.357,231.366, 230.356,229.063,228.003,226.915,225.224 ,224.055,222.224,221.91,221.794,220.658 ,219.927,219.211,218.503,217.807, 216.615,215.949,215.292,214.644,213.997 ,212.876,212.24,211.606,210.972,210.338 ,209.705,209.071,208.434,207.63,206.989 ,206.339,205.353,205.187,205.136)
ORBIT_NUMBER = 23659
ORBITAL_ECCENTRICITY = 0.576
ORBITAL_INCLINATION = 87.04
ORBITAL_SEMIMAJOR_AXIS = 8799.01
PERIAPSIS_ALTITUDE = 349.29
PERIAPSIS_ARGUMENT_ANGLE = 227.55
PERIAPSIS_TIME = 2022-09-24T17:04:00.000Z
SPACECRAFT_ORIENTATION = (0.0,-1.0,0.0)
^MEX_ORIENTATION_DESC = "MEX_ORIENTATION_DESC.TXT"
SPACECRAFT_POINTING_MODE = FIXED
^MEX_POINTING_DESC = "MEX_POINTING_DESC.TXT"
RIGHT_ASCENSION = -1e+32
DECLINATION = -1e+32
OFFSET_ANGLE = -1e+32
SPACECRAFT_SOLAR_DISTANCE = 2.15494e+08
TARGET_NAME = MARS
/* CAMERA DATA ELEMENTS */
DETECTOR_TEMPERATURE = 18.1666
FOCAL_PLANE_TEMPERATURE = 8.1755
INST_CMPRS_NAME = "DISCRETE COSINE TRANSFORMATION (DCT)"
INST_CMPRS_RATIO = 7.52589
INST_CMPRS_QUALITY = 0
INST_CMPRS_QUANTZ_TBL_ID = 0
INSTRUMENT_TEMPERATURE = 11.234
LENS_TEMPERATURE = 8.5833
MACROPIXEL_SIZE = 2
MISSING_FRAMES = 0
PIXEL_SUBSAMPLING_FLAG = N
SIGNAL_CHAIN_ID = 1
/* RADIOMETRIC DATA ELEMENTS */
BANDWIDTH = 48.0
CENTER_FILTER_WAVELENGTH = 748.0
RADIANCE_OFFSET = 0.841422
RADIANCE_SCALING_FACTOR = 0.0106062
REFLECTANCE_SCALING_FACTOR = 0.00112412
MEX:REFLECTANCE_OFFSET = 0.0891806
/* IMAGE OBJECT DEFINITIONS */
OBJECT = IMAGE
  INTERCHANGE_FORMAT = BINARY
  LINES = 2988
  LINE_SAMPLES = 2909
  SAMPLE_TYPE = UNSIGNED_INTEGER
  SAMPLE_BITS = 8
  BANDS = 1
  BAND_STORAGE_TYPE = BAND_SEQUENTIAL
  MAXIMUM = 255
  MEAN = 122.389
  MINIMUM = 1
  STANDARD_DEVIATION = 55.2489
END_OBJECT = IMAGE
/* MAP OBJECT DEFINITIONS */
OBJECT = IMAGE_MAP_PROJECTION
  ^DATA_SET_MAP_PROJECTION_CATALOG= "DSMAP.CAT"
  A_AXIS_RADIUS = 3396.0
  B_AXIS_RADIUS = 3396.0
  C_AXIS_RADIUS = 3396.0
  CENTER_LATITUDE = 19.6236
  CENTER_LONGITUDE = 227.693
  COORDINATE_SYSTEM_NAME = PLANETOGRAPHIC
  COORDINATE_SYSTEM_TYPE = "BODY-FIXED ROTATING"
  EASTERNMOST_LONGITUDE = 247.107
  FIRST_STANDARD_PARALLEL = "N/A"
  LINE_FIRST_PIXEL = 1
  LINE_LAST_PIXEL = 2988
  LINE_PROJECTION_OFFSET = 1485.0
  MAP_PROJECTION_ROTATION = 0.0
  MAP_PROJECTION_TYPE = ORTHOGRAPHIC
  MAP_RESOLUTION = 74.08922548333329
  MAP_SCALE = 0.8
  MAXIMUM_LATITUDE = 41.0872
  MINIMUM_LATITUDE = 0.431585
  POSITIVE_LONGITUDE_DIRECTION = EAST
  REFERENCE_LATITUDE = "N/A"
  REFERENCE_LONGITUDE = "N/A"
  SAMPLE_FIRST_PIXEL = 1
  SAMPLE_LAST_PIXEL = 2909
  SAMPLE_PROJECTION_OFFSET = 1459.0
  SECOND_STANDARD_PARALLEL = "N/A"
  WESTERNMOST_LONGITUDE = 205.136
END_OBJECT = IMAGE_MAP_PROJECTION
END
