PDS_VERSION_ID = PDS3
/* FILE DATA ELEMENTS */
RECORD_TYPE = UNDEFINED
/* POINTERS TO DATA OBJECTS */
^IMAGE = ("HN659_0000_S14.TIF")
/* IDENTIFICATION DATA ELEMENTS */
DATA_SET_ID = "MEX-M-HRSC-4-REFDR-MAPPROJECT-EXT8-V4.0"
DATA_SET_NAME = "MARS EXPRESS HRSC MAP PROJECTED REFDR EXTENSION8 V4.0"
DETECTOR_ID = MEX_HRSC_S1
EVENT_TYPE = "MARS-TERMINATOR-CALIBRATION-Tc"
INSTRUMENT_HOST_ID = MEX
INSTRUMENT_HOST_NAME = "MARS EXPRESS"
INSTRUMENT_ID = HRSC
INSTRUMENT_NAME = "HIGH RESOLUTION STEREO CAMERA"
MISSION_NAME = "MARS EXPRESS"
MISSION_PHASE_NAME = ME_Phase_47
PROCESSING_LEVEL_ID = 4
PRODUCT_CREATION_TIME = 2023-02-07T06:07:28.000Z
PRODUCT_ID = "HN659_0000_S14.TIF"
RELEASE_ID = 0005
REVISION_ID = 0000
/* QUALITY DATA ELEMENTS */
DATA_QUALITY_ID = 1
DATA_QUALITY_DESC = "Data calculated based on original SPICE kernels"
/* TIME DATA ELEMENTS */
SPACECRAFT_CLOCK_START_COUNT = "1/0612126234.23978"
SPACECRAFT_CLOCK_STOP_COUNT = "1/0612126542.48789"
START_TIME = 2022-09-24T19:04:29.735Z
STOP_TIME = 2022-09-24T19:05:31.085Z
/* ORBITAL DATA ELEMENTS */
ASCENDING_NODE_LONGITUDE = 133.58
MAXIMUM_RESOLUTION = 1.384
FOOTPRINT_POINT_LATITUDE = (17.7022,16.9171,16.2836,15.6451, 15.0015,14.3524,13.6977,13.0374,12.3712 ,11.6988,11.0198,10.334,9.64132,8.94145 ,8.23419,7.51917,6.79587,6.06358, 5.32144,4.56884,3.80538,3.03045,2.24323 ,1.44288,0.628622,-0.200226,-1.25877, -1.4736,-1.4887,-0.652064,0.171426, 0.982307,1.77921,2.9722,3.92334,4.68329 ,5.43388,6.17603,6.90981,7.63659, 9.06318,10.467,11.1626,11.853,12.5387, 13.2196,13.8963,14.5688,15.2375,15.9025 ,16.564,16.7288,16.8386,18.0828,18.9128 ,19.9392,20.7523,21.5592,22.3603, 23.1564,23.948,24.7354,25.5192,26.3006, 27.08,27.8577,28.6345,29.4104,30.1866, 30.9621,31.7377,32.5139,33.2914,34.0705 ,34.8503,35.82,36.6219,37.7969,37.9966, 38.0602,36.8096,35.9759,35.1492,34.3306 ,32.9015,32.0914,31.2864,30.4832, 28.6821,27.4864,25.6981,24.5019,23.1065 ,21.703,20.8964,20.0861,19.2714,18.0392 ,17.8327,17.7022)
FOOTPRINT_POINT_LONGITUDE = (209.476,210.707,211.67,212.614,213.542 ,214.455,215.352,216.237,217.11,217.971 ,218.823,219.666,220.501,221.328, 222.149,222.963,223.772,224.577,225.38, 226.18,226.98,227.779,228.579,229.381, 230.184,230.991,232.007,232.212,232.261 ,232.885,233.509,234.133,234.759, 235.694,236.487,237.122,237.761,238.405 ,239.055,239.711,241.05,242.424,243.124 ,243.834,244.556,245.291,246.039, 246.802,247.58,248.375,249.188,249.395, 249.533,248.278,247.44,246.4,245.574, 244.751,243.93,243.108,242.287,241.463, 240.638,239.809,238.974,238.133,237.284 ,236.427,235.561,234.684,233.795, 232.892,231.975,231.042,230.09,228.871, 227.871,226.325,226.061,225.969,224.838 ,224.107,223.39,222.686,221.486,220.814 ,220.15,219.495,218.049,217.099,215.682 ,214.752,213.655,212.557,211.93,211.298 ,210.662,209.697,209.536,209.476)
ORBIT_NUMBER = 23659
ORBITAL_ECCENTRICITY = 0.576
ORBITAL_INCLINATION = 87.04
ORBITAL_SEMIMAJOR_AXIS = 8799.01
PERIAPSIS_ALTITUDE = 349.29
PERIAPSIS_ARGUMENT_ANGLE = 227.55
PERIAPSIS_TIME = 2022-09-24T17:04:00.000Z
SPACECRAFT_ORIENTATION = (0.0,-1.0,0.0)
^MEX_ORIENTATION_DESC = "MEX_ORIENTATION_DESC.TXT"
SPACECRAFT_POINTING_MODE = FIXED
^MEX_POINTING_DESC = "MEX_POINTING_DESC.TXT"
RIGHT_ASCENSION = -1e+32
DECLINATION = -1e+32
OFFSET_ANGLE = -1e+32
SPACECRAFT_SOLAR_DISTANCE = 2.15494e+08
TARGET_NAME = MARS
/* CAMERA DATA ELEMENTS */
DETECTOR_TEMPERATURE = 17.5549
FOCAL_PLANE_TEMPERATURE = 8.1755
INST_CMPRS_NAME = "DISCRETE COSINE TRANSFORMATION (DCT)"
INST_CMPRS_RATIO = 11.4081
INST_CMPRS_QUALITY = 0
INST_CMPRS_QUANTZ_TBL_ID = 0
INSTRUMENT_TEMPERATURE = 11.234
LENS_TEMPERATURE = 8.5833
MACROPIXEL_SIZE = 4
MISSING_FRAMES = 0
PIXEL_SUBSAMPLING_FLAG = N
SIGNAL_CHAIN_ID = 3
/* RADIOMETRIC DATA ELEMENTS */
BANDWIDTH = 180.0
CENTER_FILTER_WAVELENGTH = 677.0
RADIANCE_OFFSET = 3.34605
RADIANCE_SCALING_FACTOR = 0.0366316
REFLECTANCE_SCALING_FACTOR = 0.000887616
MEX:REFLECTANCE_OFFSET = 0.0810778
/* IMAGE OBJECT DEFINITIONS */
OBJECT = IMAGE
  INTERCHANGE_FORMAT = BINARY
  LINES = 1494
  LINE_SAMPLES = 1455
  SAMPLE_TYPE = UNSIGNED_INTEGER
  SAMPLE_BITS = 8
  BANDS = 1
  BAND_STORAGE_TYPE = BAND_SEQUENTIAL
  MAXIMUM = 254
  MEAN = 136.809
  MINIMUM = 1
  STANDARD_DEVIATION = 52.594
END_OBJECT = IMAGE
/* MAP OBJECT DEFINITIONS */
OBJECT = IMAGE_MAP_PROJECTION
  ^DATA_SET_MAP_PROJECTION_CATALOG= "DSMAP.CAT"
  A_AXIS_RADIUS = 3396.0
  B_AXIS_RADIUS = 3396.0
  C_AXIS_RADIUS = 3396.0
  CENTER_LATITUDE = 19.6236
  CENTER_LONGITUDE = 227.693
  COORDINATE_SYSTEM_NAME = PLANETOGRAPHIC
  COORDINATE_SYSTEM_TYPE = "BODY-FIXED ROTATING"
  EASTERNMOST_LONGITUDE = 249.533
  FIRST_STANDARD_PARALLEL = "N/A"
  LINE_FIRST_PIXEL = 1
  LINE_LAST_PIXEL = 1494
  LINE_PROJECTION_OFFSET = 742.25
  MAP_PROJECTION_ROTATION = 0.0
  MAP_PROJECTION_TYPE = ORTHOGRAPHIC
  MAP_RESOLUTION = 37.0446127416667
  MAP_SCALE = 1.6
  MAXIMUM_LATITUDE = 38.0602
  MINIMUM_LATITUDE = -1.4887
  POSITIVE_LONGITUDE_DIRECTION = EAST
  REFERENCE_LATITUDE = "N/A"
  REFERENCE_LONGITUDE = "N/A"
  SAMPLE_FIRST_PIXEL = 1
  SAMPLE_LAST_PIXEL = 1455
  SAMPLE_PROJECTION_OFFSET = 729.25
  SECOND_STANDARD_PARALLEL = "N/A"
  WESTERNMOST_LONGITUDE = 209.476
END_OBJECT = IMAGE_MAP_PROJECTION
END
