PDS_VERSION_ID = PDS3
/* FILE DATA ELEMENTS */
RECORD_TYPE = UNDEFINED
/* POINTERS TO DATA OBJECTS */
^IMAGE = ("HN762_0000_IR4.TIF")
/* IDENTIFICATION DATA ELEMENTS */
DATA_SET_ID = "MEX-M-HRSC-4-REFDR-MAPPROJECT-EXT8-V4.0"
DATA_SET_NAME = "MARS EXPRESS HRSC MAP PROJECTED REFDR EXTENSION8 V4.0"
DETECTOR_ID = MEX_HRSC_IR
EVENT_TYPE = "MARS-TERMINATOR-CALIBRATION-Tc"
INSTRUMENT_HOST_ID = MEX
INSTRUMENT_HOST_NAME = "MARS EXPRESS"
INSTRUMENT_ID = HRSC
INSTRUMENT_NAME = "HIGH RESOLUTION STEREO CAMERA"
MISSION_NAME = "MARS EXPRESS"
MISSION_PHASE_NAME = ME_Phase_47
PROCESSING_LEVEL_ID = 4
PRODUCT_CREATION_TIME = 2023-02-07T06:07:28.000Z
PRODUCT_ID = "HN762_0000_IR4.TIF"
RELEASE_ID = 0005
REVISION_ID = 0000
/* QUALITY DATA ELEMENTS */
DATA_QUALITY_ID = 1
DATA_QUALITY_DESC = "Data calculated based on original SPICE kernels"
/* TIME DATA ELEMENTS */
SPACECRAFT_CLOCK_START_COUNT = "1/0614719274.23959"
SPACECRAFT_CLOCK_STOP_COUNT = "1/0614719676.20992"
START_TIME = 2022-10-24T19:21:49.868Z
STOP_TIME = 2022-10-24T19:25:02.852Z
/* ORBITAL DATA ELEMENTS */
ASCENDING_NODE_LONGITUDE = 131.75
MAXIMUM_RESOLUTION = 0.8212
FOOTPRINT_POINT_LATITUDE = (-34.3533,-32.9847,-31.8879,-30.9157, -30.4156,-30.7304,-31.531,-32.7215, -34.2868,-36.273,-38.7977,-42.1577, -47.3463,-50.8509,-53.0213,-51.3438, -52.5503,-55.3727,-45.9088,-41.3747, -37.9576,-35.2193,-30.5739,-26.7893, -23.4843,-20.5004,-17.7739,-12.8831, -8.54042,-4.51851,-0.751909,2.81136, 6.22951,9.53692,12.7622,15.9287,19.0581 ,22.1699,25.2819,28.4093,31.5629,34.744 ,36.3416,37.9372,39.5204,41.0708, 42.5443,43.8347,44.3215,44.5395,44.2066 ,47.3541,50.5437,55.9605,57.4342, 60.2539,65.398,68.7347,72.0689,74.0628, 73.8883,74.1298,79.2265,83.1292,86.5887 ,86.2048,81.7551,78.3186,73.0003, 68.7567,65.129,61.9092,58.9803,56.2732, 51.346,46.8838,42.745,38.8383,35.0993, 31.479,27.9368,24.4368,20.9469,17.435, 13.8678,10.2054,6.40527,2.37445, -1.94926,-6.73307,-9.38135,-12.2833, -15.5354,-19.3469,-21.654,-24.4706, -28.665,-32.9159,-34.3533)
FOOTPRINT_POINT_LONGITUDE = (82.8107,85.605,88.5508,92.4749,98.0583 ,102.48,106.338,109.859,113.162,116.322 ,119.395,122.41,125.303,126.153,126.193 ,125.598,131.111,136.263,137.386, 137.841,138.264,138.671,139.428,140.149 ,140.842,141.516,142.178,143.491, 144.815,146.155,147.534,148.977,150.497 ,152.118,153.864,155.769,157.872, 160.231,162.916,166.031,169.725,174.232 ,176.91,179.97,183.529,187.776,193.026, 199.961,204.574,210.825,221.445,222.191 ,225.634,225.481,228.035,220.452, 215.323,215.689,220.959,234.487,241.545 ,235.739,252.002,260.922,270.841, 153.198,140.439,136.882,133.649,131.824 ,130.503,129.436,128.521,127.707, 126.267,124.985,123.792,122.652,121.536 ,120.425,119.299,118.146,116.947, 115.682,114.332,112.863,111.243,109.37, 107.196,104.528,102.909,100.995,98.6531 ,95.5861,93.5094,90.7019,85.8007, 84.0106,82.8107)
ORBIT_NUMBER = 23762
ORBITAL_ECCENTRICITY = 0.576
ORBITAL_INCLINATION = 87.02
ORBITAL_SEMIMAJOR_AXIS = 8825.64
PERIAPSIS_ALTITUDE = 353.89
PERIAPSIS_ARGUMENT_ANGLE = 210.03
PERIAPSIS_TIME = 2022-10-24T16:27:47.000Z
SPACECRAFT_ORIENTATION = (0.0,-1.0,0.0)
^MEX_ORIENTATION_DESC = "MEX_ORIENTATION_DESC.TXT"
SPACECRAFT_POINTING_MODE = FIXED
^MEX_POINTING_DESC = "MEX_POINTING_DESC.TXT"
RIGHT_ASCENSION = -1e+32
DECLINATION = -1e+32
OFFSET_ANGLE = -1e+32
SPACECRAFT_SOLAR_DISTANCE = 2.20889e+08
TARGET_NAME = MARS
/* CAMERA DATA ELEMENTS */
DETECTOR_TEMPERATURE = 17.9627
FOCAL_PLANE_TEMPERATURE = 8.5833
INST_CMPRS_NAME = "DISCRETE COSINE TRANSFORMATION (DCT)"
INST_CMPRS_RATIO = 5.6477
INST_CMPRS_QUALITY = 0
INST_CMPRS_QUANTZ_TBL_ID = 0
INSTRUMENT_TEMPERATURE = 11.6418
LENS_TEMPERATURE = 9.3989
MACROPIXEL_SIZE = 2
MISSING_FRAMES = 0
PIXEL_SUBSAMPLING_FLAG = N
SIGNAL_CHAIN_ID = 1
/* RADIOMETRIC DATA ELEMENTS */
BANDWIDTH = 81.0
CENTER_FILTER_WAVELENGTH = 955.5
RADIANCE_OFFSET = 0.0
RADIANCE_SCALING_FACTOR = 0.00850624
REFLECTANCE_SCALING_FACTOR = 0.000895582
MEX:REFLECTANCE_OFFSET = 0.0
/* IMAGE OBJECT DEFINITIONS */
OBJECT = IMAGE
  INTERCHANGE_FORMAT = BINARY
  LINES = 8225
  LINE_SAMPLES = 6151
  SAMPLE_TYPE = UNSIGNED_INTEGER
  SAMPLE_BITS = 8
  BANDS = 1
  BAND_STORAGE_TYPE = BAND_SEQUENTIAL
  MAXIMUM = 255
  MEAN = 145.1
  MINIMUM = 1
  STANDARD_DEVIATION = 77.3628
END_OBJECT = IMAGE
/* MAP OBJECT DEFINITIONS */
OBJECT = IMAGE_MAP_PROJECTION
  ^DATA_SET_MAP_PROJECTION_CATALOG= "DSMAP.CAT"
  A_AXIS_RADIUS = 3396.0
  B_AXIS_RADIUS = 3396.0
  C_AXIS_RADIUS = 3396.0
  CENTER_LATITUDE = 21.2267
  CENTER_LONGITUDE = 136.076
  COORDINATE_SYSTEM_NAME = PLANETOGRAPHIC
  COORDINATE_SYSTEM_TYPE = "BODY-FIXED ROTATING"
  EASTERNMOST_LONGITUDE = 360.0
  FIRST_STANDARD_PARALLEL = "N/A"
  LINE_FIRST_PIXEL = 1
  LINE_LAST_PIXEL = 8225
  LINE_PROJECTION_OFFSET = 4099.0
  MAP_PROJECTION_ROTATION = 0.0
  MAP_PROJECTION_TYPE = ORTHOGRAPHIC
  MAP_RESOLUTION = 74.08922548333329
  MAP_SCALE = 0.8
  MAXIMUM_LATITUDE = 90.0
  MINIMUM_LATITUDE = -55.3727
  POSITIVE_LONGITUDE_DIRECTION = EAST
  REFERENCE_LATITUDE = "N/A"
  REFERENCE_LONGITUDE = "N/A"
  SAMPLE_FIRST_PIXEL = 1
  SAMPLE_LAST_PIXEL = 6151
  SAMPLE_PROJECTION_OFFSET = 3061.0
  SECOND_STANDARD_PARALLEL = "N/A"
  WESTERNMOST_LONGITUDE = 0.0
END_OBJECT = IMAGE_MAP_PROJECTION
END
