PDS_VERSION_ID = PDS3
/* FILE DATA ELEMENTS */
RECORD_TYPE = UNDEFINED
/* POINTERS TO DATA OBJECTS */
^IMAGE = ("HN762_0000_RE4.TIF")
/* IDENTIFICATION DATA ELEMENTS */
DATA_SET_ID = "MEX-M-HRSC-4-REFDR-MAPPROJECT-EXT8-V4.0"
DATA_SET_NAME = "MARS EXPRESS HRSC MAP PROJECTED REFDR EXTENSION8 V4.0"
DETECTOR_ID = MEX_HRSC_RED
EVENT_TYPE = "MARS-TERMINATOR-CALIBRATION-Tc"
INSTRUMENT_HOST_ID = MEX
INSTRUMENT_HOST_NAME = "MARS EXPRESS"
INSTRUMENT_ID = HRSC
INSTRUMENT_NAME = "HIGH RESOLUTION STEREO CAMERA"
MISSION_NAME = "MARS EXPRESS"
MISSION_PHASE_NAME = ME_Phase_47
PROCESSING_LEVEL_ID = 4
PRODUCT_CREATION_TIME = 2023-02-07T06:07:28.000Z
PRODUCT_ID = "HN762_0000_RE4.TIF"
RELEASE_ID = 0005
REVISION_ID = 0000
/* QUALITY DATA ELEMENTS */
DATA_QUALITY_ID = 1
DATA_QUALITY_DESC = "Data calculated based on original SPICE kernels"
/* TIME DATA ELEMENTS */
SPACECRAFT_CLOCK_START_COUNT = "1/0614719274.23959"
SPACECRAFT_CLOCK_STOP_COUNT = "1/0614719676.20992"
START_TIME = 2022-10-24T19:25:16.829Z
STOP_TIME = 2022-10-24T19:28:29.813Z
/* ORBITAL DATA ELEMENTS */
ASCENDING_NODE_LONGITUDE = 131.75
MAXIMUM_RESOLUTION = 0.8241
FOOTPRINT_POINT_LATITUDE = (-34.5475,-31.8596,-30.9023,-30.8098, -31.3771,-32.4084,-33.8551,-35.7462, -38.1918,-41.48,-46.6205,-50.1906, -52.7028,-50.4863,-50.9312,-51.4998, -43.6087,-39.4017,-36.1942,-33.4571, -28.9943,-25.2323,-21.9664,-19.0252, -16.3245,-11.4491,-7.10641,-3.09308, 0.664811,4.22966,7.65021,10.9623, 14.1923,17.364,20.4996,23.6179,26.7367, 29.871,33.0297,36.2134,37.8103,39.4041, 40.9837,42.5284,43.9951,45.287,45.7923, 46.0893,45.8006,47.2164,51.3811,55.6262 ,57.9043,60.7354,64.2822,67.6389, 70.9153,73.2664,73.3932,73.3604,78.7226 ,82.7393,83.4512,88.0586,85.3632,81.33, 78.1431,75.4533,70.9363,67.1396,63.7992 ,60.7791,58.0016,52.9621,48.4162, 44.2084,40.2541,36.4557,32.7883,29.2025 ,25.6597,22.1272,18.5713,14.9577, 11.2425,7.38827,3.28151,-1.13713, -3.51126,-6.04007,-8.78729,-11.8106, -15.2474,-19.4508,-22.1175,-25.8312, -30.6968,-33.0198,-34.5475)
FOOTPRINT_POINT_LONGITUDE = (83.6797,90.1001,95.0746,100.008,104.13 ,107.807,111.206,114.42,117.512,120.507 ,123.305,124.037,123.896,123.532,129.08 ,134.02,134.856,135.448,135.96,136.427, 137.279,138.061,138.802,139.516,140.212 ,141.573,142.931,144.301,145.708, 147.172,148.712,150.349,152.112,154.034 ,156.154,158.533,161.239,164.382, 168.103,172.642,175.334,178.407,181.974 ,186.21,191.404,198.142,202.496,208.072 ,216.667,223.572,223.317,228.428, 228.241,221.737,218.244,217.999,221.978 ,234.188,237.806,239.736,252.278, 259.862,293.413,315.674,129.025,128.908 ,128.477,128.023,127.177,126.412, 125.712,125.059,124.441,123.284,122.194 ,121.143,120.099,119.075,118.03,116.957 ,115.845,114.678,113.436,112.102, 110.634,109.017,107.111,104.884,103.595 ,102.136,100.428,98.3947,95.8503, 92.3018,89.7404,85.6352,81.5949,84.9054 ,83.6797)
ORBIT_NUMBER = 23762
ORBITAL_ECCENTRICITY = 0.576
ORBITAL_INCLINATION = 87.02
ORBITAL_SEMIMAJOR_AXIS = 8825.64
PERIAPSIS_ALTITUDE = 353.89
PERIAPSIS_ARGUMENT_ANGLE = 210.03
PERIAPSIS_TIME = 2022-10-24T16:27:47.000Z
SPACECRAFT_ORIENTATION = (0.0,-1.0,0.0)
^MEX_ORIENTATION_DESC = "MEX_ORIENTATION_DESC.TXT"
SPACECRAFT_POINTING_MODE = FIXED
^MEX_POINTING_DESC = "MEX_POINTING_DESC.TXT"
RIGHT_ASCENSION = -1e+32
DECLINATION = -1e+32
OFFSET_ANGLE = -1e+32
SPACECRAFT_SOLAR_DISTANCE = 2.20889e+08
TARGET_NAME = MARS
/* CAMERA DATA ELEMENTS */
DETECTOR_TEMPERATURE = 18.9822
FOCAL_PLANE_TEMPERATURE = 8.5833
INST_CMPRS_NAME = "DISCRETE COSINE TRANSFORMATION (DCT)"
INST_CMPRS_RATIO = 10.6702
INST_CMPRS_QUALITY = 0
INST_CMPRS_QUANTZ_TBL_ID = 0
INSTRUMENT_TEMPERATURE = 11.6418
LENS_TEMPERATURE = 9.3989
MACROPIXEL_SIZE = 2
MISSING_FRAMES = 0
PIXEL_SUBSAMPLING_FLAG = N
SIGNAL_CHAIN_ID = 1
/* RADIOMETRIC DATA ELEMENTS */
BANDWIDTH = 48.0
CENTER_FILTER_WAVELENGTH = 748.0
RADIANCE_OFFSET = 0.0
RADIANCE_SCALING_FACTOR = 0.0100871
REFLECTANCE_SCALING_FACTOR = 0.0011234
MEX:REFLECTANCE_OFFSET = 0.0
/* IMAGE OBJECT DEFINITIONS */
OBJECT = IMAGE
  INTERCHANGE_FORMAT = BINARY
  LINES = 8225
  LINE_SAMPLES = 6151
  SAMPLE_TYPE = UNSIGNED_INTEGER
  SAMPLE_BITS = 8
  BANDS = 1
  BAND_STORAGE_TYPE = BAND_SEQUENTIAL
  MAXIMUM = 255
  MEAN = 125.59
  MINIMUM = 1
  STANDARD_DEVIATION = 72.1469
END_OBJECT = IMAGE
/* MAP OBJECT DEFINITIONS */
OBJECT = IMAGE_MAP_PROJECTION
  ^DATA_SET_MAP_PROJECTION_CATALOG= "DSMAP.CAT"
  A_AXIS_RADIUS = 3396.0
  B_AXIS_RADIUS = 3396.0
  C_AXIS_RADIUS = 3396.0
  CENTER_LATITUDE = 21.2267
  CENTER_LONGITUDE = 136.076
  COORDINATE_SYSTEM_NAME = PLANETOGRAPHIC
  COORDINATE_SYSTEM_TYPE = "BODY-FIXED ROTATING"
  EASTERNMOST_LONGITUDE = 360.0
  FIRST_STANDARD_PARALLEL = "N/A"
  LINE_FIRST_PIXEL = 1
  LINE_LAST_PIXEL = 8225
  LINE_PROJECTION_OFFSET = 4099.0
  MAP_PROJECTION_ROTATION = 0.0
  MAP_PROJECTION_TYPE = ORTHOGRAPHIC
  MAP_RESOLUTION = 74.08922548333329
  MAP_SCALE = 0.8
  MAXIMUM_LATITUDE = 90.0
  MINIMUM_LATITUDE = -52.7028
  POSITIVE_LONGITUDE_DIRECTION = EAST
  REFERENCE_LATITUDE = "N/A"
  REFERENCE_LONGITUDE = "N/A"
  SAMPLE_FIRST_PIXEL = 1
  SAMPLE_LAST_PIXEL = 6151
  SAMPLE_PROJECTION_OFFSET = 3061.0
  SECOND_STANDARD_PARALLEL = "N/A"
  WESTERNMOST_LONGITUDE = 0.0
END_OBJECT = IMAGE_MAP_PROJECTION
END
