PDS_VERSION_ID = PDS3
/* FILE DATA ELEMENTS */
RECORD_TYPE = UNDEFINED
/* POINTERS TO DATA OBJECTS */
^IMAGE = ("HN768_0000_GR4.TIF")
/* IDENTIFICATION DATA ELEMENTS */
DATA_SET_ID = "MEX-M-HRSC-4-REFDR-MAPPROJECT-EXT8-V4.0"
DATA_SET_NAME = "MARS EXPRESS HRSC MAP PROJECTED REFDR EXTENSION8 V4.0"
DETECTOR_ID = MEX_HRSC_GREEN
EVENT_TYPE = "MARS-TERMINATOR-CALIBRATION-Tc"
INSTRUMENT_HOST_ID = MEX
INSTRUMENT_HOST_NAME = "MARS EXPRESS"
INSTRUMENT_ID = HRSC
INSTRUMENT_NAME = "HIGH RESOLUTION STEREO CAMERA"
MISSION_NAME = "MARS EXPRESS"
MISSION_PHASE_NAME = ME_Phase_47
PROCESSING_LEVEL_ID = 4
PRODUCT_CREATION_TIME = 2023-02-07T06:07:28.000Z
PRODUCT_ID = "HN768_0000_GR4.TIF"
RELEASE_ID = 0005
REVISION_ID = 0000
/* QUALITY DATA ELEMENTS */
DATA_QUALITY_ID = 1
DATA_QUALITY_DESC = "Data calculated based on original SPICE kernels"
/* TIME DATA ELEMENTS */
SPACECRAFT_CLOCK_START_COUNT = "1/0614871547.25677"
SPACECRAFT_CLOCK_STOP_COUNT = "1/0614871846.08109"
START_TIME = 2022-10-26T13:41:24.867Z
STOP_TIME = 2022-10-26T13:42:15.566Z
/* ORBITAL DATA ELEMENTS */
ASCENDING_NODE_LONGITUDE = 131.65
MAXIMUM_RESOLUTION = 0.8378
FOOTPRINT_POINT_LATITUDE = (14.6265,14.297,14.0345,13.7413,13.4199 ,13.0716,12.6982,12.3013,11.8819, 11.4404,10.9775,10.4943,9.99151,9.46886 ,8.92629,8.36376,7.78116,7.17836, 6.55494,5.91033,5.24378,4.5541,3.84062, 3.10265,2.33922,1.54873,1.34662,1.35094 ,3.1302,4.12326,5.10074,6.06359,7.01155 ,7.94404,9.09822,10.0094,10.9104, 11.8017,12.6846,14.4259,16.1388,17.8273 ,19.4953,21.1453,23.389,23.5914,23.761, 24.7382,25.508,26.2632,27.0045,27.7319, 28.4457,29.1465,29.8353,30.5121,31.1774 ,31.8312,32.4735,33.1042,33.7236,34.331 ,34.9267,35.5133,36.0854,36.6419, 37.1843,37.7094,38.1029,38.6012,39.0806 ,39.7609,39.8695,39.9001,38.9028, 37.9112,36.9242,35.9411,34.9611,33.9836 ,33.0076,32.0325,31.0578,30.0825,29.106 ,28.1275,27.1462,26.1614,25.1721, 24.1775,23.1767,22.1689,21.1529,20.1278 ,19.0923,18.0455,16.9855,15.0947, 14.8204,14.6265)
FOOTPRINT_POINT_LONGITUDE = (202.477,205.301,207.097,208.832, 210.514,212.149,213.742,215.297,216.817 ,218.307,219.77,221.204,222.614,224.002 ,225.372,226.726,228.065,229.391, 230.707,232.013,233.313,234.609,235.904 ,237.196,238.489,239.786,240.11,240.212 ,240.948,241.37,241.793,242.217,242.645 ,243.075,243.617,244.055,244.497, 244.943,245.395,246.317,247.265,248.244 ,249.257,250.311,251.837,251.982, 252.105,250.422,249.064,247.702,246.332 ,244.953,243.565,242.164,240.747, 239.313,237.858,236.381,234.879,233.351 ,231.792,230.2,228.57,226.898,225.185, 223.43,221.624,219.769,218.317,216.347, 214.308,211.101,210.547,210.345,210.151 ,209.947,209.735,209.513,209.283, 209.044,208.797,208.542,208.277,208.003 ,207.719,207.427,207.124,206.81,206.486 ,206.15,205.802,205.442,205.069,204.682 ,204.279,203.861,203.426,202.617, 202.496,202.477)
ORBIT_NUMBER = 23768
ORBITAL_ECCENTRICITY = 0.576
ORBITAL_INCLINATION = 87.03
ORBITAL_SEMIMAJOR_AXIS = 8830.78
PERIAPSIS_ALTITUDE = 353.49
PERIAPSIS_ARGUMENT_ANGLE = 209.01
PERIAPSIS_TIME = 2022-10-26T10:22:09.000Z
SPACECRAFT_ORIENTATION = (0.0,-1.0,0.0)
^MEX_ORIENTATION_DESC = "MEX_ORIENTATION_DESC.TXT"
SPACECRAFT_POINTING_MODE = FIXED
^MEX_POINTING_DESC = "MEX_POINTING_DESC.TXT"
RIGHT_ASCENSION = -1e+32
DECLINATION = -1e+32
OFFSET_ANGLE = -1e+32
SPACECRAFT_SOLAR_DISTANCE = 2.21221e+08
TARGET_NAME = MARS
/* CAMERA DATA ELEMENTS */
DETECTOR_TEMPERATURE = 18.5744
FOCAL_PLANE_TEMPERATURE = 8.7872
INST_CMPRS_NAME = "DISCRETE COSINE TRANSFORMATION (DCT)"
INST_CMPRS_RATIO = 12.0237
INST_CMPRS_QUALITY = 0
INST_CMPRS_QUANTZ_TBL_ID = 0
INSTRUMENT_TEMPERATURE = 11.234
LENS_TEMPERATURE = 9.195
MACROPIXEL_SIZE = 2
MISSING_FRAMES = 0
PIXEL_SUBSAMPLING_FLAG = N
SIGNAL_CHAIN_ID = 2
/* RADIOMETRIC DATA ELEMENTS */
BANDWIDTH = 88.0
CENTER_FILTER_WAVELENGTH = 538.0
RADIANCE_OFFSET = 0.0
RADIANCE_SCALING_FACTOR = 0.00575848
REFLECTANCE_SCALING_FACTOR = 0.000242691
MEX:REFLECTANCE_OFFSET = 0.0
/* IMAGE OBJECT DEFINITIONS */
OBJECT = IMAGE
  INTERCHANGE_FORMAT = BINARY
  LINES = 2828
  LINE_SAMPLES = 3372
  SAMPLE_TYPE = UNSIGNED_INTEGER
  SAMPLE_BITS = 8
  BANDS = 1
  BAND_STORAGE_TYPE = BAND_SEQUENTIAL
  MAXIMUM = 255
  MEAN = 160.79
  MINIMUM = 1
  STANDARD_DEVIATION = 95.0809
END_OBJECT = IMAGE
/* MAP OBJECT DEFINITIONS */
OBJECT = IMAGE_MAP_PROJECTION
  ^DATA_SET_MAP_PROJECTION_CATALOG= "DSMAP.CAT"
  A_AXIS_RADIUS = 3396.0
  B_AXIS_RADIUS = 3396.0
  C_AXIS_RADIUS = 3396.0
  CENTER_LATITUDE = 21.5197
  CENTER_LONGITUDE = 228.115
  COORDINATE_SYSTEM_NAME = PLANETOGRAPHIC
  COORDINATE_SYSTEM_TYPE = "BODY-FIXED ROTATING"
  EASTERNMOST_LONGITUDE = 252.105
  FIRST_STANDARD_PARALLEL = "N/A"
  LINE_FIRST_PIXEL = 1
  LINE_LAST_PIXEL = 2828
  LINE_PROJECTION_OFFSET = 1375.0
  MAP_PROJECTION_ROTATION = 0.0
  MAP_PROJECTION_TYPE = ORTHOGRAPHIC
  MAP_RESOLUTION = 74.08922548333329
  MAP_SCALE = 0.8
  MAXIMUM_LATITUDE = 39.9001
  MINIMUM_LATITUDE = 1.34662
  POSITIVE_LONGITUDE_DIRECTION = EAST
  REFERENCE_LATITUDE = "N/A"
  REFERENCE_LONGITUDE = "N/A"
  SAMPLE_FIRST_PIXEL = 1
  SAMPLE_LAST_PIXEL = 3372
  SAMPLE_PROJECTION_OFFSET = 1812.0
  SECOND_STANDARD_PARALLEL = "N/A"
  WESTERNMOST_LONGITUDE = 202.477
END_OBJECT = IMAGE_MAP_PROJECTION
END
