PDS_VERSION_ID = PDS3
/* FILE DATA ELEMENTS */
RECORD_TYPE = UNDEFINED
/* POINTERS TO DATA OBJECTS */
^IMAGE = ("HN775_0001_BL4.TIF")
/* IDENTIFICATION DATA ELEMENTS */
DATA_SET_ID = "MEX-M-HRSC-4-REFDR-MAPPROJECT-EXT8-V4.0"
DATA_SET_NAME = "MARS EXPRESS HRSC MAP PROJECTED REFDR EXTENSION8 V4.0"
DETECTOR_ID = MEX_HRSC_BLUE
EVENT_TYPE = "MARS-TERMINATOR-CALIBRATION-Tc"
INSTRUMENT_HOST_ID = MEX
INSTRUMENT_HOST_NAME = "MARS EXPRESS"
INSTRUMENT_ID = HRSC
INSTRUMENT_NAME = "HIGH RESOLUTION STEREO CAMERA"
MISSION_NAME = "MARS EXPRESS"
MISSION_PHASE_NAME = ME_Phase_47
PROCESSING_LEVEL_ID = 4
PRODUCT_CREATION_TIME = 2023-02-07T06:07:28.000Z
PRODUCT_ID = "HN775_0001_BL4.TIF"
RELEASE_ID = 0005
REVISION_ID = 0000
/* QUALITY DATA ELEMENTS */
DATA_QUALITY_ID = 1
DATA_QUALITY_DESC = "Data calculated based on original SPICE kernels"
/* TIME DATA ELEMENTS */
SPACECRAFT_CLOCK_START_COUNT = "1/0615048145.24906"
SPACECRAFT_CLOCK_STOP_COUNT = "1/0615048443.34414"
START_TIME = 2022-10-28T14:45:25.917Z
STOP_TIME = 2022-10-28T14:46:16.301Z
/* ORBITAL DATA ELEMENTS */
ASCENDING_NODE_LONGITUDE = 131.52
MAXIMUM_RESOLUTION = 0.8391
FOOTPRINT_POINT_LATITUDE = (12.4122,12.3997,12.3726,12.3318, 12.2132,12.0499,11.8465,11.6064,11.3324 ,11.0274,10.6934,10.3316,9.94303, 9.52931,9.0911,8.629,8.14349,7.63509, 7.10383,6.54931,5.97148,5.37,4.74444, 4.09378,3.41718,2.71468,1.98525,1.22732 ,1.03312,1.04991,2.87559,3.89048, 4.88818,5.86868,6.83332,7.77989,8.71382 ,9.63819,10.5506,12.3436,14.0975, 15.8182,17.5098,19.1773,21.0259,22.6494 ,23.8566,24.057,24.0935,25.0222,25.7533 ,26.4693,27.1709,27.8577,28.5298, 29.1879,29.8323,30.4632,31.0804,31.6845 ,32.2751,32.8522,33.415,33.963,34.4987, 35.017,35.5177,36.002,36.4647,37.0239, 37.4412,37.8348,38.2034,38.5429,38.6229 ,38.6401,36.9412,35.0072,33.0759, 32.1095,31.1416,30.1714,29.1983,28.2215 ,27.2401,26.2532,25.2601,24.2595, 23.2508,22.2327,21.2041,20.1639,19.1106 ,18.0426,16.9583,15.8558,14.7332, 12.7124,12.4179,12.4122)
FOOTPRINT_POINT_LONGITUDE = (200.24,201.303,202.341,203.353,205.311 ,207.19,208.999,210.749,212.445,214.093 ,215.698,217.264,218.795,220.295, 221.765,223.209,224.629,226.028,227.407 ,228.771,230.12,231.457,232.784,234.105 ,235.419,236.729,238.034,239.338, 239.664,239.775,240.492,240.9,241.308, 241.715,242.124,242.533,242.944,243.357 ,243.772,244.612,245.466,246.339, 247.235,248.155,249.227,250.216,250.984 ,251.114,251.138,249.46,248.099,246.729 ,245.346,243.952,242.544,241.12,239.677 ,238.214,236.728,235.216,233.676, 232.105,230.5,228.86,227.175,225.451, 223.684,221.865,220.002,217.559,215.551 ,213.473,211.312,209.065,208.489, 208.278,208.006,207.652,207.251,207.034 ,206.805,206.565,206.313,206.048, 205.772,205.482,205.179,204.861,204.53, 204.183,203.82,203.44,203.042,202.624, 202.184,201.722,201.234,200.313,200.175 ,200.24)
ORBIT_NUMBER = 23775
ORBITAL_ECCENTRICITY = 0.576
ORBITAL_INCLINATION = 87.03
ORBITAL_SEMIMAJOR_AXIS = 8832.15
PERIAPSIS_ALTITUDE = 353.84
PERIAPSIS_ARGUMENT_ANGLE = 207.81
PERIAPSIS_TIME = 2022-10-28T11:15:26.000Z
SPACECRAFT_ORIENTATION = (0.0,-1.0,0.0)
^MEX_ORIENTATION_DESC = "MEX_ORIENTATION_DESC.TXT"
SPACECRAFT_POINTING_MODE = FIXED
^MEX_POINTING_DESC = "MEX_POINTING_DESC.TXT"
RIGHT_ASCENSION = -1e+32
DECLINATION = -1e+32
OFFSET_ANGLE = -1e+32
SPACECRAFT_SOLAR_DISTANCE = 2.2161e+08
TARGET_NAME = MARS
/* CAMERA DATA ELEMENTS */
DETECTOR_TEMPERATURE = 19.1861
FOCAL_PLANE_TEMPERATURE = 9.195
INST_CMPRS_NAME = "DISCRETE COSINE TRANSFORMATION (DCT)"
INST_CMPRS_RATIO = 4.25073
INST_CMPRS_QUALITY = 0
INST_CMPRS_QUANTZ_TBL_ID = 0
INSTRUMENT_TEMPERATURE = 13.4769
LENS_TEMPERATURE = 10.4184
MACROPIXEL_SIZE = 2
MISSING_FRAMES = 0
PIXEL_SUBSAMPLING_FLAG = N
SIGNAL_CHAIN_ID = 2
/* RADIOMETRIC DATA ELEMENTS */
BANDWIDTH = 76.0
CENTER_FILTER_WAVELENGTH = 444.0
RADIANCE_OFFSET = 0.0
RADIANCE_SCALING_FACTOR = 0.00363078
REFLECTANCE_SCALING_FACTOR = 0.00018325
MEX:REFLECTANCE_OFFSET = 0.0
/* IMAGE OBJECT DEFINITIONS */
OBJECT = IMAGE
  INTERCHANGE_FORMAT = BINARY
  LINES = 2779
  LINE_SAMPLES = 3461
  SAMPLE_TYPE = UNSIGNED_INTEGER
  SAMPLE_BITS = 8
  BANDS = 1
  BAND_STORAGE_TYPE = BAND_SEQUENTIAL
  MAXIMUM = 255
  MEAN = 104.729
  MINIMUM = 1
  STANDARD_DEVIATION = 80.4146
END_OBJECT = IMAGE
/* MAP OBJECT DEFINITIONS */
OBJECT = IMAGE_MAP_PROJECTION
  ^DATA_SET_MAP_PROJECTION_CATALOG= "DSMAP.CAT"
  A_AXIS_RADIUS = 3396.0
  B_AXIS_RADIUS = 3396.0
  C_AXIS_RADIUS = 3396.0
  CENTER_LATITUDE = 21.0631
  CENTER_LONGITUDE = 227.845
  COORDINATE_SYSTEM_NAME = PLANETOGRAPHIC
  COORDINATE_SYSTEM_TYPE = "BODY-FIXED ROTATING"
  EASTERNMOST_LONGITUDE = 251.138
  FIRST_STANDARD_PARALLEL = "N/A"
  LINE_FIRST_PIXEL = 1
  LINE_LAST_PIXEL = 2779
  LINE_PROJECTION_OFFSET = 1329.0
  MAP_PROJECTION_ROTATION = 0.0
  MAP_PROJECTION_TYPE = ORTHOGRAPHIC
  MAP_RESOLUTION = 74.08922548333329
  MAP_SCALE = 0.8
  MAXIMUM_LATITUDE = 38.6401
  MINIMUM_LATITUDE = 1.03312
  POSITIVE_LONGITUDE_DIRECTION = EAST
  REFERENCE_LATITUDE = "N/A"
  REFERENCE_LONGITUDE = "N/A"
  SAMPLE_FIRST_PIXEL = 1
  SAMPLE_LAST_PIXEL = 3461
  SAMPLE_PROJECTION_OFFSET = 1910.0
  SECOND_STANDARD_PARALLEL = "N/A"
  WESTERNMOST_LONGITUDE = 200.175
END_OBJECT = IMAGE_MAP_PROJECTION
END
