PDS_VERSION_ID = PDS3
/* FILE DATA ELEMENTS */
RECORD_TYPE = UNDEFINED
/* POINTERS TO DATA OBJECTS */
^IMAGE = ("HN830_0000_ND4.TIF")
/* IDENTIFICATION DATA ELEMENTS */
DATA_SET_ID = "MEX-M-HRSC-4-REFDR-MAPPROJECT-EXT8-V4.0"
DATA_SET_NAME = "MARS EXPRESS HRSC MAP PROJECTED REFDR EXTENSION8 V4.0"
DETECTOR_ID = MEX_HRSC_NADIR
EVENT_TYPE = "MARS-TERMINATOR-CALIBRATION-Tc"
INSTRUMENT_HOST_ID = MEX
INSTRUMENT_HOST_NAME = "MARS EXPRESS"
INSTRUMENT_ID = HRSC
INSTRUMENT_NAME = "HIGH RESOLUTION STEREO CAMERA"
MISSION_NAME = "MARS EXPRESS"
MISSION_PHASE_NAME = ME_Phase_47
PROCESSING_LEVEL_ID = 4
PRODUCT_CREATION_TIME = 2023-02-07T06:07:28.000Z
PRODUCT_ID = "HN830_0000_ND4.TIF"
RELEASE_ID = 0005
REVISION_ID = 0000
/* QUALITY DATA ELEMENTS */
DATA_QUALITY_ID = 1
DATA_QUALITY_DESC = "Data calculated based on original SPICE kernels"
/* TIME DATA ELEMENTS */
SPACECRAFT_CLOCK_START_COUNT = "1/0616411854.23993"
SPACECRAFT_CLOCK_STOP_COUNT = "1/0616412289.22622"
START_TIME = 2022-11-13T09:33:10.914Z
STOP_TIME = 2022-11-13T09:37:00.072Z
/* ORBITAL DATA ELEMENTS */
ASCENDING_NODE_LONGITUDE = 130.54
MAXIMUM_RESOLUTION = 0.647
FOOTPRINT_POINT_LATITUDE = (-20.0807,-20.1707,-20.5262,-20.378, -21.4222,-20.8568,-21.2236,-21.0959, -17.9049,-13.5183,-9.89651,-7.15481, -2.88449,0.549153,3.44036,6.04075, 10.5619,15.5637,18.729,21.8358,24.7211, 27.4283,29.9925,32.4366,34.7769,37.0281 ,41.3047,45.3225,49.1019,50.8975, 53.5555,55.1415,56.6117,57.9339,59.0621 ,59.9308,60.4486,60.4822,59.8338, 59.1584,58.1665,56.743,54.6818,51.445, 48.7927,46.7289,44.5445,43.3602,46.4178 ,48.4836,49.3349,50.8224,53.8864, 56.1875,56.5716,55.7961,58.4896,61.3071 ,65.152,69.9696,76.359,79.5956,82.3838, 84.7667,87.2965,86.0098,83.0008,79.4082 ,76.3643,73.4623,68.4908,65.8685, 63.3096,58.3229,55.7149,51.2822,46.342, 43.8229,40.4361,37.944,35.1909,32.5068, 28.7165,22.6221,18.7781,14.1301,11.6354 ,8.85418,5.61993,1.69134,-0.730558, -3.82488,-8.59761,-10.9465,-13.2003, -16.3692,-17.5282,-18.31,-20.0807)
FOOTPRINT_POINT_LONGITUDE = (81.3597,81.3514,83.0899,87.9362, 90.7799,94.068,98.8814,102.138,102.244, 102.488,102.772,103.037,103.54,104.023, 104.497,104.964,105.898,107.144,108.06, 109.072,110.128,111.237,112.409,113.653 ,114.981,116.407,119.61,123.415,128.031 ,130.733,135.625,139.274,143.421, 148.139,153.522,159.663,166.638,174.511 ,183.305,188.057,193.064,198.392, 204.163,210.793,214.939,217.64,220.094, 224.097,227.736,232.963,237.331,240.394 ,252.594,264.137,270.337,275.609,279.41 ,279.338,279.455,280.034,282.32,285.07, 289.721,298.414,334.588,51.5901,68.3002 ,74.7632,77.2793,78.6243,79.7559, 80.0137,80.1217,80.0443,79.896,79.5133, 78.9343,78.588,78.0737,77.6645,77.1757, 76.6723,75.9078,74.556,73.6111,72.3811, 71.6747,70.8472,69.8215,68.487,67.6101, 66.4156,64.4057,63.3289,67.003,69.7449, 73.9086,76.0043,81.3597)
ORBIT_NUMBER = 23830
ORBITAL_ECCENTRICITY = 0.576
ORBITAL_INCLINATION = 87.02
ORBITAL_SEMIMAJOR_AXIS = 8851.16
PERIAPSIS_ALTITUDE = 356.67
PERIAPSIS_ARGUMENT_ANGLE = 198.44
PERIAPSIS_TIME = 2022-11-13T11:23:49.000Z
SPACECRAFT_ORIENTATION = (0.0,-1.0,0.0)
^MEX_ORIENTATION_DESC = "MEX_ORIENTATION_DESC.TXT"
SPACECRAFT_POINTING_MODE = FIXED
^MEX_POINTING_DESC = "MEX_POINTING_DESC.TXT"
RIGHT_ASCENSION = -1e+32
DECLINATION = -1e+32
OFFSET_ANGLE = -1e+32
SPACECRAFT_SOLAR_DISTANCE = 2.24712e+08
TARGET_NAME = MARS
/* CAMERA DATA ELEMENTS */
DETECTOR_TEMPERATURE = 18.5744
FOCAL_PLANE_TEMPERATURE = 8.1755
INST_CMPRS_NAME = "DISCRETE COSINE TRANSFORMATION (DCT)"
INST_CMPRS_RATIO = 15.6592
INST_CMPRS_QUALITY = 0
INST_CMPRS_QUANTZ_TBL_ID = 0
INSTRUMENT_TEMPERATURE = 10.8262
LENS_TEMPERATURE = 9.195
MACROPIXEL_SIZE = 2
MISSING_FRAMES = 0
PIXEL_SUBSAMPLING_FLAG = N
SIGNAL_CHAIN_ID = 0
/* RADIOMETRIC DATA ELEMENTS */
BANDWIDTH = 177.0
CENTER_FILTER_WAVELENGTH = 677.5
RADIANCE_OFFSET = 0.0
RADIANCE_SCALING_FACTOR = 0.0136255
REFLECTANCE_SCALING_FACTOR = 0.000365453
MEX:REFLECTANCE_OFFSET = 0.0
/* IMAGE OBJECT DEFINITIONS */
OBJECT = IMAGE
  INTERCHANGE_FORMAT = BINARY
  LINES = 8095
  LINE_SAMPLES = 5413
  SAMPLE_TYPE = UNSIGNED_INTEGER
  SAMPLE_BITS = 8
  BANDS = 1
  BAND_STORAGE_TYPE = BAND_SEQUENTIAL
  MAXIMUM = 255
  MEAN = 132.711
  MINIMUM = 1
  STANDARD_DEVIATION = 107.529
END_OBJECT = IMAGE
/* MAP OBJECT DEFINITIONS */
OBJECT = IMAGE_MAP_PROJECTION
  ^DATA_SET_MAP_PROJECTION_CATALOG= "DSMAP.CAT"
  A_AXIS_RADIUS = 3396.0
  B_AXIS_RADIUS = 3396.0
  C_AXIS_RADIUS = 3396.0
  CENTER_LATITUDE = 50.9972
  CENTER_LONGITUDE = 103.173
  COORDINATE_SYSTEM_NAME = PLANETOGRAPHIC
  COORDINATE_SYSTEM_TYPE = "BODY-FIXED ROTATING"
  EASTERNMOST_LONGITUDE = 360.0
  FIRST_STANDARD_PARALLEL = "N/A"
  LINE_FIRST_PIXEL = 1
  LINE_LAST_PIXEL = 8095
  LINE_PROJECTION_OFFSET = 4031.0
  MAP_PROJECTION_ROTATION = 0.0
  MAP_PROJECTION_TYPE = ORTHOGRAPHIC
  MAP_RESOLUTION = 74.08922548333329
  MAP_SCALE = 0.8
  MAXIMUM_LATITUDE = 90.0
  MINIMUM_LATITUDE = -21.4222
  POSITIVE_LONGITUDE_DIRECTION = EAST
  REFERENCE_LATITUDE = "N/A"
  REFERENCE_LONGITUDE = "N/A"
  SAMPLE_FIRST_PIXEL = 1
  SAMPLE_LAST_PIXEL = 5413
  SAMPLE_PROJECTION_OFFSET = 2695.0
  SECOND_STANDARD_PARALLEL = "N/A"
  WESTERNMOST_LONGITUDE = 0.0
END_OBJECT = IMAGE_MAP_PROJECTION
END
