PDS_VERSION_ID = PDS3
/* FILE DATA ELEMENTS */
RECORD_TYPE = UNDEFINED
/* POINTERS TO DATA OBJECTS */
^IMAGE = ("HN883_0000_IR4.TIF")
/* IDENTIFICATION DATA ELEMENTS */
DATA_SET_ID = "MEX-M-HRSC-4-REFDR-MAPPROJECT-EXT8-V4.0"
DATA_SET_NAME = "MARS EXPRESS HRSC MAP PROJECTED REFDR EXTENSION8 V4.0"
DETECTOR_ID = MEX_HRSC_IR
EVENT_TYPE = "MARS-TERMINATOR-CALIBRATION-Tc"
INSTRUMENT_HOST_ID = MEX
INSTRUMENT_HOST_NAME = "MARS EXPRESS"
INSTRUMENT_ID = HRSC
INSTRUMENT_NAME = "HIGH RESOLUTION STEREO CAMERA"
MISSION_NAME = "MARS EXPRESS"
MISSION_PHASE_NAME = ME_Phase_47
PROCESSING_LEVEL_ID = 4
PRODUCT_CREATION_TIME = 2023-02-07T06:07:28.000Z
PRODUCT_ID = "HN883_0000_IR4.TIF"
RELEASE_ID = 0005
REVISION_ID = 0000
/* QUALITY DATA ELEMENTS */
DATA_QUALITY_ID = 1
DATA_QUALITY_DESC = "Data calculated based on original SPICE kernels"
/* TIME DATA ELEMENTS */
SPACECRAFT_CLOCK_START_COUNT = "1/0617762949.24917"
SPACECRAFT_CLOCK_STOP_COUNT = "1/0617763348.24050"
START_TIME = 2022-11-29T00:49:44.955Z
STOP_TIME = 2022-11-29T00:52:55.032Z
/* ORBITAL DATA ELEMENTS */
ASCENDING_NODE_LONGITUDE = 129.6
MAXIMUM_RESOLUTION = 0.839
FOOTPRINT_POINT_LATITUDE = (-69.1551,-69.215,-69.9047,-68.2962, -67.7313,-65.6599,-60.436,-56.2645, -53.5084,-51.2698,-47.6564,-45.0053, -41.1172,-35.75,-31.4303,-27.9614, -23.8522,-21.2469,-18.4373,-13.7728, -10.9703,-6.6967,-2.98701,2.38817, 6.9117,11.3261,14.1763,17.6382,22.3723, 25.3731,29.8079,34.634,37.6041,39.8269, 42.1428,45.4292,47.4682,49.7166,52.2337 ,53.655,56.2301,57.3924,59.6132,62.7723 ,66.0054,68.67,72.2266,74.9033,77.0446, 80.5173,77.5204,81.0201,80.5439,77.8325 ,75.6484,73.6526,70.8688,69.491,66.8265 ,63.222,58.0287,55.2351,52.7548,49.1709 ,45.2894,41.8129,38.619,36.1886,31.6605 ,28.4132,23.979,21.0502,17.5085,14.8804 ,11.3426,7.57684,4.76112,0.174388, -4.08702,-8.48747,-13.2608,-15.9321, -19.0601,-21.8466,-25.3702,-30.3478, -33.889,-38.6067,-40.9321,-45.2748, -48.5352,-51.1828,-53.0314,-55.6483, -57.1637,-61.2071,-63.3383,-65.3829, -66.3962,-69.1551)
FOOTPRINT_POINT_LONGITUDE = (354.249,354.245,364.108,379.343, 388.581,401.621,407.442,402.441,399.958 ,398.279,396.071,394.754,393.181, 391.561,390.621,390.051,389.551,389.328 ,389.158,389.035,389.056,389.197, 389.459,390.034,390.723,391.579,392.248 ,393.191,394.738,395.906,397.952,400.73 ,402.78,404.576,406.667,410.249,412.893 ,416.349,421.14,424.48,432.617,438.021, 443.055,439.74,435.936,432.634,427.838, 423.559,418.017,400.439,359.976,373.463 ,345.177,330.8,325.599,315.335,313.62, 319.821,328.004,335.156,341.673,344.135 ,345.916,347.989,349.726,350.941, 351.836,352.398,353.213,353.636,354.017 ,354.169,354.244,354.229,354.122, 353.899,353.659,353.127,352.476,351.63, 350.486,349.731,348.734,347.728,346.286 ,343.822,341.701,338.227,336.155, 331.469,326.907,322.142,318.689,317.615 ,323.191,327.095,335.971,339.729, 343.744,354.249)
ORBIT_NUMBER = 23883
ORBITAL_ECCENTRICITY = 0.576
ORBITAL_INCLINATION = 87.02
ORBITAL_SEMIMAJOR_AXIS = 8860.37
PERIAPSIS_ALTITUDE = 360.4
PERIAPSIS_ARGUMENT_ANGLE = 189.32
PERIAPSIS_TIME = 2022-11-28T21:33:27.000Z
SPACECRAFT_ORIENTATION = (0.0,-1.0,0.0)
^MEX_ORIENTATION_DESC = "MEX_ORIENTATION_DESC.TXT"
SPACECRAFT_POINTING_MODE = FIXED
^MEX_POINTING_DESC = "MEX_POINTING_DESC.TXT"
RIGHT_ASCENSION = -1e+32
DECLINATION = -1e+32
OFFSET_ANGLE = -1e+32
SPACECRAFT_SOLAR_DISTANCE = 2.27728e+08
TARGET_NAME = MARS
/* CAMERA DATA ELEMENTS */
DETECTOR_TEMPERATURE = 17.351
FOCAL_PLANE_TEMPERATURE = 8.1755
INST_CMPRS_NAME = "DISCRETE COSINE TRANSFORMATION (DCT)"
INST_CMPRS_RATIO = 7.8293
INST_CMPRS_QUALITY = 0
INST_CMPRS_QUANTZ_TBL_ID = 0
INSTRUMENT_TEMPERATURE = 11.0301
LENS_TEMPERATURE = 8.5833
MACROPIXEL_SIZE = 2
MISSING_FRAMES = 0
PIXEL_SUBSAMPLING_FLAG = N
SIGNAL_CHAIN_ID = 1
/* RADIOMETRIC DATA ELEMENTS */
BANDWIDTH = 81.0
CENTER_FILTER_WAVELENGTH = 955.5
RADIANCE_OFFSET = 0.0
RADIANCE_SCALING_FACTOR = 0.00466899
REFLECTANCE_SCALING_FACTOR = 0.000522498
MEX:REFLECTANCE_OFFSET = 0.0
/* IMAGE OBJECT DEFINITIONS */
OBJECT = IMAGE
  INTERCHANGE_FORMAT = BINARY
  LINES = 8171
  LINE_SAMPLES = 4294
  SAMPLE_TYPE = UNSIGNED_INTEGER
  SAMPLE_BITS = 8
  BANDS = 1
  BAND_STORAGE_TYPE = BAND_SEQUENTIAL
  MAXIMUM = 255
  MEAN = 114.367
  MINIMUM = 1
  STANDARD_DEVIATION = 98.4256
END_OBJECT = IMAGE
/* MAP OBJECT DEFINITIONS */
OBJECT = IMAGE_MAP_PROJECTION
  ^DATA_SET_MAP_PROJECTION_CATALOG= "DSMAP.CAT"
  A_AXIS_RADIUS = 3396.0
  B_AXIS_RADIUS = 3396.0
  C_AXIS_RADIUS = 3396.0
  CENTER_LATITUDE = 6.30559
  CENTER_LONGITUDE = 11.5761
  COORDINATE_SYSTEM_NAME = PLANETOGRAPHIC
  COORDINATE_SYSTEM_TYPE = "BODY-FIXED ROTATING"
  EASTERNMOST_LONGITUDE = 83.05500000000001
  FIRST_STANDARD_PARALLEL = "N/A"
  LINE_FIRST_PIXEL = 1
  LINE_LAST_PIXEL = 8171
  LINE_PROJECTION_OFFSET = 4090.0
  MAP_PROJECTION_ROTATION = 0.0
  MAP_PROJECTION_TYPE = ORTHOGRAPHIC
  MAP_RESOLUTION = 74.08922548333329
  MAP_SCALE = 0.8
  MAXIMUM_LATITUDE = 81.0201
  MINIMUM_LATITUDE = -69.90470000000001
  POSITIVE_LONGITUDE_DIRECTION = EAST
  REFERENCE_LATITUDE = "N/A"
  REFERENCE_LONGITUDE = "N/A"
  SAMPLE_FIRST_PIXEL = 1
  SAMPLE_LAST_PIXEL = 4294
  SAMPLE_PROJECTION_OFFSET = 2134.0
  SECOND_STANDARD_PARALLEL = "N/A"
  WESTERNMOST_LONGITUDE = -46.38
END_OBJECT = IMAGE_MAP_PROJECTION
END
