PDS_VERSION_ID = PDS3
/* FILE DATA ELEMENTS */
RECORD_TYPE = UNDEFINED
/* POINTERS TO DATA OBJECTS */
^IMAGE = ("HN892_0000_IR4.TIF")
/* IDENTIFICATION DATA ELEMENTS */
DATA_SET_ID = "MEX-M-HRSC-4-REFDR-MAPPROJECT-EXT8-V4.0"
DATA_SET_NAME = "MARS EXPRESS HRSC MAP PROJECTED REFDR EXTENSION8 V4.0"
DETECTOR_ID = MEX_HRSC_IR
EVENT_TYPE = "MARS-TERMINATOR-CALIBRATION-Tc"
INSTRUMENT_HOST_ID = MEX
INSTRUMENT_HOST_NAME = "MARS EXPRESS"
INSTRUMENT_ID = HRSC
INSTRUMENT_NAME = "HIGH RESOLUTION STEREO CAMERA"
MISSION_NAME = "MARS EXPRESS"
MISSION_PHASE_NAME = ME_Phase_47
PROCESSING_LEVEL_ID = 4
PRODUCT_CREATION_TIME = 2023-02-07T06:07:28.000Z
PRODUCT_ID = "HN892_0000_IR4.TIF"
RELEASE_ID = 0005
REVISION_ID = 0000
/* QUALITY DATA ELEMENTS */
DATA_QUALITY_ID = 1
DATA_QUALITY_DESC = "Data calculated based on original SPICE kernels"
/* TIME DATA ELEMENTS */
SPACECRAFT_CLOCK_START_COUNT = "1/0617968383.25721"
SPACECRAFT_CLOCK_STOP_COUNT = "1/0617968793.14006"
START_TIME = 2022-12-01T09:53:39.013Z
STOP_TIME = 2022-12-01T09:57:00.009Z
/* ORBITAL DATA ELEMENTS */
ASCENDING_NODE_LONGITUDE = 129.44
MAXIMUM_RESOLUTION = 0.775
FOOTPRINT_POINT_LATITUDE = (-48.6053,-49.1172,-49.2104,-49.4218, -49.1714,-47.9941,-49.2935,-46.7379, -44.0238,-40.1982,-37.6421,-33.9464, -31.0723,-26.4919,-22.7634,-19.5536, -15.0324,-8.07038,-0.597472,2.8757, 6.16914,9.32402,12.3697,15.3319,18.2321 ,21.0897,23.9196,26.7366,29.5547, 32.3901,35.9755,39.4545,44.5658,47.9247 ,50.1518,53.2708,54.9466,56.6124, 58.2331,59.7295,60.9031,61.2024,61.003, 60.3676,59.2974,62.5178,65.268,68.709, 70.949,73.8615,77.7868,77.1188,79.1986, 80.8752,80.0162,77.7132,75.3119,77.0427 ,77.5842,76.7616,74.1137,71.2579, 68.5158,65.9332,61.2162,56.9631,53.0592 ,49.416,45.9629,42.6611,39.4882,36.4153 ,33.4021,27.8479,24.9033,21.9473,18.962 ,15.9302,12.8257,9.42523,6.08661, 1.64501,-2.19203,-6.65389,-9.54487, -14.8412,-17.9579,-21.5431,-25.9642, -28.7813,-32.5689,-35.3344,-37.8064, -41.4026,-43.3125,-44.2082,-46.3123, -46.9061,-48.6053)
FOOTPRINT_POINT_LONGITUDE = (243.333,247.797,247.797,252.453, 258.616,262.694,267.939,273.184,277.682 ,276.284,275.507,274.583,274.0,273.275, 272.844,272.577,272.347,272.305,272.684 ,273.002,273.392,273.851,274.38,274.985 ,275.671,276.445,277.322,278.318, 279.453,280.772,282.711,284.981,289.227 ,292.879,295.819,300.995,304.488, 308.727,314.017,320.874,330.323,336.73, 345.525,352.196,358.673,0.919415, 4.59791,10.1344,14.7071,24.863, 0.0122623,42.3307,60.1103,80.0953, 107.444,121.435,136.587,152.631,175.357 ,190.302,207.572,216.911,222.641, 226.498,231.322,234.204,236.09,237.395, 238.34,239.033,239.525,239.853,240.072, 240.244,240.225,240.134,239.977,239.756 ,239.458,239.06,238.586,237.818,237.032 ,235.967,235.179,233.49,232.332,230.839 ,228.705,227.141,224.728,222.703, 220.645,224.013,228.049,233.098,236.898 ,240.783,243.333)
ORBIT_NUMBER = 23892
ORBITAL_ECCENTRICITY = 0.576
ORBITAL_INCLINATION = 87.02
ORBITAL_SEMIMAJOR_AXIS = 8852.7
PERIAPSIS_ALTITUDE = 361.1
PERIAPSIS_ARGUMENT_ANGLE = 187.8
PERIAPSIS_TIME = 2022-12-01T12:25:18.000Z
SPACECRAFT_ORIENTATION = (0.0,-1.0,0.0)
^MEX_ORIENTATION_DESC = "MEX_ORIENTATION_DESC.TXT"
SPACECRAFT_POINTING_MODE = FIXED
^MEX_POINTING_DESC = "MEX_POINTING_DESC.TXT"
RIGHT_ASCENSION = -1e+32
DECLINATION = -1e+32
OFFSET_ANGLE = -1e+32
SPACECRAFT_SOLAR_DISTANCE = 2.28238e+08
TARGET_NAME = MARS
/* CAMERA DATA ELEMENTS */
DETECTOR_TEMPERATURE = 17.7588
FOCAL_PLANE_TEMPERATURE = 8.5833
INST_CMPRS_NAME = "DISCRETE COSINE TRANSFORMATION (DCT)"
INST_CMPRS_RATIO = 8.96611
INST_CMPRS_QUALITY = 0
INST_CMPRS_QUANTZ_TBL_ID = 0
INSTRUMENT_TEMPERATURE = 11.4379
LENS_TEMPERATURE = 8.9911
MACROPIXEL_SIZE = 2
MISSING_FRAMES = 0
PIXEL_SUBSAMPLING_FLAG = N
SIGNAL_CHAIN_ID = 1
/* RADIOMETRIC DATA ELEMENTS */
BANDWIDTH = 81.0
CENTER_FILTER_WAVELENGTH = 955.5
RADIANCE_OFFSET = 0.0
RADIANCE_SCALING_FACTOR = 0.00378721
REFLECTANCE_SCALING_FACTOR = 0.000425546
MEX:REFLECTANCE_OFFSET = 0.0
/* IMAGE OBJECT DEFINITIONS */
OBJECT = IMAGE
  INTERCHANGE_FORMAT = BINARY
  LINES = 8080
  LINE_SAMPLES = 4314
  SAMPLE_TYPE = UNSIGNED_INTEGER
  SAMPLE_BITS = 8
  BANDS = 1
  BAND_STORAGE_TYPE = BAND_SEQUENTIAL
  MAXIMUM = 255
  MEAN = 124.911
  MINIMUM = 1
  STANDARD_DEVIATION = 108.759
END_OBJECT = IMAGE
/* MAP OBJECT DEFINITIONS */
OBJECT = IMAGE_MAP_PROJECTION
  ^DATA_SET_MAP_PROJECTION_CATALOG= "DSMAP.CAT"
  A_AXIS_RADIUS = 3396.0
  B_AXIS_RADIUS = 3396.0
  C_AXIS_RADIUS = 3396.0
  CENTER_LATITUDE = 26.0716
  CENTER_LONGITUDE = 258.231
  COORDINATE_SYSTEM_NAME = PLANETOGRAPHIC
  COORDINATE_SYSTEM_TYPE = "BODY-FIXED ROTATING"
  EASTERNMOST_LONGITUDE = 360.0
  FIRST_STANDARD_PARALLEL = "N/A"
  LINE_FIRST_PIXEL = 1
  LINE_LAST_PIXEL = 8080
  LINE_PROJECTION_OFFSET = 4039.0
  MAP_PROJECTION_ROTATION = 0.0
  MAP_PROJECTION_TYPE = ORTHOGRAPHIC
  MAP_RESOLUTION = 74.08922548333329
  MAP_SCALE = 0.8
  MAXIMUM_LATITUDE = 90.0
  MINIMUM_LATITUDE = -49.4218
  POSITIVE_LONGITUDE_DIRECTION = EAST
  REFERENCE_LATITUDE = "N/A"
  REFERENCE_LONGITUDE = "N/A"
  SAMPLE_FIRST_PIXEL = 1
  SAMPLE_LAST_PIXEL = 4314
  SAMPLE_PROJECTION_OFFSET = 2147.0
  SECOND_STANDARD_PARALLEL = "N/A"
  WESTERNMOST_LONGITUDE = 0.0
END_OBJECT = IMAGE_MAP_PROJECTION
END
