PDS_VERSION_ID = PDS3
/* FILE DATA ELEMENTS */
RECORD_TYPE = UNDEFINED
/* POINTERS TO DATA OBJECTS */
^IMAGE = ("HN892_0000_RE4.TIF")
/* IDENTIFICATION DATA ELEMENTS */
DATA_SET_ID = "MEX-M-HRSC-4-REFDR-MAPPROJECT-EXT8-V4.0"
DATA_SET_NAME = "MARS EXPRESS HRSC MAP PROJECTED REFDR EXTENSION8 V4.0"
DETECTOR_ID = MEX_HRSC_RED
EVENT_TYPE = "MARS-TERMINATOR-CALIBRATION-Tc"
INSTRUMENT_HOST_ID = MEX
INSTRUMENT_HOST_NAME = "MARS EXPRESS"
INSTRUMENT_ID = HRSC
INSTRUMENT_NAME = "HIGH RESOLUTION STEREO CAMERA"
MISSION_NAME = "MARS EXPRESS"
MISSION_PHASE_NAME = ME_Phase_47
PROCESSING_LEVEL_ID = 4
PRODUCT_CREATION_TIME = 2023-02-07T06:07:28.000Z
PRODUCT_ID = "HN892_0000_RE4.TIF"
RELEASE_ID = 0005
REVISION_ID = 0000
/* QUALITY DATA ELEMENTS */
DATA_QUALITY_ID = 1
DATA_QUALITY_DESC = "Data calculated based on original SPICE kernels"
/* TIME DATA ELEMENTS */
SPACECRAFT_CLOCK_START_COUNT = "1/0617968383.25721"
SPACECRAFT_CLOCK_STOP_COUNT = "1/0617968793.14006"
START_TIME = 2022-12-01T09:57:04.203Z
STOP_TIME = 2022-12-01T10:00:26.980Z
/* ORBITAL DATA ELEMENTS */
ASCENDING_NODE_LONGITUDE = 129.44
MAXIMUM_RESOLUTION = 0.7659
FOOTPRINT_POINT_LATITUDE = (-47.5365,-47.9243,-48.015,-48.0056, -47.551,-46.2621,-43.6709,-41.1491, -36.843,-31.565,-26.6305,-22.7187, -19.3916,-16.4514,-13.7928,-11.3384, -7.17942,-4.17124,-0.40406,3.09331, 6.39828,9.55773,12.6003,15.5534,18.44, 21.2782,24.0844,26.8722,30.876,33.6793, 37.0467,39.9292,43.2472,46.2867,50.6025 ,53.8483,55.4812,57.104,58.6847,60.1572 ,61.3716,61.7742,61.7548,60.9368, 60.5743,62.9112,67.3418,70.8052,73.6511 ,77.977,77.8903,79.8245,78.5826,76.7249 ,74.8515,76.0156,77.2202,77.4973, 76.7407,74.2983,71.6012,68.9731,66.477, 64.1181,61.8807,57.7126,53.871,50.2795, 46.8751,43.612,40.4687,37.4235,34.4378, 29.8463,26.9274,24.0027,21.0537,18.0635 ,15.5928,12.4719,9.24644,5.43339, -0.328375,-4.41657,-8.98093,-11.5288, -14.3476,-17.524,-21.2202,-25.8783, -28.9576,-33.5907,-37.8494,-41.4012, -41.545,-43.5885,-45.1803,-46.5205, -47.5365)
FOOTPRINT_POINT_LONGITUDE = (243.341,246.911,246.911,251.842, 260.169,269.081,276.056,275.145,273.876 ,272.715,271.94,271.499,271.231,271.071 ,270.984,270.95,271.0,271.126,271.356, 271.67,272.054,272.504,273.022,273.613, 274.28,275.032,275.879,276.841,278.456, 279.798,281.67,283.548,286.126,289.003, 294.235,299.569,302.947,307.016,312.035 ,318.419,326.915,332.417,343.601, 352.419,1.01676,4.42819,12.4124,18.8795 ,0.0257416,359.98,55.3171,75.2258, 100.732,110.832,124.162,142.286,155.666 ,175.095,188.789,205.455,214.826, 220.688,224.67,227.535,229.693,232.712, 234.699,236.078,237.074,237.812,238.35, 238.717,238.968,239.173,239.2,239.156, 239.04,238.86,238.668,238.356,237.967, 237.403,236.334,235.416,234.217,233.455 ,232.521,231.351,229.817,227.562, 225.831,222.761,219.621,224.473,228.849 ,232.715,236.989,240.436,243.341)
ORBIT_NUMBER = 23892
ORBITAL_ECCENTRICITY = 0.576
ORBITAL_INCLINATION = 87.02
ORBITAL_SEMIMAJOR_AXIS = 8852.7
PERIAPSIS_ALTITUDE = 361.1
PERIAPSIS_ARGUMENT_ANGLE = 187.8
PERIAPSIS_TIME = 2022-12-01T12:25:18.000Z
SPACECRAFT_ORIENTATION = (0.0,-1.0,0.0)
^MEX_ORIENTATION_DESC = "MEX_ORIENTATION_DESC.TXT"
SPACECRAFT_POINTING_MODE = FIXED
^MEX_POINTING_DESC = "MEX_POINTING_DESC.TXT"
RIGHT_ASCENSION = -1e+32
DECLINATION = -1e+32
OFFSET_ANGLE = -1e+32
SPACECRAFT_SOLAR_DISTANCE = 2.28238e+08
TARGET_NAME = MARS
/* CAMERA DATA ELEMENTS */
DETECTOR_TEMPERATURE = 18.7783
FOCAL_PLANE_TEMPERATURE = 8.5833
INST_CMPRS_NAME = "DISCRETE COSINE TRANSFORMATION (DCT)"
INST_CMPRS_RATIO = 15.2802
INST_CMPRS_QUALITY = 0
INST_CMPRS_QUANTZ_TBL_ID = 0
INSTRUMENT_TEMPERATURE = 11.4379
LENS_TEMPERATURE = 8.9911
MACROPIXEL_SIZE = 2
MISSING_FRAMES = 0
PIXEL_SUBSAMPLING_FLAG = N
SIGNAL_CHAIN_ID = 1
/* RADIOMETRIC DATA ELEMENTS */
BANDWIDTH = 48.0
CENTER_FILTER_WAVELENGTH = 748.0
RADIANCE_OFFSET = 0.0
RADIANCE_SCALING_FACTOR = 0.00402346
REFLECTANCE_SCALING_FACTOR = 0.000478216
MEX:REFLECTANCE_OFFSET = 0.0
/* IMAGE OBJECT DEFINITIONS */
OBJECT = IMAGE
  INTERCHANGE_FORMAT = BINARY
  LINES = 8080
  LINE_SAMPLES = 4314
  SAMPLE_TYPE = UNSIGNED_INTEGER
  SAMPLE_BITS = 8
  BANDS = 1
  BAND_STORAGE_TYPE = BAND_SEQUENTIAL
  MAXIMUM = 255
  MEAN = 121.373
  MINIMUM = 1
  STANDARD_DEVIATION = 106.022
END_OBJECT = IMAGE
/* MAP OBJECT DEFINITIONS */
OBJECT = IMAGE_MAP_PROJECTION
  ^DATA_SET_MAP_PROJECTION_CATALOG= "DSMAP.CAT"
  A_AXIS_RADIUS = 3396.0
  B_AXIS_RADIUS = 3396.0
  C_AXIS_RADIUS = 3396.0
  CENTER_LATITUDE = 26.0716
  CENTER_LONGITUDE = 258.231
  COORDINATE_SYSTEM_NAME = PLANETOGRAPHIC
  COORDINATE_SYSTEM_TYPE = "BODY-FIXED ROTATING"
  EASTERNMOST_LONGITUDE = 360.0
  FIRST_STANDARD_PARALLEL = "N/A"
  LINE_FIRST_PIXEL = 1
  LINE_LAST_PIXEL = 8080
  LINE_PROJECTION_OFFSET = 4039.0
  MAP_PROJECTION_ROTATION = 0.0
  MAP_PROJECTION_TYPE = ORTHOGRAPHIC
  MAP_RESOLUTION = 74.08922548333329
  MAP_SCALE = 0.8
  MAXIMUM_LATITUDE = 90.0
  MINIMUM_LATITUDE = -48.015
  POSITIVE_LONGITUDE_DIRECTION = EAST
  REFERENCE_LATITUDE = "N/A"
  REFERENCE_LONGITUDE = "N/A"
  SAMPLE_FIRST_PIXEL = 1
  SAMPLE_LAST_PIXEL = 4314
  SAMPLE_PROJECTION_OFFSET = 2147.0
  SECOND_STANDARD_PARALLEL = "N/A"
  WESTERNMOST_LONGITUDE = 0.0
END_OBJECT = IMAGE_MAP_PROJECTION
END
