PDS_VERSION_ID = PDS3
/* FILE DATA ELEMENTS */
RECORD_TYPE = UNDEFINED
/* POINTERS TO DATA OBJECTS */
^IMAGE = ("HN963_0000_BL4.TIF")
/* IDENTIFICATION DATA ELEMENTS */
DATA_SET_ID = "MEX-M-HRSC-4-REFDR-MAPPROJECT-EXT8-V4.0"
DATA_SET_NAME = "MARS EXPRESS HRSC MAP PROJECTED REFDR EXTENSION8 V4.0"
DETECTOR_ID = MEX_HRSC_BLUE
EVENT_TYPE = "MARS-TERMINATOR-CALIBRATION-Tc"
INSTRUMENT_HOST_ID = MEX
INSTRUMENT_HOST_NAME = "MARS EXPRESS"
INSTRUMENT_ID = HRSC
INSTRUMENT_NAME = "HIGH RESOLUTION STEREO CAMERA"
MISSION_NAME = "MARS EXPRESS"
MISSION_PHASE_NAME = ME_Phase_47
PROCESSING_LEVEL_ID = 4
PRODUCT_CREATION_TIME = 2023-02-07T06:07:28.000Z
PRODUCT_ID = "HN963_0000_BL4.TIF"
RELEASE_ID = 0005
REVISION_ID = 0000
/* QUALITY DATA ELEMENTS */
DATA_QUALITY_ID = 1
DATA_QUALITY_DESC = "Data calculated based on original SPICE kernels"
/* TIME DATA ELEMENTS */
SPACECRAFT_CLOCK_START_COUNT = "1/0619753583.25661"
SPACECRAFT_CLOCK_STOP_COUNT = "1/0619753882.31052"
START_TIME = 2022-12-22T01:49:22.067Z
STOP_TIME = 2022-12-22T01:50:16.243Z
/* ORBITAL DATA ELEMENTS */
ASCENDING_NODE_LONGITUDE = 128.17
MAXIMUM_RESOLUTION = 0.7699
FOOTPRINT_POINT_LATITUDE = (7.87429,7.83918,7.79589,7.7446,7.68514 ,7.61698,7.53993,7.45381,7.35834,7.2531 ,7.1374,7.01084,6.87297,6.72293,6.56006 ,6.38346,6.19206,5.98461,5.75947, 5.51497,5.2488,4.95845,4.64024,4.29006, 4.10146,3.90278,3.69292,3.47088,3.23501 ,3.1114,3.13166,4.74197,5.80874,7.9164, 9.99898,12.0637,13.0926,14.1195,15.1453 ,16.1704,17.1957,18.222,19.2501,20.2806 ,21.3144,22.352,23.3943,24.9681,26.024, 27.0871,28.1579,28.9659,29.2361,29.4391 ,29.6331,29.8134,29.9784,30.1299, 30.2657,30.3931,30.5141,30.6303,30.7402 ,30.9411,31.1204,31.283,31.4307,31.5655 ,31.6891,31.8012,31.9026,32.0071, 32.0886,32.1628,32.2293,32.2874,32.3395 ,32.3892,32.4322,32.469,32.5031,32.5268 ,32.5442,32.5565,32.559,32.553,29.9135, 27.8571,25.8411,23.8586,21.9031,19.9687 ,18.0502,16.1425,14.2409,12.3407,10.437 ,8.28517,8.04514,7.87429)
FOOTPRINT_POINT_LONGITUDE = (207.887,209.188,210.494,211.806, 213.125,214.455,215.797,217.151,218.521 ,219.906,221.311,222.737,224.187, 225.662,227.166,228.702,230.275,231.889 ,233.552,235.268,237.045,238.894, 240.829,242.863,243.921,245.011,246.137 ,247.302,248.512,249.136,249.155,249.22 ,249.281,249.498,249.834,250.295, 250.565,250.869,251.205,251.579,251.993 ,252.45,252.954,253.505,254.111,254.776 ,255.507,256.75,257.672,258.706,259.871 ,260.839,261.181,261.446,259.536, 257.737,256.053,254.454,252.905,251.434 ,250.036,248.703,247.416,244.957, 242.626,240.408,238.282,236.237,234.261 ,232.342,230.471,228.666,226.874, 225.119,223.395,221.699,220.03,218.385, 216.758,215.148,213.554,211.968,210.392 ,208.824,208.433,208.292,208.228, 208.184,208.143,208.107,208.074,208.044 ,208.015,207.989,207.964,207.941, 207.918,207.894,207.892,207.887)
ORBIT_NUMBER = 23963
ORBITAL_ECCENTRICITY = 0.575
ORBITAL_INCLINATION = 87.03
ORBITAL_SEMIMAJOR_AXIS = 8846.68
PERIAPSIS_ALTITUDE = 367.81
PERIAPSIS_ARGUMENT_ANGLE = 175.55
PERIAPSIS_TIME = 2022-12-22T04:18:27.000Z
SPACECRAFT_ORIENTATION = (0.0,-1.0,0.0)
^MEX_ORIENTATION_DESC = "MEX_ORIENTATION_DESC.TXT"
SPACECRAFT_POINTING_MODE = FIXED
^MEX_POINTING_DESC = "MEX_POINTING_DESC.TXT"
RIGHT_ASCENSION = -1e+32
DECLINATION = -1e+32
OFFSET_ANGLE = -1e+32
SPACECRAFT_SOLAR_DISTANCE = 2.32195e+08
TARGET_NAME = MARS
/* CAMERA DATA ELEMENTS */
DETECTOR_TEMPERATURE = 18.3705
FOCAL_PLANE_TEMPERATURE = 9.195
INST_CMPRS_NAME = "DISCRETE COSINE TRANSFORMATION (DCT)"
INST_CMPRS_RATIO = 4.51017
INST_CMPRS_QUALITY = 0
INST_CMPRS_QUANTZ_TBL_ID = 0
INSTRUMENT_TEMPERATURE = 11.4379
LENS_TEMPERATURE = 9.3989
MACROPIXEL_SIZE = 2
MISSING_FRAMES = 0
PIXEL_SUBSAMPLING_FLAG = N
SIGNAL_CHAIN_ID = 2
/* RADIOMETRIC DATA ELEMENTS */
BANDWIDTH = 76.0
CENTER_FILTER_WAVELENGTH = 444.0
RADIANCE_OFFSET = 0.0130628
RADIANCE_SCALING_FACTOR = 0.00622405
REFLECTANCE_SCALING_FACTOR = 0.000344715
MEX:REFLECTANCE_OFFSET = 0.000723476
/* IMAGE OBJECT DEFINITIONS */
OBJECT = IMAGE
  INTERCHANGE_FORMAT = BINARY
  LINES = 2106
  LINE_SAMPLES = 3464
  SAMPLE_TYPE = UNSIGNED_INTEGER
  SAMPLE_BITS = 8
  BANDS = 1
  BAND_STORAGE_TYPE = BAND_SEQUENTIAL
  MAXIMUM = 255
  MEAN = 138.701
  MINIMUM = 1
  STANDARD_DEVIATION = 75.6136
END_OBJECT = IMAGE
/* MAP OBJECT DEFINITIONS */
OBJECT = IMAGE_MAP_PROJECTION
  ^DATA_SET_MAP_PROJECTION_CATALOG= "DSMAP.CAT"
  A_AXIS_RADIUS = 3396.0
  B_AXIS_RADIUS = 3396.0
  C_AXIS_RADIUS = 3396.0
  CENTER_LATITUDE = 18.7145
  CENTER_LONGITUDE = 226.531
  COORDINATE_SYSTEM_NAME = PLANETOGRAPHIC
  COORDINATE_SYSTEM_TYPE = "BODY-FIXED ROTATING"
  EASTERNMOST_LONGITUDE = 261.446
  FIRST_STANDARD_PARALLEL = "N/A"
  LINE_FIRST_PIXEL = 1
  LINE_LAST_PIXEL = 2106
  LINE_PROJECTION_OFFSET = 1045.0
  MAP_PROJECTION_ROTATION = 0.0
  MAP_PROJECTION_TYPE = ORTHOGRAPHIC
  MAP_RESOLUTION = 74.08922548333329
  MAP_SCALE = 0.8
  MAXIMUM_LATITUDE = 32.559
  MINIMUM_LATITUDE = 3.1114
  POSITIVE_LONGITUDE_DIRECTION = EAST
  REFERENCE_LATITUDE = "N/A"
  REFERENCE_LONGITUDE = "N/A"
  SAMPLE_FIRST_PIXEL = 1
  SAMPLE_LAST_PIXEL = 3464
  SAMPLE_PROJECTION_OFFSET = 1341.0
  SECOND_STANDARD_PARALLEL = "N/A"
  WESTERNMOST_LONGITUDE = 207.887
END_OBJECT = IMAGE_MAP_PROJECTION
END
