PDS_VERSION_ID = PDS3
/* FILE DATA ELEMENTS */
RECORD_TYPE = UNDEFINED
/* POINTERS TO DATA OBJECTS */
^IMAGE = ("HN980_0000_S24.TIF")
/* IDENTIFICATION DATA ELEMENTS */
DATA_SET_ID = "MEX-M-HRSC-4-REFDR-MAPPROJECT-EXT8-V4.0"
DATA_SET_NAME = "MARS EXPRESS HRSC MAP PROJECTED REFDR EXTENSION8 V4.0"
DETECTOR_ID = MEX_HRSC_S2
EVENT_TYPE = "MARS-TERMINATOR-CALIBRATION-Tc"
INSTRUMENT_HOST_ID = MEX
INSTRUMENT_HOST_NAME = "MARS EXPRESS"
INSTRUMENT_ID = HRSC
INSTRUMENT_NAME = "HIGH RESOLUTION STEREO CAMERA"
MISSION_NAME = "MARS EXPRESS"
MISSION_PHASE_NAME = ME_Phase_47
PROCESSING_LEVEL_ID = 4
PRODUCT_CREATION_TIME = 2023-02-07T06:07:28.000Z
PRODUCT_ID = "HN980_0000_S24.TIF"
RELEASE_ID = 0005
REVISION_ID = 0000
/* QUALITY DATA ELEMENTS */
DATA_QUALITY_ID = 1
DATA_QUALITY_DESC = "Data calculated based on original SPICE kernels"
/* TIME DATA ELEMENTS */
SPACECRAFT_CLOCK_START_COUNT = "1/0620181941.24939"
SPACECRAFT_CLOCK_STOP_COUNT = "1/0620182396.18952"
START_TIME = 2022-12-27T00:50:20.068Z
STOP_TIME = 2022-12-27T00:53:50.377Z
/* ORBITAL DATA ELEMENTS */
ASCENDING_NODE_LONGITUDE = 127.87
MAXIMUM_RESOLUTION = 1.4448
FOOTPRINT_POINT_LATITUDE = (-57.6651,-57.4656,-57.6848,-55.8573, -53.853,-53.8737,-50.5557,-48.9588, -46.4784,-44.8163,-45.5501,-42.4527, -37.0382,-33.2595,-30.5913,-28.3808, -26.3687,-23.0229,-20.081,-17.4846, -13.359,-8.69987,-5.79404,-2.20162, 1.20202,4.45916,7.61698,10.6988,13.7294 ,16.7316,19.7257,22.7347,26.1584, 31.2364,34.479,37.8589,41.4132,43.2673, 45.1977,47.1979,49.2724,51.4335,53.6784 ,54.8212,55.9518,56.9944,57.3538,60.48, 64.2796,64.9937,68.3473,71.9141,76.4741 ,80.246,82.5869,85.9927,81.5477,79.7035 ,76.2677,73.404,70.9547,66.8198,63.3361 ,60.2678,57.5038,54.9603,52.5956, 48.2699,44.324,40.6813,37.2766,34.0386, 30.9091,27.8751,24.9113,21.9976,19.1133 ,14.4446,11.5558,8.63383,5.66026, 2.61306,-2.14405,-5.5011,-10.9125, -14.8945,-19.3161,-21.7419,-24.3518, -27.1781,-30.3583,-34.0251,-36.2393, -38.6695,-41.4448,-45.026,-47.2416, -50.2103,-56.0699,-57.6651)
FOOTPRINT_POINT_LONGITUDE = (262.86,270.484,270.574,278.639,283.194 ,291.97,291.873,298.564,302.524,306.677 ,309.766,310.836,310.492,306.689,304.49 ,302.906,301.589,299.74,298.344,297.306 ,295.901,294.709,294.085,293.529,293.16 ,292.957,292.884,292.941,293.128, 293.446,293.901,294.548,295.463,297.307 ,298.856,300.887,303.594,305.294, 307.362,309.869,312.975,317.001,322.552 ,326.305,331.223,338.581,345.061, 348.328,346.131,351.842,349.172,352.476 ,350.776,354.077,359.073,352.096, 187.551,213.605,230.21,237.405,241.579, 246.427,249.26,251.173,252.569,253.649, 254.514,255.826,256.793,257.534,258.115 ,258.587,258.987,259.324,259.611, 259.855,260.064,260.344,260.479,260.59, 260.677,260.741,260.793,260.791,260.724 ,260.621,260.449,260.33,260.18,259.992, 259.74,259.393,259.143,258.84,258.45, 257.854,257.43,256.774,255.108,262.86)
ORBIT_NUMBER = 23980
ORBITAL_ECCENTRICITY = 0.575
ORBITAL_INCLINATION = 87.04
ORBITAL_SEMIMAJOR_AXIS = 8853.02
PERIAPSIS_ALTITUDE = 368.7
PERIAPSIS_ARGUMENT_ANGLE = 172.69
PERIAPSIS_TIME = 2022-12-27T03:02:51.000Z
SPACECRAFT_ORIENTATION = (0.0,-1.0,0.0)
^MEX_ORIENTATION_DESC = "MEX_ORIENTATION_DESC.TXT"
SPACECRAFT_POINTING_MODE = FIXED
^MEX_POINTING_DESC = "MEX_POINTING_DESC.TXT"
RIGHT_ASCENSION = -1e+32
DECLINATION = -1e+32
OFFSET_ANGLE = -1e+32
SPACECRAFT_SOLAR_DISTANCE = 2.33115e+08
TARGET_NAME = MARS
/* CAMERA DATA ELEMENTS */
DETECTOR_TEMPERATURE = 18.7783
FOCAL_PLANE_TEMPERATURE = 8.9911
INST_CMPRS_NAME = "DISCRETE COSINE TRANSFORMATION (DCT)"
INST_CMPRS_RATIO = 19.2278
INST_CMPRS_QUALITY = 0
INST_CMPRS_QUANTZ_TBL_ID = 0
INSTRUMENT_TEMPERATURE = 11.234
LENS_TEMPERATURE = 8.9911
MACROPIXEL_SIZE = 4
MISSING_FRAMES = 0
PIXEL_SUBSAMPLING_FLAG = N
SIGNAL_CHAIN_ID = 3
/* RADIOMETRIC DATA ELEMENTS */
BANDWIDTH = 178.0
CENTER_FILTER_WAVELENGTH = 679.0
RADIANCE_OFFSET = 0.0
RADIANCE_SCALING_FACTOR = 0.0146524
REFLECTANCE_SCALING_FACTOR = 0.000421614
MEX:REFLECTANCE_OFFSET = 0.0
/* IMAGE OBJECT DEFINITIONS */
OBJECT = IMAGE
  INTERCHANGE_FORMAT = BINARY
  LINES = 4042
  LINE_SAMPLES = 1725
  SAMPLE_TYPE = UNSIGNED_INTEGER
  SAMPLE_BITS = 8
  BANDS = 1
  BAND_STORAGE_TYPE = BAND_SEQUENTIAL
  MAXIMUM = 255
  MEAN = 162.014
  MINIMUM = 1
  STANDARD_DEVIATION = 103.801
END_OBJECT = IMAGE
/* MAP OBJECT DEFINITIONS */
OBJECT = IMAGE_MAP_PROJECTION
  ^DATA_SET_MAP_PROJECTION_CATALOG= "DSMAP.CAT"
  A_AXIS_RADIUS = 3396.0
  B_AXIS_RADIUS = 3396.0
  C_AXIS_RADIUS = 3396.0
  CENTER_LATITUDE = 16.3339
  CENTER_LONGITUDE = 276.157
  COORDINATE_SYSTEM_NAME = PLANETOGRAPHIC
  COORDINATE_SYSTEM_TYPE = "BODY-FIXED ROTATING"
  EASTERNMOST_LONGITUDE = 359.073
  FIRST_STANDARD_PARALLEL = "N/A"
  LINE_FIRST_PIXEL = 1
  LINE_LAST_PIXEL = 4042
  LINE_PROJECTION_OFFSET = 2027.25
  MAP_PROJECTION_ROTATION = 0.0
  MAP_PROJECTION_TYPE = ORTHOGRAPHIC
  MAP_RESOLUTION = 37.0446127416667
  MAP_SCALE = 1.6
  MAXIMUM_LATITUDE = 85.9927
  MINIMUM_LATITUDE = -57.6848
  POSITIVE_LONGITUDE_DIRECTION = EAST
  REFERENCE_LATITUDE = "N/A"
  REFERENCE_LONGITUDE = "N/A"
  SAMPLE_FIRST_PIXEL = 1
  SAMPLE_LAST_PIXEL = 1725
  SAMPLE_PROJECTION_OFFSET = 587.25
  SECOND_STANDARD_PARALLEL = "N/A"
  WESTERNMOST_LONGITUDE = 187.551
END_OBJECT = IMAGE_MAP_PROJECTION
END
