PDS_VERSION_ID = PDS3
/* FILE DATA ELEMENTS */
RECORD_TYPE = UNDEFINED
/* POINTERS TO DATA OBJECTS */
^IMAGE = ("HN991_0000_P14.TIF")
/* IDENTIFICATION DATA ELEMENTS */
DATA_SET_ID = "MEX-M-HRSC-4-REFDR-MAPPROJECT-EXT8-V4.0"
DATA_SET_NAME = "MARS EXPRESS HRSC MAP PROJECTED REFDR EXTENSION8 V4.0"
DETECTOR_ID = MEX_HRSC_P1
EVENT_TYPE = "MARS-REGIONAL-MAPPING-Im-Fl-La"
INSTRUMENT_HOST_ID = MEX
INSTRUMENT_HOST_NAME = "MARS EXPRESS"
INSTRUMENT_ID = HRSC
INSTRUMENT_NAME = "HIGH RESOLUTION STEREO CAMERA"
MISSION_NAME = "MARS EXPRESS"
MISSION_PHASE_NAME = ME_Phase_47
PROCESSING_LEVEL_ID = 4
PRODUCT_CREATION_TIME = 2023-02-07T06:07:28.000Z
PRODUCT_ID = "HN991_0000_P14.TIF"
RELEASE_ID = 0005
REVISION_ID = 0000
/* QUALITY DATA ELEMENTS */
DATA_QUALITY_ID = 1
DATA_QUALITY_DESC = "Data calculated based on original SPICE kernels"
/* TIME DATA ELEMENTS */
SPACECRAFT_CLOCK_START_COUNT = "1/0620466479.25683"
SPACECRAFT_CLOCK_STOP_COUNT = "1/0620466848.42539"
START_TIME = 2022-12-30T07:48:48.998Z
STOP_TIME = 2022-12-30T07:53:42.357Z
/* ORBITAL DATA ELEMENTS */
ASCENDING_NODE_LONGITUDE = 127.68
MAXIMUM_RESOLUTION = 0.0309
FOOTPRINT_POINT_LATITUDE = (21.253,21.2263,21.1964,21.1561,21.155, 21.1341,20.5777,20.023,19.6526,19.2815, 18.5552,17.8309,17.2775,16.9112,16.1868 ,15.8195,15.4509,15.0831,14.715,14.3461 ,13.9772,13.6081,13.2379,12.6798, 12.1256,11.5684,11.1968,10.8243,10.2654 ,9.70576,9.33202,8.77143,8.3976,8.02343 ,7.64887,7.08646,6.71115,6.33573, 5.77275,5.39724,5.02155,4.6448,4.26791, 3.89164,3.51472,3.13742,2.76151,2.57273 ,2.54515,2.56847,2.61666,2.61738, 2.61811,3.37297,3.9389,4.31614,4.69193, 5.06911,5.44584,5.82192,6.19801,6.57414 ,7.13745,7.51299,7.88808,8.26301, 8.63809,9.01232,9.38748,9.75534,10.1324 ,10.6936,11.0662,11.4388,11.811,12.369, 12.7402,13.1109,13.6667,14.0371,14.4061 ,14.7754,15.1442,15.5128,15.8807, 16.2483,16.6156,17.1644,17.5309,18.0773 ,18.4416,18.8055,19.169,19.5372,19.9091 ,20.2795,20.6506,21.0203,21.2065, 21.253)
FOOTPRINT_POINT_LONGITUDE = (8.05052,7.56405,7.06032,6.43785, 6.42108,6.38471,6.39743,6.40993,6.41824 ,6.42606,6.44011,6.45696,6.45501, 6.45844,6.48015,6.48355,6.48551,6.48908 ,6.49271,6.49543,6.4985,6.50172,6.5036, 6.50253,6.50866,6.51056,6.51201,6.51223 ,6.51293,6.51299,6.51222,6.51146,6.511, 6.51016,6.5088,6.50605,6.50375,6.50134, 6.49804,6.49556,6.49282,6.48835,6.48361 ,6.47983,6.47495,6.46936,6.46591,6.4628 ,6.46231,6.90784,7.86897,7.88201, 7.88668,7.89269,7.89727,7.9004,7.90265, 7.90595,7.90905,7.91184,7.91475,7.91784 ,7.92212,7.92516,7.92805,7.931,7.93424, 7.93707,7.94073,7.93954,7.9449,7.95034, 7.95317,7.95629,7.9593,7.96416,7.96712, 7.97001,7.97471,7.97804,7.98081,7.98397 ,7.98717,7.99052,7.99366,7.99697, 8.00037,8.00466,8.00835,8.0124,8.01546, 8.01871,8.02199,8.02498,8.02822,8.03096 ,8.03444,8.0375,8.03877,8.05052)
ORBIT_NUMBER = 23991
ORBITAL_ECCENTRICITY = 0.574
ORBITAL_INCLINATION = 87.03
ORBITAL_SEMIMAJOR_AXIS = 8847.63
PERIAPSIS_ALTITUDE = 370.36
PERIAPSIS_ARGUMENT_ANGLE = 170.75
PERIAPSIS_TIME = 2022-12-30T07:52:21.000Z
SPACECRAFT_ORIENTATION = (0.0,-1.0,0.0)
^MEX_ORIENTATION_DESC = "MEX_ORIENTATION_DESC.TXT"
SPACECRAFT_POINTING_MODE = ACROSSTRACK
^MEX_POINTING_DESC = "MEX_POINTING_DESC.TXT"
RIGHT_ASCENSION = -1e+32
DECLINATION = -1e+32
OFFSET_ANGLE = -1.603
SPACECRAFT_SOLAR_DISTANCE = 2.33704e+08
TARGET_NAME = MARS
/* CAMERA DATA ELEMENTS */
DETECTOR_TEMPERATURE = 18.1666
FOCAL_PLANE_TEMPERATURE = 9.6028
INST_CMPRS_NAME = "DISCRETE COSINE TRANSFORMATION (DCT)"
INST_CMPRS_RATIO = 7.34007
INST_CMPRS_QUALITY = 0
INST_CMPRS_QUANTZ_TBL_ID = 0
INSTRUMENT_TEMPERATURE = 12.0496
LENS_TEMPERATURE = 10.2145
MACROPIXEL_SIZE = 2
MISSING_FRAMES = 0
PIXEL_SUBSAMPLING_FLAG = N
SIGNAL_CHAIN_ID = 3
/* RADIOMETRIC DATA ELEMENTS */
BANDWIDTH = 174.0
CENTER_FILTER_WAVELENGTH = 675.0
RADIANCE_OFFSET = 1.59862
RADIANCE_SCALING_FACTOR = 0.00802444
REFLECTANCE_SCALING_FACTOR = 0.000235738
MEX:REFLECTANCE_OFFSET = 0.0469635
/* IMAGE OBJECT DEFINITIONS */
OBJECT = IMAGE
  INTERCHANGE_FORMAT = BINARY
  LINES = 44158
  LINE_SAMPLES = 3586
  SAMPLE_TYPE = UNSIGNED_INTEGER
  SAMPLE_BITS = 8
  BANDS = 1
  BAND_STORAGE_TYPE = BAND_SEQUENTIAL
  MAXIMUM = 255
  MEAN = 91.1299
  MINIMUM = 1
  STANDARD_DEVIATION = 28.8971
END_OBJECT = IMAGE
/* MAP OBJECT DEFINITIONS */
OBJECT = IMAGE_MAP_PROJECTION
  ^DATA_SET_MAP_PROJECTION_CATALOG= "DSMAP.CAT"
  A_AXIS_RADIUS = 3396.0
  B_AXIS_RADIUS = 3396.0
  C_AXIS_RADIUS = 3396.0
  CENTER_LATITUDE = 0.0
  CENTER_LONGITUDE = 7.0
  COORDINATE_SYSTEM_NAME = PLANETOGRAPHIC
  COORDINATE_SYSTEM_TYPE = "BODY-FIXED ROTATING"
  EASTERNMOST_LONGITUDE = 8.050520000000001
  FIRST_STANDARD_PARALLEL = "N/A"
  LINE_FIRST_PIXEL = 1
  LINE_LAST_PIXEL = 44158
  LINE_PROJECTION_OFFSET = 50272.75
  MAP_PROJECTION_ROTATION = 0.0
  MAP_PROJECTION_TYPE = SINUSOIDAL
  MAP_RESOLUTION = 2370.85521546667
  MAP_SCALE = 0.025
  MAXIMUM_LATITUDE = 21.253
  MINIMUM_LATITUDE = 2.54515
  POSITIVE_LONGITUDE_DIRECTION = EAST
  REFERENCE_LATITUDE = "N/A"
  REFERENCE_LONGITUDE = "N/A"
  SAMPLE_FIRST_PIXEL = 1
  SAMPLE_LAST_PIXEL = 3586
  SAMPLE_PROJECTION_OFFSET = 1317.75
  SECOND_STANDARD_PARALLEL = "N/A"
  WESTERNMOST_LONGITUDE = 6.38471
END_OBJECT = IMAGE_MAP_PROJECTION
END
