PDS_VERSION_ID = PDS3
/* FILE DATA ELEMENTS */
RECORD_TYPE = UNDEFINED
/* POINTERS TO DATA OBJECTS */
^IMAGE = ("HN991_0000_S24.TIF")
/* IDENTIFICATION DATA ELEMENTS */
DATA_SET_ID = "MEX-M-HRSC-4-REFDR-MAPPROJECT-EXT8-V4.0"
DATA_SET_NAME = "MARS EXPRESS HRSC MAP PROJECTED REFDR EXTENSION8 V4.0"
DETECTOR_ID = MEX_HRSC_S2
EVENT_TYPE = "MARS-REGIONAL-MAPPING-Im-Fl-La"
INSTRUMENT_HOST_ID = MEX
INSTRUMENT_HOST_NAME = "MARS EXPRESS"
INSTRUMENT_ID = HRSC
INSTRUMENT_NAME = "HIGH RESOLUTION STEREO CAMERA"
MISSION_NAME = "MARS EXPRESS"
MISSION_PHASE_NAME = ME_Phase_47
PROCESSING_LEVEL_ID = 4
PRODUCT_CREATION_TIME = 2023-02-07T06:07:28.000Z
PRODUCT_ID = "HN991_0000_S24.TIF"
RELEASE_ID = 0005
REVISION_ID = 0000
/* QUALITY DATA ELEMENTS */
DATA_QUALITY_ID = 1
DATA_QUALITY_DESC = "Data calculated based on original SPICE kernels"
/* TIME DATA ELEMENTS */
SPACECRAFT_CLOCK_START_COUNT = "1/0620466479.25683"
SPACECRAFT_CLOCK_STOP_COUNT = "1/0620466848.42539"
START_TIME = 2022-12-30T07:49:51.997Z
STOP_TIME = 2022-12-30T07:54:42.285Z
/* ORBITAL DATA ELEMENTS */
ASCENDING_NODE_LONGITUDE = 127.68
MAXIMUM_RESOLUTION = 0.0321
FOOTPRINT_POINT_LATITUDE = (21.1195,21.159,21.2,21.2509,21.2523, 21.2838,20.7187,20.3414,19.7759,19.3984 ,19.0223,18.4566,18.0793,17.5124, 17.1493,16.578,16.1963,15.8219,15.2614, 14.8867,14.3253,13.9509,13.576,13.2029, 12.4563,11.8977,11.5252,10.9672,10.5963 ,10.2243,9.85379,9.48337,9.11363,8.7438 ,8.3742,8.00507,7.63671,7.08512,6.53494 ,6.16891,5.80232,5.43614,5.07145,4.7075 ,4.34504,3.98172,3.43932,2.89802, 2.71652,2.68017,2.60277,2.52523,2.52385 ,2.52385,2.88509,3.42672,3.79041, 4.15191,4.51657,4.88164,5.24596,5.61143 ,5.97776,6.34419,6.7111,7.07955,7.44723 ,7.81627,8.18532,8.73877,9.29436, 9.85998,10.2226,10.5945,10.9681,11.3404 ,11.7135,12.0863,12.6467,13.0207, 13.3951,13.9566,14.5197,15.0822,15.4573 ,15.8331,16.2084,16.5837,16.9616, 17.3366,17.7142,18.2804,18.6573,19.0336 ,19.4113,19.9775,20.3553,20.9217, 21.1112,21.1195)
FOOTPRINT_POINT_LONGITUDE = (8.01227,7.54374,7.05727,6.45376, 6.43746,6.39885,6.41009,6.41784,6.42832 ,6.4356,6.4412,6.45066,6.45697,6.46699, 6.45802,6.47205,6.48217,6.48455,6.48681 ,6.48924,6.49224,6.49433,6.49687, 6.49764,6.49957,6.49974,6.5001,6.49991, 6.49886,6.49893,6.49773,6.49654,6.49481 ,6.49334,6.49182,6.49002,6.48766, 6.48358,6.47864,6.47491,6.47199,6.46894 ,6.46473,6.46009,6.45433,6.44971, 6.44094,6.43188,6.43006,6.42947,7.14856 ,7.88222,7.89562,7.90044,7.90214, 7.90529,7.9067,7.90922,7.91076,7.91238, 7.91455,7.91649,7.91832,7.92035,7.9224, 7.92404,7.92621,7.92803,7.93004,7.9335, 7.93648,7.93566,7.94141,7.94342,7.9449, 7.94704,7.94903,7.95128,7.95441,7.95647 ,7.95851,7.96179,7.96466,7.96797, 7.97027,7.97236,7.97474,7.97716,7.97855 ,7.98127,7.98289,7.98553,7.98759, 7.98988,7.99167,7.99447,7.99624,7.999, 7.99959,8.01227)
ORBIT_NUMBER = 23991
ORBITAL_ECCENTRICITY = 0.574
ORBITAL_INCLINATION = 87.03
ORBITAL_SEMIMAJOR_AXIS = 8847.63
PERIAPSIS_ALTITUDE = 370.36
PERIAPSIS_ARGUMENT_ANGLE = 170.75
PERIAPSIS_TIME = 2022-12-30T07:52:21.000Z
SPACECRAFT_ORIENTATION = (0.0,-1.0,0.0)
^MEX_ORIENTATION_DESC = "MEX_ORIENTATION_DESC.TXT"
SPACECRAFT_POINTING_MODE = ACROSSTRACK
^MEX_POINTING_DESC = "MEX_POINTING_DESC.TXT"
RIGHT_ASCENSION = -1e+32
DECLINATION = -1e+32
OFFSET_ANGLE = -1.603
SPACECRAFT_SOLAR_DISTANCE = 2.33704e+08
TARGET_NAME = MARS
/* CAMERA DATA ELEMENTS */
DETECTOR_TEMPERATURE = 19.1861
FOCAL_PLANE_TEMPERATURE = 9.6028
INST_CMPRS_NAME = "DISCRETE COSINE TRANSFORMATION (DCT)"
INST_CMPRS_RATIO = 10.6837
INST_CMPRS_QUALITY = 0
INST_CMPRS_QUANTZ_TBL_ID = 0
INSTRUMENT_TEMPERATURE = 12.0496
LENS_TEMPERATURE = 10.2145
MACROPIXEL_SIZE = 2
MISSING_FRAMES = 0
PIXEL_SUBSAMPLING_FLAG = N
SIGNAL_CHAIN_ID = 1
/* RADIOMETRIC DATA ELEMENTS */
BANDWIDTH = 178.0
CENTER_FILTER_WAVELENGTH = 679.0
RADIANCE_OFFSET = 1.60581
RADIANCE_SCALING_FACTOR = 0.00842262
REFLECTANCE_SCALING_FACTOR = 0.000243616
MEX:REFLECTANCE_OFFSET = 0.0464465
/* IMAGE OBJECT DEFINITIONS */
OBJECT = IMAGE
  INTERCHANGE_FORMAT = BINARY
  LINES = 44158
  LINE_SAMPLES = 3586
  SAMPLE_TYPE = UNSIGNED_INTEGER
  SAMPLE_BITS = 8
  BANDS = 1
  BAND_STORAGE_TYPE = BAND_SEQUENTIAL
  MAXIMUM = 255
  MEAN = 96.3818
  MINIMUM = 1
  STANDARD_DEVIATION = 29.8015
END_OBJECT = IMAGE
/* MAP OBJECT DEFINITIONS */
OBJECT = IMAGE_MAP_PROJECTION
  ^DATA_SET_MAP_PROJECTION_CATALOG= "DSMAP.CAT"
  A_AXIS_RADIUS = 3396.0
  B_AXIS_RADIUS = 3396.0
  C_AXIS_RADIUS = 3396.0
  CENTER_LATITUDE = 0.0
  CENTER_LONGITUDE = 7.0
  COORDINATE_SYSTEM_NAME = PLANETOGRAPHIC
  COORDINATE_SYSTEM_TYPE = "BODY-FIXED ROTATING"
  EASTERNMOST_LONGITUDE = 8.012269999999999
  FIRST_STANDARD_PARALLEL = "N/A"
  LINE_FIRST_PIXEL = 1
  LINE_LAST_PIXEL = 44158
  LINE_PROJECTION_OFFSET = 50272.75
  MAP_PROJECTION_ROTATION = 0.0
  MAP_PROJECTION_TYPE = SINUSOIDAL
  MAP_RESOLUTION = 2370.85521546667
  MAP_SCALE = 0.025
  MAXIMUM_LATITUDE = 21.2838
  MINIMUM_LATITUDE = 2.52385
  POSITIVE_LONGITUDE_DIRECTION = EAST
  REFERENCE_LATITUDE = "N/A"
  REFERENCE_LONGITUDE = "N/A"
  SAMPLE_FIRST_PIXEL = 1
  SAMPLE_LAST_PIXEL = 3586
  SAMPLE_PROJECTION_OFFSET = 1317.75
  SECOND_STANDARD_PARALLEL = "N/A"
  WESTERNMOST_LONGITUDE = 6.39885
END_OBJECT = IMAGE_MAP_PROJECTION
END
