PDS_VERSION_ID = PDS3
/* FILE DATA ELEMENTS */
RECORD_TYPE = UNDEFINED
/* POINTERS TO DATA OBJECTS */
^IMAGE = ("HO000_0000_GR4.TIF")
/* IDENTIFICATION DATA ELEMENTS */
DATA_SET_ID = "MEX-M-HRSC-4-REFDR-MAPPROJECT-EXT9-V4.0"
DATA_SET_NAME = "MARS EXPRESS HRSC MAP PROJECTED REFDR EXTENSION9 V4.0"
DETECTOR_ID = MEX_HRSC_GREEN
EVENT_TYPE = "MARS-REGIONAL-MAPPING-Vo-Te"
INSTRUMENT_HOST_ID = MEX
INSTRUMENT_HOST_NAME = "MARS EXPRESS"
INSTRUMENT_ID = HRSC
INSTRUMENT_NAME = "HIGH RESOLUTION STEREO CAMERA"
MISSION_NAME = "MARS EXPRESS"
MISSION_PHASE_NAME = ME_Phase_47
PROCESSING_LEVEL_ID = 4
PRODUCT_CREATION_TIME = 2023-11-14T12:58:33.000Z
PRODUCT_ID = "HO000_0000_GR4.TIF"
RELEASE_ID = 0001
REVISION_ID = 0000
/* QUALITY DATA ELEMENTS */
DATA_QUALITY_ID = 1
DATA_QUALITY_DESC = "Data calculated based on original SPICE kernels"
/* TIME DATA ELEMENTS */
SPACECRAFT_CLOCK_START_COUNT = "1/0620692839.25670"
SPACECRAFT_CLOCK_STOP_COUNT = "1/0620693108.57595"
START_TIME = 2023-01-01T22:41:45.718Z
STOP_TIME = 2023-01-01T22:45:00.832Z
/* ORBITAL DATA ELEMENTS */
ASCENDING_NODE_LONGITUDE = 127.51
MAXIMUM_RESOLUTION = 0.0604
FOOTPRINT_POINT_LATITUDE = (18.2333,18.2293,18.224,18.215,18.2148, 18.2084,17.7149,17.2209,16.7265,16.4791 ,16.2315,15.9839,15.7362,15.4883, 15.2407,14.9923,14.7441,14.496,14.2476, 13.8589,13.6104,13.3621,13.1124,12.8646 ,12.6158,12.367,12.1181,11.7447,11.4958 ,11.2469,10.9976,10.7485,10.3748, 10.1255,9.75156,9.37773,9.12846,8.8792, 8.50533,8.25603,8.00676,7.7575,7.50826, 7.25903,7.00983,6.76066,6.38691,6.13778 ,5.88867,5.76414,5.72162,5.72371, 5.72472,5.72531,5.72532,5.72634,5.97569 ,6.22507,6.4745,6.72396,7.09814,7.34759 ,7.59714,7.84658,8.09611,8.34564, 8.71995,8.96949,9.2191,9.46857,9.84288, 10.2173,10.5914,10.9654,11.2149,11.5889 ,11.8381,12.2119,12.4611,12.7102, 12.9593,13.2083,13.4572,13.706,13.9548, 14.2196,14.4683,14.7169,15.0898,15.4624 ,15.7108,15.9591,16.3306,16.5781, 16.8258,17.0734,17.5683,18.0626,18.1861 ,18.2333)
FOOTPRINT_POINT_LONGITUDE = (168.973,168.548,168.109,167.512, 167.497,167.462,167.468,167.473,167.478 ,167.481,167.483,167.485,167.487, 167.488,167.492,167.491,167.492,167.494 ,167.495,167.496,167.497,167.499, 167.493,167.5,167.5,167.5,167.5,167.5, 167.501,167.501,167.5,167.499,167.498, 167.497,167.495,167.493,167.492,167.491 ,167.489,167.487,167.485,167.484, 167.482,167.48,167.478,167.476,167.472, 167.47,167.467,167.466,167.465,168.031, 168.446,168.85,168.862,168.866,168.868, 168.87,168.871,168.873,168.876,168.877, 168.879,168.881,168.883,168.885,168.887 ,168.889,168.891,168.893,168.896, 168.899,168.902,168.904,168.907,168.909 ,168.911,168.914,168.916,168.918,168.92 ,168.922,168.924,168.926,168.928,168.93 ,168.932,168.934,168.938,168.941, 168.943,168.946,168.948,168.949,168.951 ,168.953,168.957,168.961,168.962, 168.973)
ORBIT_NUMBER = 24000
ORBITAL_ECCENTRICITY = 0.574
ORBITAL_INCLINATION = 87.05
ORBITAL_SEMIMAJOR_AXIS = 8841.06
PERIAPSIS_ALTITUDE = 371.29
PERIAPSIS_ARGUMENT_ANGLE = 169.21
PERIAPSIS_TIME = 2023-01-01T22:43:47.000Z
SPACECRAFT_ORIENTATION = (0.0,-1.0,0.0)
^MEX_ORIENTATION_DESC = "MEX_ORIENTATION_DESC.TXT"
SPACECRAFT_POINTING_MODE = ACROSSTRACK
^MEX_POINTING_DESC = "MEX_POINTING_DESC.TXT"
RIGHT_ASCENSION = -1e+32
DECLINATION = -1e+32
OFFSET_ANGLE = -1.374
SPACECRAFT_SOLAR_DISTANCE = 2.34181e+08
TARGET_NAME = MARS
/* CAMERA DATA ELEMENTS */
DETECTOR_TEMPERATURE = 18.5744
FOCAL_PLANE_TEMPERATURE = 8.5833
INST_CMPRS_NAME = "DISCRETE COSINE TRANSFORMATION (DCT)"
INST_CMPRS_RATIO = 10.2282
INST_CMPRS_QUALITY = 0
INST_CMPRS_QUANTZ_TBL_ID = 0
INSTRUMENT_TEMPERATURE = 11.6418
LENS_TEMPERATURE = 8.9911
MACROPIXEL_SIZE = 4
PIXEL_SUBSAMPLING_FLAG = N
SIGNAL_CHAIN_ID = 2
/* RADIOMETRIC DATA ELEMENTS */
BANDWIDTH = 88.0
CENTER_FILTER_WAVELENGTH = 538.0
RADIANCE_OFFSET = 0.735913
RADIANCE_SCALING_FACTOR = 0.00179779
REFLECTANCE_SCALING_FACTOR = 8.48849e-05
MEX:REFLECTANCE_OFFSET = 0.0347469
/* IMAGE OBJECT DEFINITIONS */
OBJECT = IMAGE
  INTERCHANGE_FORMAT = BINARY
  LINES = 14827
  LINE_SAMPLES = 1723
  SAMPLE_TYPE = UNSIGNED_INTEGER
  SAMPLE_BITS = 8
  BANDS = 1
  BAND_STORAGE_TYPE = BAND_SEQUENTIAL
  MAXIMUM = 255
  MEAN = 112.777
  MINIMUM = 1
  STANDARD_DEVIATION = 42.4036
END_OBJECT = IMAGE
/* MAP OBJECT DEFINITIONS */
OBJECT = IMAGE_MAP_PROJECTION
  ^DATA_SET_MAP_PROJECTION_CATALOG= "DSMAP.CAT"
  A_AXIS_RADIUS = 3396.0
  B_AXIS_RADIUS = 3396.0
  C_AXIS_RADIUS = 3396.0
  CENTER_LATITUDE = 0.0
  CENTER_LONGITUDE = 168.0
  COORDINATE_SYSTEM_NAME = PLANETOGRAPHIC
  COORDINATE_SYSTEM_TYPE = "BODY-FIXED ROTATING"
  EASTERNMOST_LONGITUDE = 168.973
  FIRST_STANDARD_PARALLEL = "N/A"
  LINE_FIRST_PIXEL = 1
  LINE_LAST_PIXEL = 14827
  LINE_PROJECTION_OFFSET = 21608.375
  MAP_PROJECTION_ROTATION = 0.0
  MAP_PROJECTION_TYPE = SINUSOIDAL
  MAP_RESOLUTION = 1185.42760773333
  MAP_SCALE = 0.05
  MAXIMUM_LATITUDE = 18.2333
  MINIMUM_LATITUDE = 5.72162
  POSITIVE_LONGITUDE_DIRECTION = EAST
  REFERENCE_LATITUDE = "N/A"
  REFERENCE_LONGITUDE = "N/A"
  SAMPLE_FIRST_PIXEL = 1
  SAMPLE_LAST_PIXEL = 1723
  SAMPLE_PROJECTION_OFFSET = 640.375
  SECOND_STANDARD_PARALLEL = "N/A"
  WESTERNMOST_LONGITUDE = 167.462
END_OBJECT = IMAGE_MAP_PROJECTION
END
