PDS_VERSION_ID = PDS3
/* FILE DATA ELEMENTS */
RECORD_TYPE = UNDEFINED
/* POINTERS TO DATA OBJECTS */
^IMAGE = ("HO039_0000_RE4.TIF")
/* IDENTIFICATION DATA ELEMENTS */
DATA_SET_ID = "MEX-M-HRSC-4-REFDR-MAPPROJECT-EXT9-V4.0"
DATA_SET_NAME = "MARS EXPRESS HRSC MAP PROJECTED REFDR EXTENSION9 V4.0"
DETECTOR_ID = MEX_HRSC_RED
EVENT_TYPE = "MARS-REGIONAL-MAPPING-Vo-Te-Fl"
INSTRUMENT_HOST_ID = MEX
INSTRUMENT_HOST_NAME = "MARS EXPRESS"
INSTRUMENT_ID = HRSC
INSTRUMENT_NAME = "HIGH RESOLUTION STEREO CAMERA"
MISSION_NAME = "MARS EXPRESS"
MISSION_PHASE_NAME = ME_Phase_47
PROCESSING_LEVEL_ID = 4
PRODUCT_CREATION_TIME = 2023-11-14T12:58:33.000Z
PRODUCT_ID = "HO039_0000_RE4.TIF"
RELEASE_ID = 0001
REVISION_ID = 0000
/* QUALITY DATA ELEMENTS */
DATA_QUALITY_ID = 1
DATA_QUALITY_DESC = "Data calculated based on original SPICE kernels"
/* TIME DATA ELEMENTS */
SPACECRAFT_CLOCK_START_COUNT = "1/0621673425.24679"
SPACECRAFT_CLOCK_STOP_COUNT = "1/0621673743.57446"
START_TIME = 2023-01-13T07:05:31.111Z
STOP_TIME = 2023-01-13T07:08:18.170Z
/* ORBITAL DATA ELEMENTS */
ASCENDING_NODE_LONGITUDE = 126.81
MAXIMUM_RESOLUTION = 0.0629
FOOTPRINT_POINT_LATITUDE = (25.7388,25.7595,25.7802,25.7906, 25.8076,25.8082,25.8165,25.4952,25.1735 ,24.9597,24.6385,24.3175,23.9974, 23.7838,23.4632,23.2495,23.0356,22.8219 ,22.6082,22.3947,22.0743,21.7537, 21.5403,21.2203,21.0071,20.6876,20.4743 ,20.2614,19.9424,19.7296,19.5171, 19.3048,19.0928,18.8811,18.6689,18.3507 ,18.1389,17.9277,17.7163,17.5051,17.294 ,17.0833,16.8722,16.5557,16.345,16.1346 ,15.9243,15.504,15.2938,15.1888,15.1068 ,15.0774,15.0458,15.0211,15.0203,15.021 ,15.4417,15.7573,15.9682,16.1789, 16.3895,16.7061,17.023,17.3404,17.5523, 17.87,18.0819,18.294,18.5064,18.7186, 18.931,19.1434,19.356,19.5685,19.781, 19.9939,20.2068,20.4199,20.6334,20.8465 ,21.0601,21.2737,21.4877,21.8082, 22.0218,22.2356,22.4491,22.6631,22.8766 ,23.0891,23.4069,23.6188,24.1436, 24.4635,24.6772,25.0004,25.2172,25.5429 ,25.6507,25.7388)
FOOTPRINT_POINT_LONGITUDE = (145.6,145.153,144.695,144.462,144.074, 144.059,144.046,144.053,144.06,144.065, 144.071,144.077,144.083,144.086,144.092 ,144.095,144.099,144.102,144.105, 144.108,144.113,144.117,144.12,144.124, 144.127,144.13,144.132,144.134,144.137, 144.139,144.14,144.142,144.143,144.143, 144.145,144.146,144.147,144.147,144.148 ,144.148,144.148,144.148,144.148, 144.148,144.148,144.148,144.147,144.146 ,144.146,144.145,144.145,144.625, 145.145,145.558,145.571,145.575,145.576 ,145.577,145.578,145.578,145.579,145.58 ,145.581,145.582,145.582,145.583, 145.584,145.584,145.585,145.585,145.586 ,145.586,145.587,145.588,145.588, 145.589,145.589,145.59,145.59,145.59, 145.591,145.591,145.591,145.592,145.592 ,145.593,145.593,145.594,145.594, 145.595,145.596,145.597,145.601,145.602 ,145.602,145.602,145.602,145.601, 145.601,145.6)
ORBIT_NUMBER = 24039
ORBITAL_ECCENTRICITY = 0.574
ORBITAL_INCLINATION = 87.03
ORBITAL_SEMIMAJOR_AXIS = 8841.02
PERIAPSIS_ALTITUDE = 375.17
PERIAPSIS_ARGUMENT_ANGLE = 162.52
PERIAPSIS_TIME = 2023-01-13T07:07:11.000Z
SPACECRAFT_ORIENTATION = (0.0,-1.0,0.0)
^MEX_ORIENTATION_DESC = "MEX_ORIENTATION_DESC.TXT"
SPACECRAFT_POINTING_MODE = ACROSSTRACK
^MEX_POINTING_DESC = "MEX_POINTING_DESC.TXT"
RIGHT_ASCENSION = -1e+32
DECLINATION = -1e+32
OFFSET_ANGLE = -1.145
SPACECRAFT_SOLAR_DISTANCE = 2.36194e+08
TARGET_NAME = MARS
/* CAMERA DATA ELEMENTS */
DETECTOR_TEMPERATURE = 0.0
FOCAL_PLANE_TEMPERATURE = 0.0
INST_CMPRS_NAME = "DISCRETE COSINE TRANSFORMATION (DCT)"
INST_CMPRS_RATIO = 7.58115
INST_CMPRS_QUALITY = 0
INST_CMPRS_QUANTZ_TBL_ID = 0
INSTRUMENT_TEMPERATURE = 0.0
LENS_TEMPERATURE = 0.0
MACROPIXEL_SIZE = 4
MISSING_FRAMES = 0
PIXEL_SUBSAMPLING_FLAG = N
SIGNAL_CHAIN_ID = 2
/* RADIOMETRIC DATA ELEMENTS */
BANDWIDTH = 48.0
CENTER_FILTER_WAVELENGTH = 748.0
RADIANCE_OFFSET = 0.559017
RADIANCE_SCALING_FACTOR = 0.00501079
REFLECTANCE_SCALING_FACTOR = 0.000637923
MEX:REFLECTANCE_OFFSET = 0.0711683
/* IMAGE OBJECT DEFINITIONS */
OBJECT = IMAGE
  INTERCHANGE_FORMAT = BINARY
  LINES = 12690
  LINE_SAMPLES = 1655
  SAMPLE_TYPE = UNSIGNED_INTEGER
  SAMPLE_BITS = 8
  BANDS = 1
  BAND_STORAGE_TYPE = BAND_SEQUENTIAL
  MAXIMUM = 255
  MEAN = 98.1949
  MINIMUM = 1
  STANDARD_DEVIATION = 14.1907
END_OBJECT = IMAGE
/* MAP OBJECT DEFINITIONS */
OBJECT = IMAGE_MAP_PROJECTION
  ^DATA_SET_MAP_PROJECTION_CATALOG= "DSMAP.CAT"
  A_AXIS_RADIUS = 3396.0
  B_AXIS_RADIUS = 3396.0
  C_AXIS_RADIUS = 3396.0
  CENTER_LATITUDE = 0.0
  CENTER_LONGITUDE = 145.0
  COORDINATE_SYSTEM_NAME = PLANETOGRAPHIC
  COORDINATE_SYSTEM_TYPE = "BODY-FIXED ROTATING"
  EASTERNMOST_LONGITUDE = 145.602
  FIRST_STANDARD_PARALLEL = "N/A"
  LINE_FIRST_PIXEL = 1
  LINE_LAST_PIXEL = 12690
  LINE_PROJECTION_OFFSET = 28322.375
  MAP_PROJECTION_ROTATION = 0.0
  MAP_PROJECTION_TYPE = SINUSOIDAL
  MAP_RESOLUTION = 1185.42760773333
  MAP_SCALE = 0.05
  MAXIMUM_LATITUDE = 25.8165
  MINIMUM_LATITUDE = 15.0203
  POSITIVE_LONGITUDE_DIRECTION = EAST
  REFERENCE_LATITUDE = "N/A"
  REFERENCE_LONGITUDE = "N/A"
  SAMPLE_FIRST_PIXEL = 1
  SAMPLE_LAST_PIXEL = 1655
  SAMPLE_PROJECTION_OFFSET = 993.125
  SECOND_STANDARD_PARALLEL = "N/A"
  WESTERNMOST_LONGITUDE = 144.046
END_OBJECT = IMAGE_MAP_PROJECTION
END
