PDS_VERSION_ID = PDS3
/* FILE DATA ELEMENTS */
RECORD_TYPE = UNDEFINED
/* POINTERS TO DATA OBJECTS */
^IMAGE = ("HO057_0000_S24.TIF")
/* IDENTIFICATION DATA ELEMENTS */
DATA_SET_ID = "MEX-M-HRSC-4-REFDR-MAPPROJECT-EXT9-V4.0"
DATA_SET_NAME = "MARS EXPRESS HRSC MAP PROJECTED REFDR EXTENSION9 V4.0"
DETECTOR_ID = MEX_HRSC_S2
EVENT_TYPE = "MARS-REGIONAL-MAPPING-Vo-La"
INSTRUMENT_HOST_ID = MEX
INSTRUMENT_HOST_NAME = "MARS EXPRESS"
INSTRUMENT_ID = HRSC
INSTRUMENT_NAME = "HIGH RESOLUTION STEREO CAMERA"
MISSION_NAME = "MARS EXPRESS"
MISSION_PHASE_NAME = ME_Phase_47
PROCESSING_LEVEL_ID = 4
PRODUCT_CREATION_TIME = 2023-11-14T12:58:33.000Z
PRODUCT_ID = "HO057_0000_S24.TIF"
RELEASE_ID = 0001
REVISION_ID = 0000
/* QUALITY DATA ELEMENTS */
DATA_QUALITY_ID = 1
DATA_QUALITY_DESC = "Data calculated based on original SPICE kernels"
/* TIME DATA ELEMENTS */
SPACECRAFT_CLOCK_START_COUNT = "1/0622126526.23938"
SPACECRAFT_CLOCK_STOP_COUNT = "1/0622126986.58207"
START_TIME = 2023-01-18T12:57:41.085Z
STOP_TIME = 2023-01-18T13:03:40.649Z
/* ORBITAL DATA ELEMENTS */
ASCENDING_NODE_LONGITUDE = 126.5
MAXIMUM_RESOLUTION = 0.0458
FOOTPRINT_POINT_LATITUDE = (-3.67075,-3.703,-3.72608,-3.74582, -3.74639,-3.74742,-4.51043,-5.27694, -5.7502,-6.22036,-6.85275,-7.16893, -7.49352,-7.97835,-8.4685,-8.7964, -9.12724,-9.62799,-9.96269,-10.302, -10.6416,-10.984,-11.3291,-11.6754, -12.0232,-12.3749,-12.9008,-13.2486, -13.5958,-13.9417,-14.2847,-14.854, -15.2393,-15.6223,-16.0028,-16.3809, -16.7621,-17.1454,-17.5327,-17.9227, -18.5129,-18.9088,-19.3102,-19.7132, -20.1201,-20.5326,-21.156,-21.3626, -21.3789,-21.3782,-21.3674,-21.3474, -21.3222,-21.305,-21.2733,-21.2715, -21.27,-20.6517,-20.2426,-19.837, -19.4335,-19.0327,-18.6356,-18.2407, -17.8497,-17.4604,-17.0747,-16.6916, -16.3107,-15.9326,-15.3609,-14.9781, -14.592,-14.2135,-13.8702,-13.5263, -13.1806,-12.6585,-12.129,-11.6093, -11.263,-10.9183,-10.5762,-10.2369, -9.89856,-9.56344,-9.06454,-8.57081, -8.06964,-7.75399,-7.42914,-7.10743, -6.7887,-6.15507,-5.68514,-5.06038, -4.28843,-3.83508,-3.68408,-3.67075)
FOOTPRINT_POINT_LONGITUDE = (109.425,108.696,108.097,107.509, 107.491,107.485,107.455,107.425,107.405 ,107.386,107.359,107.346,107.331,107.31 ,107.288,107.273,107.258,107.235, 107.219,107.203,107.187,107.17,107.153, 107.136,107.118,107.1,107.073,107.054, 107.036,107.017,106.999,106.967,106.945 ,106.923,106.901,106.879,106.856, 106.832,106.809,106.784,106.747,106.721 ,106.695,106.668,106.641,106.613,106.57 ,106.555,106.554,106.935,107.416, 108.062,108.78,109.208,109.872,109.906, 109.918,109.885,109.864,109.844,109.825 ,109.807,109.789,109.772,109.755, 109.739,109.724,109.709,109.695,109.681 ,109.661,109.648,109.635,109.624, 109.614,109.603,109.593,109.578,109.567 ,109.551,109.543,109.535,109.527,109.52 ,109.512,109.505,109.495,109.485, 109.483,109.471,109.468,109.463,109.458 ,109.45,109.443,109.438,109.433,109.427 ,109.425,109.425)
ORBIT_NUMBER = 24057
ORBITAL_ECCENTRICITY = 0.574
ORBITAL_INCLINATION = 87.04
ORBITAL_SEMIMAJOR_AXIS = 8842.04
PERIAPSIS_ALTITUDE = 376.21
PERIAPSIS_ARGUMENT_ANGLE = 159.39
PERIAPSIS_TIME = 2023-01-18T12:50:20.000Z
SPACECRAFT_ORIENTATION = (0.0,-1.0,0.0)
^MEX_ORIENTATION_DESC = "MEX_ORIENTATION_DESC.TXT"
SPACECRAFT_POINTING_MODE = ACROSSTRACK
^MEX_POINTING_DESC = "MEX_POINTING_DESC.TXT"
RIGHT_ASCENSION = -1e+32
DECLINATION = -1e+32
OFFSET_ANGLE = 1.17
SPACECRAFT_SOLAR_DISTANCE = 2.37091e+08
TARGET_NAME = MARS
/* CAMERA DATA ELEMENTS */
DETECTOR_TEMPERATURE = 19.39
FOCAL_PLANE_TEMPERATURE = 10.4184
INST_CMPRS_NAME = "DISCRETE COSINE TRANSFORMATION (DCT)"
INST_CMPRS_RATIO = 8.51153
INST_CMPRS_QUALITY = 0
INST_CMPRS_QUANTZ_TBL_ID = 0
INSTRUMENT_TEMPERATURE = 11.8457
LENS_TEMPERATURE = 11.234
MACROPIXEL_SIZE = 2
MISSING_FRAMES = 0
PIXEL_SUBSAMPLING_FLAG = N
SIGNAL_CHAIN_ID = 1
/* RADIOMETRIC DATA ELEMENTS */
BANDWIDTH = 178.0
CENTER_FILTER_WAVELENGTH = 679.0
RADIANCE_OFFSET = 1.35954
RADIANCE_SCALING_FACTOR = 0.00840006
REFLECTANCE_SCALING_FACTOR = 0.000250059
MEX:REFLECTANCE_OFFSET = 0.0404719
/* IMAGE OBJECT DEFINITIONS */
OBJECT = IMAGE
  INTERCHANGE_FORMAT = BINARY
  LINES = 20902
  LINE_SAMPLES = 3201
  SAMPLE_TYPE = UNSIGNED_INTEGER
  SAMPLE_BITS = 8
  BANDS = 1
  BAND_STORAGE_TYPE = BAND_SEQUENTIAL
  MAXIMUM = 255
  MEAN = 122.343
  MINIMUM = 1
  STANDARD_DEVIATION = 50.1772
END_OBJECT = IMAGE
/* MAP OBJECT DEFINITIONS */
OBJECT = IMAGE_MAP_PROJECTION
  ^DATA_SET_MAP_PROJECTION_CATALOG= "DSMAP.CAT"
  A_AXIS_RADIUS = 3396.0
  B_AXIS_RADIUS = 3396.0
  C_AXIS_RADIUS = 3396.0
  CENTER_LATITUDE = 0.0
  CENTER_LONGITUDE = 108.0
  COORDINATE_SYSTEM_NAME = PLANETOGRAPHIC
  COORDINATE_SYSTEM_TYPE = "BODY-FIXED ROTATING"
  EASTERNMOST_LONGITUDE = 109.918
  FIRST_STANDARD_PARALLEL = "N/A"
  LINE_FIRST_PIXEL = 1
  LINE_LAST_PIXEL = 20902
  LINE_PROJECTION_OFFSET = -4392.25
  MAP_PROJECTION_ROTATION = 0.0
  MAP_PROJECTION_TYPE = SINUSOIDAL
  MAP_RESOLUTION = 1185.42760773333
  MAP_SCALE = 0.05
  MAXIMUM_LATITUDE = -3.67075
  MINIMUM_LATITUDE = -21.3789
  POSITIVE_LONGITUDE_DIRECTION = EAST
  REFERENCE_LATITUDE = "N/A"
  REFERENCE_LONGITUDE = "N/A"
  SAMPLE_FIRST_PIXEL = 1
  SAMPLE_LAST_PIXEL = 3201
  SAMPLE_PROJECTION_OFFSET = 1352.75
  SECOND_STANDARD_PARALLEL = "N/A"
  WESTERNMOST_LONGITUDE = 106.554
END_OBJECT = IMAGE_MAP_PROJECTION
END
