PDS_VERSION_ID = PDS3
/* FILE DATA ELEMENTS */
RECORD_TYPE = UNDEFINED
/* POINTERS TO DATA OBJECTS */
^IMAGE = ("HO096_0000_GR4.TIF")
/* IDENTIFICATION DATA ELEMENTS */
DATA_SET_ID = "MEX-M-HRSC-4-REFDR-MAPPROJECT-EXT9-V4.0"
DATA_SET_NAME = "MARS EXPRESS HRSC MAP PROJECTED REFDR EXTENSION9 V4.0"
DETECTOR_ID = MEX_HRSC_GREEN
EVENT_TYPE = "MARS-REGIONAL-MAPPING-Im-Pf-Mw"
INSTRUMENT_HOST_ID = MEX
INSTRUMENT_HOST_NAME = "MARS EXPRESS"
INSTRUMENT_ID = HRSC
INSTRUMENT_NAME = "HIGH RESOLUTION STEREO CAMERA"
MISSION_NAME = "MARS EXPRESS"
MISSION_PHASE_NAME = ME_Phase_47
PROCESSING_LEVEL_ID = 4
PRODUCT_CREATION_TIME = 2023-11-14T12:58:33.000Z
PRODUCT_ID = "HO096_0000_GR4.TIF"
RELEASE_ID = 0001
REVISION_ID = 0000
/* QUALITY DATA ELEMENTS */
DATA_QUALITY_ID = 1
DATA_QUALITY_DESC = "Data calculated based on original SPICE kernels"
/* TIME DATA ELEMENTS */
SPACECRAFT_CLOCK_START_COUNT = "1/0623106354.23985"
SPACECRAFT_CLOCK_STOP_COUNT = "1/0623106710.48352"
START_TIME = 2023-01-29T21:07:09.748Z
STOP_TIME = 2023-01-29T21:11:43.140Z
/* ORBITAL DATA ELEMENTS */
ASCENDING_NODE_LONGITUDE = 125.8
MAXIMUM_RESOLUTION = 0.0614
FOOTPRINT_POINT_LATITUDE = (46.3548,46.3358,46.3122,46.2736, 46.2726,46.2547,45.8857,45.5159,45.1486 ,44.786,44.4228,44.059,43.7032,43.347, 42.99,42.635,42.2856,41.9358,41.5854, 41.2363,40.8937,40.5508,40.2073,39.8635 ,39.5234,39.1875,38.8513,38.3461, 38.0088,37.5113,36.8527,36.1929,35.5319 ,34.8698,34.2066,33.8746,33.5424,33.21, 32.8774,32.5444,32.2115,31.8782,31.5446 ,31.2113,30.7106,30.3767,30.0427, 29.7083,29.3741,29.207,29.1607,29.1706, 29.1814,29.1868,29.187,29.188,29.6906, 30.0255,30.3603,30.8623,31.3641,31.6984 ,32.0326,32.3665,32.7003,33.0339, 33.3668,33.867,34.1998,34.5325,34.8649, 35.197,35.8606,36.523,37.1844,37.8445, 38.3512,38.6892,39.0268,39.3642,39.7011 ,40.2181,40.5629,40.9073,41.2513, 41.6007,41.9525,42.304,42.6548,43.0104, 43.369,43.7271,44.0847,44.6319,44.9967, 45.361,45.7332,46.1048,46.2903,46.3548)
FOOTPRINT_POINT_LONGITUDE = (83.8481,83.1662,82.4735,81.5467, 81.5243,81.4421,81.4823,81.5215,81.5591 ,81.5954,81.6303,81.6648,81.6976, 81.7302,81.7611,81.791,81.8198,81.8478, 81.8751,81.9018,81.9271,81.952,81.9763, 82.0,82.0229,82.0446,82.0659,82.0966, 82.1159,82.1456,82.1817,82.2157,82.248, 82.2788,82.3075,82.3212,82.3345,82.3477 ,82.3604,82.372,82.3845,82.3957,82.406, 82.4177,82.4331,82.4434,82.4535,82.4623 ,82.472,82.4767,82.4781,82.9393,83.5798 ,84.0211,84.0352,84.0399,84.0375, 84.0358,84.0341,84.0315,84.0287,84.0268 ,84.0248,84.0227,84.0206,84.0184, 84.0158,84.0126,84.0101,84.0075,84.0049 ,84.0022,83.9965,83.9904,83.984,83.9772 ,83.9717,83.9679,83.964,83.96,83.9559, 83.9493,83.9447,83.94,83.9352,83.9302, 83.9249,83.9195,83.9139,83.9082,83.9022 ,83.896,83.8897,83.8796,83.8726,83.8654 ,83.8578,83.8501,83.8461,83.8481)
ORBIT_NUMBER = 24096
ORBITAL_ECCENTRICITY = 0.573
ORBITAL_INCLINATION = 87.06
ORBITAL_SEMIMAJOR_AXIS = 8833.74
PERIAPSIS_ALTITUDE = 379.86
PERIAPSIS_ARGUMENT_ANGLE = 152.66
PERIAPSIS_TIME = 2023-01-29T21:12:18.000Z
SPACECRAFT_ORIENTATION = (0.0,-1.0,0.0)
^MEX_ORIENTATION_DESC = "MEX_ORIENTATION_DESC.TXT"
SPACECRAFT_POINTING_MODE = ACROSSTRACK
^MEX_POINTING_DESC = "MEX_POINTING_DESC.TXT"
RIGHT_ASCENSION = -1e+32
DECLINATION = -1e+32
OFFSET_ANGLE = -0.875
SPACECRAFT_SOLAR_DISTANCE = 2.38953e+08
TARGET_NAME = MARS
/* CAMERA DATA ELEMENTS */
DETECTOR_TEMPERATURE = 18.3705
FOCAL_PLANE_TEMPERATURE = 8.3794
INST_CMPRS_NAME = "DISCRETE COSINE TRANSFORMATION (DCT)"
INST_CMPRS_RATIO = 8.0885
INST_CMPRS_QUALITY = 0
INST_CMPRS_QUANTZ_TBL_ID = 0
INSTRUMENT_TEMPERATURE = 11.234
LENS_TEMPERATURE = 8.5833
MACROPIXEL_SIZE = 4
MISSING_FRAMES = 0
PIXEL_SUBSAMPLING_FLAG = N
SIGNAL_CHAIN_ID = 2
/* RADIOMETRIC DATA ELEMENTS */
BANDWIDTH = 88.0
CENTER_FILTER_WAVELENGTH = 538.0
RADIANCE_OFFSET = 0.798461
RADIANCE_SCALING_FACTOR = 0.00393
REFLECTANCE_SCALING_FACTOR = 0.000193199
MEX:REFLECTANCE_OFFSET = 0.0392523
/* IMAGE OBJECT DEFINITIONS */
OBJECT = IMAGE
  INTERCHANGE_FORMAT = BINARY
  LINES = 20369
  LINE_SAMPLES = 2357
  SAMPLE_TYPE = UNSIGNED_INTEGER
  SAMPLE_BITS = 8
  BANDS = 1
  BAND_STORAGE_TYPE = BAND_SEQUENTIAL
  MAXIMUM = 255
  MEAN = 111.48
  MINIMUM = 1
  STANDARD_DEVIATION = 20.6154
END_OBJECT = IMAGE
/* MAP OBJECT DEFINITIONS */
OBJECT = IMAGE_MAP_PROJECTION
  ^DATA_SET_MAP_PROJECTION_CATALOG= "DSMAP.CAT"
  A_AXIS_RADIUS = 3396.0
  B_AXIS_RADIUS = 3396.0
  C_AXIS_RADIUS = 3396.0
  CENTER_LATITUDE = 0.0
  CENTER_LONGITUDE = 83.0
  COORDINATE_SYSTEM_NAME = PLANETOGRAPHIC
  COORDINATE_SYSTEM_TYPE = "BODY-FIXED ROTATING"
  EASTERNMOST_LONGITUDE = 84.0399
  FIRST_STANDARD_PARALLEL = "N/A"
  LINE_FIRST_PIXEL = 1
  LINE_LAST_PIXEL = 20369
  LINE_PROJECTION_OFFSET = 54930.625
  MAP_PROJECTION_ROTATION = 0.0
  MAP_PROJECTION_TYPE = SINUSOIDAL
  MAP_RESOLUTION = 1185.42760773333
  MAP_SCALE = 0.05
  MAXIMUM_LATITUDE = 46.3548
  MINIMUM_LATITUDE = 29.1607
  POSITIVE_LONGITUDE_DIRECTION = EAST
  REFERENCE_LATITUDE = "N/A"
  REFERENCE_LONGITUDE = "N/A"
  SAMPLE_FIRST_PIXEL = 1
  SAMPLE_LAST_PIXEL = 2357
  SAMPLE_PROJECTION_OFFSET = 1279.875
  SECOND_STANDARD_PARALLEL = "N/A"
  WESTERNMOST_LONGITUDE = 81.4421
END_OBJECT = IMAGE_MAP_PROJECTION
END
