PDS_VERSION_ID = PDS3
/* FILE DATA ELEMENTS */
RECORD_TYPE = UNDEFINED
/* POINTERS TO DATA OBJECTS */
^IMAGE = ("HO125_0000_IR4.TIF")
/* IDENTIFICATION DATA ELEMENTS */
DATA_SET_ID = "MEX-M-HRSC-4-REFDR-MAPPROJECT-EXT9-V4.0"
DATA_SET_NAME = "MARS EXPRESS HRSC MAP PROJECTED REFDR EXTENSION9 V4.0"
DETECTOR_ID = MEX_HRSC_IR
EVENT_TYPE = "MARS-REGIONAL-MAPPING-Im-Eo"
INSTRUMENT_HOST_ID = MEX
INSTRUMENT_HOST_NAME = "MARS EXPRESS"
INSTRUMENT_ID = HRSC
INSTRUMENT_NAME = "HIGH RESOLUTION STEREO CAMERA"
MISSION_NAME = "MARS EXPRESS"
MISSION_PHASE_NAME = ME_Phase_47
PROCESSING_LEVEL_ID = 4
PRODUCT_CREATION_TIME = 2023-11-14T18:14:04.000Z
PRODUCT_ID = "HO125_0000_IR4.TIF"
RELEASE_ID = 0002
REVISION_ID = 0000
/* QUALITY DATA ELEMENTS */
DATA_QUALITY_ID = 1
DATA_QUALITY_DESC = "Data calculated based on original SPICE kernels"
/* TIME DATA ELEMENTS */
SPACECRAFT_CLOCK_START_COUNT = "1/0623835743.25690"
SPACECRAFT_CLOCK_STOP_COUNT = "1/0623836248.62839"
START_TIME = 2023-02-07T07:43:05.816Z
STOP_TIME = 2023-02-07T07:49:47.952Z
/* ORBITAL DATA ELEMENTS */
ASCENDING_NODE_LONGITUDE = 125.29
MAXIMUM_RESOLUTION = 0.068
FOOTPRINT_POINT_LATITUDE = (34.5911,34.6964,34.828,34.8298,34.7815 ,34.0392,33.0753,32.5898,32.1038, 31.6184,31.1312,30.3999,29.9123,29.1785 ,28.4461,27.9563,27.2216,26.488,25.9919 ,25.508,25.0158,24.5237,24.0216,23.5174 ,23.0133,22.2581,21.5023,20.9976, 20.2274,19.7109,18.9384,18.1628,17.3717 ,16.836,16.3131,15.7778,15.2357,14.6955 ,13.8751,13.3233,12.7717,12.2087, 11.6458,10.7913,10.2175,9.34474,9.0514, 8.99916,8.93452,8.83509,8.75658,8.75394 ,8.7543,9.34025,9.92324,10.4973,11.3522 ,11.9161,12.4807,13.0324,13.5846, 14.1345,14.675,15.2172,15.7537,16.2929, 16.8058,17.3355,17.8764,18.3912,18.9071 ,19.4235,19.9399,20.4563,20.9605, 21.7174,22.222,22.7258,23.2295,23.7332, 24.478,25.2171,25.7083,26.2001,26.6897, 27.1805,27.6703,28.1583,28.8948,29.6161 ,30.3547,30.8454,31.3296,31.815,32.3007 ,33.0277,33.5116,34.2409,34.4891, 34.5911)
FOOTPRINT_POINT_LONGITUDE = (6.72156,5.89282,4.7543,4.73755,4.7932, 4.78568,4.76294,4.75443,4.74568,4.73524 ,4.72614,4.71165,4.70105,4.68671, 4.66919,4.6586,4.64165,4.62233,4.61682, 4.5971,4.58638,4.57519,4.56206,4.54906, 4.53561,4.51394,4.49254,4.47907,4.46021 ,4.44489,4.41968,4.39756,4.37254, 4.36318,4.34159,4.32584,4.31018,4.29301 ,4.26858,4.25053,4.23258,4.21496, 4.19601,4.16778,4.1479,4.11765,4.10807, 4.10622,4.64512,5.41945,6.01346,6.03317 ,6.03977,6.04763,6.05413,6.06374, 6.07844,6.08764,6.09593,6.10635,6.11728 ,6.12832,6.13929,6.14866,6.16807, 6.16481,6.20308,6.21511,6.20929,6.22566 ,6.24079,6.25571,6.2712,6.28617,6.30093 ,6.32283,6.33794,6.35451,6.37162, 6.38882,6.42121,6.44164,6.45792,6.4731, 6.49217,6.50883,6.52715,6.54839,6.57168 ,6.62228,6.63973,6.65385,6.67964, 6.70253,6.72435,6.75846,6.78178,6.82107 ,6.83233,6.72156)
ORBIT_NUMBER = 24125
ORBITAL_ECCENTRICITY = 0.572
ORBITAL_INCLINATION = 87.05
ORBITAL_SEMIMAJOR_AXIS = 8820.62
PERIAPSIS_ALTITUDE = 384.16
PERIAPSIS_ARGUMENT_ANGLE = 147.67
PERIAPSIS_TIME = 2023-02-07T07:44:15.000Z
SPACECRAFT_ORIENTATION = (0.0,-1.0,0.0)
^MEX_ORIENTATION_DESC = "MEX_ORIENTATION_DESC.TXT"
SPACECRAFT_POINTING_MODE = ACROSSTRACK
^MEX_POINTING_DESC = "MEX_POINTING_DESC.TXT"
RIGHT_ASCENSION = -1e+32
DECLINATION = -1e+32
OFFSET_ANGLE = 2.75
SPACECRAFT_SOLAR_DISTANCE = 2.4026e+08
TARGET_NAME = MARS
/* CAMERA DATA ELEMENTS */
DETECTOR_TEMPERATURE = 16.9432
FOCAL_PLANE_TEMPERATURE = 7.9716
INST_CMPRS_NAME = "DISCRETE COSINE TRANSFORMATION (DCT)"
INST_CMPRS_RATIO = 10.6491
INST_CMPRS_QUALITY = 0
INST_CMPRS_QUANTZ_TBL_ID = 0
INSTRUMENT_TEMPERATURE = 11.234
LENS_TEMPERATURE = 9.195
MACROPIXEL_SIZE = 4
MISSING_FRAMES = 0
PIXEL_SUBSAMPLING_FLAG = N
SIGNAL_CHAIN_ID = 2
/* RADIOMETRIC DATA ELEMENTS */
BANDWIDTH = 81.0
CENTER_FILTER_WAVELENGTH = 955.5
RADIANCE_OFFSET = 0.693274
RADIANCE_SCALING_FACTOR = 0.00510932
REFLECTANCE_SCALING_FACTOR = 0.000636286
MEX:REFLECTANCE_OFFSET = 0.0863365
/* IMAGE OBJECT DEFINITIONS */
OBJECT = IMAGE
  INTERCHANGE_FORMAT = BINARY
  LINES = 30613
  LINE_SAMPLES = 2875
  SAMPLE_TYPE = UNSIGNED_INTEGER
  SAMPLE_BITS = 8
  BANDS = 1
  BAND_STORAGE_TYPE = BAND_SEQUENTIAL
  MAXIMUM = 255
  MEAN = 123.792
  MINIMUM = 1
  STANDARD_DEVIATION = 20.9071
END_OBJECT = IMAGE
/* MAP OBJECT DEFINITIONS */
OBJECT = IMAGE_MAP_PROJECTION
  ^DATA_SET_MAP_PROJECTION_CATALOG= "DSMAP.CAT"
  A_AXIS_RADIUS = 3396.0
  B_AXIS_RADIUS = 3396.0
  C_AXIS_RADIUS = 3396.0
  CENTER_LATITUDE = 0.0
  CENTER_LONGITUDE = 5.0
  COORDINATE_SYSTEM_NAME = PLANETOGRAPHIC
  COORDINATE_SYSTEM_TYPE = "BODY-FIXED ROTATING"
  EASTERNMOST_LONGITUDE = 6.83233
  FIRST_STANDARD_PARALLEL = "N/A"
  LINE_FIRST_PIXEL = 1
  LINE_LAST_PIXEL = 30613
  LINE_PROJECTION_OFFSET = 41139.625
  MAP_PROJECTION_ROTATION = 0.0
  MAP_PROJECTION_TYPE = SINUSOIDAL
  MAP_RESOLUTION = 1185.42760773333
  MAP_SCALE = 0.05
  MAXIMUM_LATITUDE = 34.8298
  MINIMUM_LATITUDE = 8.75394
  POSITIVE_LONGITUDE_DIRECTION = EAST
  REFERENCE_LATITUDE = "N/A"
  REFERENCE_LONGITUDE = "N/A"
  SAMPLE_FIRST_PIXEL = 1
  SAMPLE_LAST_PIXEL = 2875
  SAMPLE_PROJECTION_OFFSET = 1115.875
  SECOND_STANDARD_PARALLEL = "N/A"
  WESTERNMOST_LONGITUDE = 4.10622
END_OBJECT = IMAGE_MAP_PROJECTION
END
