PDS_VERSION_ID = PDS3
/* FILE DATA ELEMENTS */
RECORD_TYPE = UNDEFINED
/* POINTERS TO DATA OBJECTS */
^IMAGE = ("HO164_0000_IR4.TIF")
/* IDENTIFICATION DATA ELEMENTS */
DATA_SET_ID = "MEX-M-HRSC-4-REFDR-MAPPROJECT-EXT9-V4.0"
DATA_SET_NAME = "MARS EXPRESS HRSC MAP PROJECTED REFDR EXTENSION9 V4.0"
DETECTOR_ID = MEX_HRSC_IR
EVENT_TYPE = "MARS-REGIONAL-COLOR-Eb-La-Tc"
INSTRUMENT_HOST_ID = MEX
INSTRUMENT_HOST_NAME = "MARS EXPRESS"
INSTRUMENT_ID = HRSC
INSTRUMENT_NAME = "HIGH RESOLUTION STEREO CAMERA"
MISSION_NAME = "MARS EXPRESS"
MISSION_PHASE_NAME = ME_Phase_47
PROCESSING_LEVEL_ID = 4
PRODUCT_CREATION_TIME = 2023-11-14T18:14:04.000Z
PRODUCT_ID = "HO164_0000_IR4.TIF"
RELEASE_ID = 0002
REVISION_ID = 0000
/* QUALITY DATA ELEMENTS */
DATA_QUALITY_ID = 1
DATA_QUALITY_DESC = "Data calculated based on original SPICE kernels"
/* TIME DATA ELEMENTS */
SPACECRAFT_CLOCK_START_COUNT = "1/0624816454.23970"
SPACECRAFT_CLOCK_STOP_COUNT = "1/0624816785.54586"
START_TIME = 2023-02-18T16:08:16.226Z
STOP_TIME = 2023-02-18T16:12:03.967Z
/* ORBITAL DATA ELEMENTS */
ASCENDING_NODE_LONGITUDE = 124.59
MAXIMUM_RESOLUTION = 0.0339
FOOTPRINT_POINT_LATITUDE = (28.2169,28.2053,28.191,28.1701,28.1695 ,28.1228,27.7181,27.3153,27.046,26.777, 26.3734,25.8348,25.2904,25.0143,24.7385 ,24.4654,24.0504,23.7702,23.497,23.2177 ,22.9343,22.6524,22.3607,22.0745, 21.7918,21.5054,21.0789,20.6453,20.3534 ,20.0688,19.7719,19.4773,19.1812, 18.7371,18.2826,17.9798,17.5263,17.0646 ,16.7557,16.4474,15.9807,15.5038, 15.1863,14.8724,14.3931,14.0723,13.7475 ,13.5839,13.5777,13.5888,13.5937, 13.5999,13.5996,13.5975,13.5981,13.9317 ,14.253,14.5741,14.896,15.2139,15.5289, 15.8448,16.3165,16.7799,17.0898,17.5523 ,17.8536,18.158,18.461,18.7629,19.0601, 19.348,19.6456,20.0971,20.3893,20.6792, 21.114,21.4044,21.6952,21.9792,22.2594, 22.5442,22.9666,23.2464,23.5296,23.9446 ,24.2268,24.6404,24.9173,25.1956, 25.4683,25.8754,26.1449,26.4144,26.8188 ,27.358,27.762,28.0318,28.1667,28.2169)
FOOTPRINT_POINT_LONGITUDE = (339.335,338.849,338.357,337.765, 337.749,337.711,337.713,337.717,337.718 ,337.72,337.721,337.723,337.724,337.724 ,337.725,337.727,337.725,337.722, 337.723,337.724,337.723,337.722,337.714 ,337.71,337.708,337.707,337.708,337.705 ,337.7,337.701,337.697,337.695,337.691, 337.685,337.677,337.672,337.665,337.656 ,337.651,337.646,337.637,337.625, 337.616,337.612,337.603,337.596,337.588 ,337.584,337.584,338.238,338.588, 339.075,339.368,339.386,339.392,339.391 ,339.39,339.39,339.389,339.389,339.388, 339.388,339.387,339.386,339.385,339.384 ,339.383,339.383,339.382,339.381,339.38 ,339.38,339.379,339.377,339.376,339.375 ,339.374,339.373,339.372,339.371,339.37 ,339.369,339.367,339.367,339.365, 339.363,339.362,339.36,339.358,339.357, 339.356,339.353,339.352,339.35,339.348, 339.345,339.342,339.34,339.339,339.335)
ORBIT_NUMBER = 24164
ORBITAL_ECCENTRICITY = 0.571
ORBITAL_INCLINATION = 87.06
ORBITAL_SEMIMAJOR_AXIS = 8807.48
PERIAPSIS_ALTITUDE = 387.88
PERIAPSIS_ARGUMENT_ANGLE = 140.96
PERIAPSIS_TIME = 2023-02-18T16:05:57.000Z
SPACECRAFT_ORIENTATION = (0.0,-1.0,0.0)
^MEX_ORIENTATION_DESC = "MEX_ORIENTATION_DESC.TXT"
SPACECRAFT_POINTING_MODE = ACROSSTRACK
^MEX_POINTING_DESC = "MEX_POINTING_DESC.TXT"
RIGHT_ASCENSION = -1e+32
DECLINATION = -1e+32
OFFSET_ANGLE = -0.539
SPACECRAFT_SOLAR_DISTANCE = 2.41902e+08
TARGET_NAME = MARS
/* CAMERA DATA ELEMENTS */
DETECTOR_TEMPERATURE = 17.351
FOCAL_PLANE_TEMPERATURE = 8.1755
INST_CMPRS_NAME = "DISCRETE COSINE TRANSFORMATION (DCT)"
INST_CMPRS_RATIO = 4.61779
INST_CMPRS_QUALITY = 0
INST_CMPRS_QUANTZ_TBL_ID = 0
INSTRUMENT_TEMPERATURE = 10.0106
LENS_TEMPERATURE = 8.7872
MACROPIXEL_SIZE = 2
MISSING_FRAMES = 0
PIXEL_SUBSAMPLING_FLAG = N
SIGNAL_CHAIN_ID = 3
/* RADIOMETRIC DATA ELEMENTS */
BANDWIDTH = 81.0
CENTER_FILTER_WAVELENGTH = 955.5
RADIANCE_OFFSET = 0.483785
RADIANCE_SCALING_FACTOR = 0.00414811
REFLECTANCE_SCALING_FACTOR = 0.000523669
MEX:REFLECTANCE_OFFSET = 0.0610744
/* IMAGE OBJECT DEFINITIONS */
OBJECT = IMAGE
  INTERCHANGE_FORMAT = BINARY
  LINES = 34570
  LINE_SAMPLES = 4355
  SAMPLE_TYPE = UNSIGNED_INTEGER
  SAMPLE_BITS = 8
  BANDS = 1
  BAND_STORAGE_TYPE = BAND_SEQUENTIAL
  MAXIMUM = 255
  MEAN = 82.8798
  MINIMUM = 1
  STANDARD_DEVIATION = 27.9709
END_OBJECT = IMAGE
/* MAP OBJECT DEFINITIONS */
OBJECT = IMAGE_MAP_PROJECTION
  ^DATA_SET_MAP_PROJECTION_CATALOG= "DSMAP.CAT"
  A_AXIS_RADIUS = 3396.0
  B_AXIS_RADIUS = 3396.0
  C_AXIS_RADIUS = 3396.0
  CENTER_LATITUDE = 0.0
  CENTER_LONGITUDE = 339.0
  COORDINATE_SYSTEM_NAME = PLANETOGRAPHIC
  COORDINATE_SYSTEM_TYPE = "BODY-FIXED ROTATING"
  EASTERNMOST_LONGITUDE = 339.392
  FIRST_STANDARD_PARALLEL = "N/A"
  LINE_FIRST_PIXEL = 1
  LINE_LAST_PIXEL = 34570
  LINE_PROJECTION_OFFSET = 66787.25
  MAP_PROJECTION_ROTATION = 0.0
  MAP_PROJECTION_TYPE = SINUSOIDAL
  MAP_RESOLUTION = 2370.85521546667
  MAP_SCALE = 0.025
  MAXIMUM_LATITUDE = 28.2169
  MINIMUM_LATITUDE = 13.5777
  POSITIVE_LONGITUDE_DIRECTION = EAST
  REFERENCE_LATITUDE = "N/A"
  REFERENCE_LONGITUDE = "N/A"
  SAMPLE_FIRST_PIXEL = 1
  SAMPLE_LAST_PIXEL = 4355
  SAMPLE_PROJECTION_OFFSET = 3355.25
  SECOND_STANDARD_PARALLEL = "N/A"
  WESTERNMOST_LONGITUDE = 337.584
END_OBJECT = IMAGE_MAP_PROJECTION
END
