PDS_VERSION_ID = PDS3
/* FILE DATA ELEMENTS */
RECORD_TYPE = UNDEFINED
/* POINTERS TO DATA OBJECTS */
^IMAGE = ("HO265_0000_BL4.TIF")
/* IDENTIFICATION DATA ELEMENTS */
DATA_SET_ID = "MEX-M-HRSC-4-REFDR-MAPPROJECT-EXT9-V4.0"
DATA_SET_NAME = "MARS EXPRESS HRSC MAP PROJECTED REFDR EXTENSION9 V4.0"
DETECTOR_ID = MEX_HRSC_BLUE
EVENT_TYPE = "MARS-LOCAL-CARTOGRAPHY-Te-Pf-La"
INSTRUMENT_HOST_ID = MEX
INSTRUMENT_HOST_NAME = "MARS EXPRESS"
INSTRUMENT_ID = HRSC
INSTRUMENT_NAME = "HIGH RESOLUTION STEREO CAMERA"
MISSION_NAME = "MARS EXPRESS"
MISSION_PHASE_NAME = ME_Phase_47
PROCESSING_LEVEL_ID = 4
PRODUCT_CREATION_TIME = 2023-11-15T01:26:02.000Z
PRODUCT_ID = "HO265_0000_BL4.TIF"
RELEASE_ID = 0003
REVISION_ID = 0000
/* QUALITY DATA ELEMENTS */
DATA_QUALITY_ID = 1
DATA_QUALITY_DESC = "Data calculated based on original SPICE kernels"
/* TIME DATA ELEMENTS */
SPACECRAFT_CLOCK_START_COUNT = "1/0627355182.23979"
SPACECRAFT_CLOCK_STOP_COUNT = "1/0627355719.24570"
START_TIME = 2023-03-20T01:21:21.393Z
STOP_TIME = 2023-03-20T01:28:42.139Z
/* ORBITAL DATA ELEMENTS */
ASCENDING_NODE_LONGITUDE = 122.81
MAXIMUM_RESOLUTION = 0.064
FOOTPRINT_POINT_LATITUDE = (79.4566,79.3541,79.2039,79.0192, 79.0139,79.0225,78.2757,77.7779,77.2846 ,76.7905,76.3019,75.8109,75.3283, 74.6019,69.3967,68.7156,68.2684,67.8204 ,67.3717,66.9238,66.4854,66.0463, 65.6067,65.1665,64.508,63.6482,62.7868, 61.9241,61.4924,61.0605,60.6283,60.1959 ,59.7634,59.3306,58.6812,58.2482, 57.8151,57.3819,56.9487,56.5155,56.0823 ,55.649,54.5664,53.7008,52.8357,51.9714 ,51.7555,51.7095,51.7427,51.7679, 51.7683,51.7694,52.6366,53.0705,53.5049 ,53.9392,54.3736,54.8084,55.2433, 55.6784,56.1135,56.5487,56.984,57.637, 58.0724,58.5078,59.1609,59.5962,60.0314 ,60.4666,60.9018,61.3367,61.7716, 62.2062,62.6407,63.2921,63.7261,64.1598 ,64.5933,65.2567,65.7012,66.1453,66.589 ,67.0323,67.7111,68.165,68.6183,69.0712 ,69.5343,74.8409,75.5874,76.0855, 76.5923,77.0991,77.6122,78.1273,78.648, 79.1708,79.4344,79.4566)
FOOTPRINT_POINT_LONGITUDE = (97.4311,94.7924,91.7172,88.6512, 88.5719,88.2949,89.6683,90.4809,91.218, 91.8928,92.5084,93.0801,93.6007,94.3165 ,97.8254,98.142,98.3369,98.5231,98.7012 ,98.8703,99.0285,99.18,99.3249,99.4639, 99.6607,99.8992,100.12,100.323,100.418, 100.51,100.598,100.683,100.765,100.844, 100.956,101.027,101.096,101.162,101.225 ,101.287,101.345,101.402,101.534,101.63 ,101.719,101.801,101.821,101.825, 102.904,104.07,104.092,104.099,104.055, 104.032,104.008,103.984,103.958,103.932 ,103.905,103.877,103.848,103.818, 103.787,103.739,103.705,103.671,103.616 ,103.578,103.539,103.498,103.456, 103.412,103.367,103.32,103.271,103.195, 103.142,103.086,103.028,102.935,102.87, 102.802,102.731,102.656,102.536,102.451 ,102.362,102.269,102.169,100.539, 100.206,99.9622,99.6947,99.4048,99.0859 ,98.7367,98.3502,97.9227,97.6903, 97.4311)
ORBIT_NUMBER = 24265
ORBITAL_ECCENTRICITY = 0.57
ORBITAL_INCLINATION = 87.07
ORBITAL_SEMIMAJOR_AXIS = 8787.31
PERIAPSIS_ALTITUDE = 397.07
PERIAPSIS_ARGUMENT_ANGLE = 123.61
PERIAPSIS_TIME = 2023-03-20T01:27:24.000Z
SPACECRAFT_ORIENTATION = (0.0,-1.0,0.0)
^MEX_ORIENTATION_DESC = "MEX_ORIENTATION_DESC.TXT"
SPACECRAFT_POINTING_MODE = NADIR
^MEX_POINTING_DESC = "MEX_POINTING_DESC.TXT"
RIGHT_ASCENSION = -1e+32
DECLINATION = -1e+32
OFFSET_ANGLE = -1e+32
SPACECRAFT_SOLAR_DISTANCE = 2.45459e+08
TARGET_NAME = MARS
/* CAMERA DATA ELEMENTS */
DETECTOR_TEMPERATURE = 19.39
FOCAL_PLANE_TEMPERATURE = 8.7872
INST_CMPRS_NAME = "DISCRETE COSINE TRANSFORMATION (DCT)"
INST_CMPRS_RATIO = 6.12282
INST_CMPRS_QUALITY = 0
INST_CMPRS_QUANTZ_TBL_ID = 0
INSTRUMENT_TEMPERATURE = 11.234
LENS_TEMPERATURE = 9.195
MACROPIXEL_SIZE = 4
PIXEL_SUBSAMPLING_FLAG = N
SIGNAL_CHAIN_ID = 2
/* RADIOMETRIC DATA ELEMENTS */
BANDWIDTH = 76.0
CENTER_FILTER_WAVELENGTH = 444.0
RADIANCE_OFFSET = 0.521976
RADIANCE_SCALING_FACTOR = 0.00440743
REFLECTANCE_SCALING_FACTOR = 0.000272833
MEX:REFLECTANCE_OFFSET = 0.0323119
/* IMAGE OBJECT DEFINITIONS */
OBJECT = IMAGE
  INTERCHANGE_FORMAT = BINARY
  LINES = 32941
  LINE_SAMPLES = 4657
  SAMPLE_TYPE = UNSIGNED_INTEGER
  SAMPLE_BITS = 8
  BANDS = 1
  BAND_STORAGE_TYPE = BAND_SEQUENTIAL
  MAXIMUM = 255
  MEAN = 123.531
  MINIMUM = 1
  STANDARD_DEVIATION = 102.098
END_OBJECT = IMAGE
/* MAP OBJECT DEFINITIONS */
OBJECT = IMAGE_MAP_PROJECTION
  ^DATA_SET_MAP_PROJECTION_CATALOG= "DSMAP.CAT"
  A_AXIS_RADIUS = 3396.0
  B_AXIS_RADIUS = 3396.0
  C_AXIS_RADIUS = 3396.0
  CENTER_LATITUDE = 0.0
  CENTER_LONGITUDE = 102.0
  COORDINATE_SYSTEM_NAME = PLANETOGRAPHIC
  COORDINATE_SYSTEM_TYPE = "BODY-FIXED ROTATING"
  EASTERNMOST_LONGITUDE = 104.099
  FIRST_STANDARD_PARALLEL = "N/A"
  LINE_FIRST_PIXEL = 1
  LINE_LAST_PIXEL = 32941
  LINE_PROJECTION_OFFSET = 94239.625
  MAP_PROJECTION_ROTATION = 0.0
  MAP_PROJECTION_TYPE = SINUSOIDAL
  MAP_RESOLUTION = 1185.42760773333
  MAP_SCALE = 0.05
  MAXIMUM_LATITUDE = 79.45659999999999
  MINIMUM_LATITUDE = 51.7095
  POSITIVE_LONGITUDE_DIRECTION = EAST
  REFERENCE_LATITUDE = "N/A"
  REFERENCE_LONGITUDE = "N/A"
  SAMPLE_FIRST_PIXEL = 1
  SAMPLE_LAST_PIXEL = 4657
  SAMPLE_PROJECTION_OFFSET = 3118.875
  SECOND_STANDARD_PARALLEL = "N/A"
  WESTERNMOST_LONGITUDE = 88.2949
END_OBJECT = IMAGE_MAP_PROJECTION
END
