PDS_VERSION_ID = PDS3
/* FILE DATA ELEMENTS */
RECORD_TYPE = UNDEFINED
/* POINTERS TO DATA OBJECTS */
^IMAGE = ("HO269_0000_GR4.TIF")
/* IDENTIFICATION DATA ELEMENTS */
DATA_SET_ID = "MEX-M-HRSC-4-REFDR-MAPPROJECT-EXT9-V4.0"
DATA_SET_NAME = "MARS EXPRESS HRSC MAP PROJECTED REFDR EXTENSION9 V4.0"
DETECTOR_ID = MEX_HRSC_GREEN
EVENT_TYPE = "MARS-LOCAL-CARTOGRAPHY-Te-Gl-Pf"
INSTRUMENT_HOST_ID = MEX
INSTRUMENT_HOST_NAME = "MARS EXPRESS"
INSTRUMENT_ID = HRSC
INSTRUMENT_NAME = "HIGH RESOLUTION STEREO CAMERA"
MISSION_NAME = "MARS EXPRESS"
MISSION_PHASE_NAME = ME_Phase_47
PROCESSING_LEVEL_ID = 4
PRODUCT_CREATION_TIME = 2023-11-15T01:26:02.000Z
PRODUCT_ID = "HO269_0000_GR4.TIF"
RELEASE_ID = 0003
REVISION_ID = 0000
/* QUALITY DATA ELEMENTS */
DATA_QUALITY_ID = 1
DATA_QUALITY_DESC = "Data calculated based on original SPICE kernels"
/* TIME DATA ELEMENTS */
SPACECRAFT_CLOCK_START_COUNT = "1/0627455904.25082"
SPACECRAFT_CLOCK_STOP_COUNT = "1/0627456316.08178"
START_TIME = 2023-03-21T05:19:37.796Z
STOP_TIME = 2023-03-21T05:25:04.445Z
/* ORBITAL DATA ELEMENTS */
ASCENDING_NODE_LONGITUDE = 122.73
MAXIMUM_RESOLUTION = 0.0644
FOOTPRINT_POINT_LATITUDE = (71.1447,71.0601,70.9626,70.8138,70.81, 70.7593,70.3306,69.9106,69.4893,69.0667 ,68.6442,68.2296,67.8138,67.3969, 66.7709,66.3623,65.9527,65.5422,65.131, 64.7191,64.3115,63.9087,63.5054,63.1013 ,62.6967,62.2914,61.8858,61.4796,61.078 ,60.2847,59.4901,58.6939,57.8965,57.098 ,56.6984,56.2987,55.6987,55.2986, 54.8982,54.4977,53.8969,53.4962,53.0955 ,52.6949,52.294,51.4924,50.6911,50.4906 ,50.4806,50.5245,50.6005,50.6013, 50.6026,51.2068,51.8112,52.2141,52.8187 ,53.2218,53.6248,54.028,54.4311,54.8342 ,55.4387,55.8417,56.2445,56.6473, 57.0499,57.4524,57.8548,58.257,58.659, 59.0609,59.4626,59.8639,60.265,60.6659, 61.4668,61.8776,62.2881,62.6981,63.1078 ,63.5171,63.926,64.3344,64.9515,65.3694 ,65.7868,66.2036,66.6198,67.0354, 67.6725,68.0971,68.5209,68.944,69.3754, 69.8074,70.2386,70.8888,71.1086, 71.1447)
FOOTPRINT_POINT_LONGITUDE = (48.958,47.5932,46.2041,44.3436,44.2988 ,43.9675,44.306,44.6219,44.9234,45.2121 ,45.4883,45.747,45.995,46.2325,46.5724, 46.7835,46.9859,47.1806,47.3684,47.5494 ,47.7219,47.8857,48.0446,48.197,48.3444 ,48.4864,48.6243,48.7574,48.8843, 49.1224,49.3465,49.5561,49.7521,49.9362 ,50.0236,50.1095,50.232,50.3111,50.3872 ,50.4606,50.5673,50.6359,50.7021,50.767 ,50.8283,50.9468,51.0587,51.0843, 51.0856,51.8258,53.3887,53.4095,53.4163 ,53.3588,53.299,53.2575,53.1936,53.1494 ,53.104,53.0576,53.0097,52.9606,52.8844 ,52.8319,52.7778,52.7223,52.6651, 52.6063,52.5459,52.4838,52.4197,52.354, 52.2864,52.2163,52.1444,52.0703,51.9151 ,51.8318,51.7456,51.6567,51.5648, 51.4698,51.372,51.2704,51.1101,50.9966, 50.879,50.7569,50.6303,50.4989,50.2874, 50.1391,49.9844,49.8234,49.6523,49.4727 ,49.2852,48.9853,48.879,48.958)
ORBIT_NUMBER = 24269
ORBITAL_ECCENTRICITY = 0.57
ORBITAL_INCLINATION = 87.07
ORBITAL_SEMIMAJOR_AXIS = 8784.81
PERIAPSIS_ALTITUDE = 397.95
PERIAPSIS_ARGUMENT_ANGLE = 122.95
PERIAPSIS_TIME = 2023-03-21T05:23:31.000Z
SPACECRAFT_ORIENTATION = (0.0,-1.0,0.0)
^MEX_ORIENTATION_DESC = "MEX_ORIENTATION_DESC.TXT"
SPACECRAFT_POINTING_MODE = ACROSSTRACK
^MEX_POINTING_DESC = "MEX_POINTING_DESC.TXT"
RIGHT_ASCENSION = -1e+32
DECLINATION = -1e+32
OFFSET_ANGLE = -1.347
SPACECRAFT_SOLAR_DISTANCE = 2.45577e+08
TARGET_NAME = MARS
/* CAMERA DATA ELEMENTS */
DETECTOR_TEMPERATURE = 18.3705
FOCAL_PLANE_TEMPERATURE = 8.5833
INST_CMPRS_NAME = "DISCRETE COSINE TRANSFORMATION (DCT)"
INST_CMPRS_RATIO = 13.8786
INST_CMPRS_QUALITY = 0
INST_CMPRS_QUANTZ_TBL_ID = 0
INSTRUMENT_TEMPERATURE = 11.4379
LENS_TEMPERATURE = 8.9911
MACROPIXEL_SIZE = 4
MISSING_FRAMES = 0
PIXEL_SUBSAMPLING_FLAG = N
SIGNAL_CHAIN_ID = 2
/* RADIOMETRIC DATA ELEMENTS */
BANDWIDTH = 88.0
CENTER_FILTER_WAVELENGTH = 538.0
RADIANCE_OFFSET = 1.40068
RADIANCE_SCALING_FACTOR = 0.00583091
REFLECTANCE_SCALING_FACTOR = 0.000302763
MEX:REFLECTANCE_OFFSET = 0.0727289
/* IMAGE OBJECT DEFINITIONS */
OBJECT = IMAGE
  INTERCHANGE_FORMAT = BINARY
  LINES = 24458
  LINE_SAMPLES = 4579
  SAMPLE_TYPE = UNSIGNED_INTEGER
  SAMPLE_BITS = 8
  BANDS = 1
  BAND_STORAGE_TYPE = BAND_SEQUENTIAL
  MAXIMUM = 255
  MEAN = 84.1885
  MINIMUM = 1
  STANDARD_DEVIATION = 74.9676
END_OBJECT = IMAGE
/* MAP OBJECT DEFINITIONS */
OBJECT = IMAGE_MAP_PROJECTION
  ^DATA_SET_MAP_PROJECTION_CATALOG= "DSMAP.CAT"
  A_AXIS_RADIUS = 3396.0
  B_AXIS_RADIUS = 3396.0
  C_AXIS_RADIUS = 3396.0
  CENTER_LATITUDE = 0.0
  CENTER_LONGITUDE = 51.0
  COORDINATE_SYSTEM_NAME = PLANETOGRAPHIC
  COORDINATE_SYSTEM_TYPE = "BODY-FIXED ROTATING"
  EASTERNMOST_LONGITUDE = 53.4163
  FIRST_STANDARD_PARALLEL = "N/A"
  LINE_FIRST_PIXEL = 1
  LINE_LAST_PIXEL = 24458
  LINE_PROJECTION_OFFSET = 84308.625
  MAP_PROJECTION_ROTATION = 0.0
  MAP_PROJECTION_TYPE = SINUSOIDAL
  MAP_RESOLUTION = 1185.42760773333
  MAP_SCALE = 0.05
  MAXIMUM_LATITUDE = 71.1447
  MINIMUM_LATITUDE = 50.4806
  POSITIVE_LONGITUDE_DIRECTION = EAST
  REFERENCE_LATITUDE = "N/A"
  REFERENCE_LONGITUDE = "N/A"
  SAMPLE_FIRST_PIXEL = 1
  SAMPLE_LAST_PIXEL = 4579
  SAMPLE_PROJECTION_OFFSET = 2756.125
  SECOND_STANDARD_PARALLEL = "N/A"
  WESTERNMOST_LONGITUDE = 43.9675
END_OBJECT = IMAGE_MAP_PROJECTION
END
