PDS_VERSION_ID = PDS3
/* FILE DATA ELEMENTS */
RECORD_TYPE = UNDEFINED
/* POINTERS TO DATA OBJECTS */
^IMAGE = ("HO271_0000_S24.TIF")
/* IDENTIFICATION DATA ELEMENTS */
DATA_SET_ID = "MEX-M-HRSC-4-REFDR-MAPPROJECT-EXT9-V4.0"
DATA_SET_NAME = "MARS EXPRESS HRSC MAP PROJECTED REFDR EXTENSION9 V4.0"
DETECTOR_ID = MEX_HRSC_S2
EVENT_TYPE = "MARS-LOCAL-CARTOGRAPHY-Eo-Mw-Ls"
INSTRUMENT_HOST_ID = MEX
INSTRUMENT_HOST_NAME = "MARS EXPRESS"
INSTRUMENT_ID = HRSC
INSTRUMENT_NAME = "HIGH RESOLUTION STEREO CAMERA"
MISSION_NAME = "MARS EXPRESS"
MISSION_PHASE_NAME = ME_Phase_47
PROCESSING_LEVEL_ID = 4
PRODUCT_CREATION_TIME = 2023-11-15T01:26:02.000Z
PRODUCT_ID = "HO271_0000_S24.TIF"
RELEASE_ID = 0003
REVISION_ID = 0000
/* QUALITY DATA ELEMENTS */
DATA_QUALITY_ID = 1
DATA_QUALITY_DESC = "Data calculated based on original SPICE kernels"
/* TIME DATA ELEMENTS */
SPACECRAFT_CLOCK_START_COUNT = "1/0627506738.23954"
SPACECRAFT_CLOCK_STOP_COUNT = "1/0627507374.40116"
START_TIME = 2023-03-21T19:27:48.732Z
STOP_TIME = 2023-03-21T19:36:48.481Z
/* ORBITAL DATA ELEMENTS */
ASCENDING_NODE_LONGITUDE = 122.7
MAXIMUM_RESOLUTION = 0.0441
FOOTPRINT_POINT_LATITUDE = (36.672,36.6448,36.6205,36.5949,36.5941 ,36.6658,36.0933,35.5137,34.9303, 34.0453,33.452,32.8615,32.2746,31.6916, 31.112,30.536,29.9637,29.3952,28.8301, 28.2687,27.711,27.1558,26.6046,26.0581, 25.5151,24.9754,24.4402,23.9083,23.3811 ,22.8566,22.3381,21.8218,21.3113, 20.8035,20.2985,19.7975,19.3008,18.8098 ,18.323,17.8378,17.3565,16.879,16.4053, 15.4693,14.5481,13.6421,12.7516,11.8762 ,11.0158,10.8029,10.7781,10.7679,10.758 ,10.7498,10.7459,10.7457,10.7458, 10.7463,11.6092,12.4866,13.3792,14.2839 ,15.2028,16.1391,16.6128,17.089,17.5706 ,18.0572,18.5464,19.0387,19.5358, 20.0373,20.7889,21.5586,22.0752,22.5953 ,23.3823,23.9098,24.7114,25.2495, 25.7921,26.3384,26.8906,27.4448,28.0021 ,28.8503,29.4169,29.9873,30.5618, 31.1395,31.7231,32.3087,32.8969,33.4886 ,34.0836,34.9721,35.8478,36.4252, 36.7123,36.672)
FOOTPRINT_POINT_LONGITUDE = (213.237,212.386,211.686,210.999, 210.978,210.977,210.968,210.957,210.946 ,210.927,210.913,210.899,210.883, 210.867,210.85,210.833,210.815,210.796, 210.776,210.756,210.736,210.714,210.692 ,210.67,210.647,210.623,210.599,210.575 ,210.55,210.524,210.499,210.472,210.445 ,210.418,210.39,210.362,210.334,210.305 ,210.275,210.246,210.216,210.185, 210.155,210.092,210.029,209.964,209.897 ,209.83,209.762,209.744,209.742,210.42, 211.102,212.115,212.846,213.437,213.474 ,213.487,213.471,213.455,213.44,213.425 ,213.41,213.398,213.391,213.385,213.379 ,213.375,213.37,213.364,213.36,213.356, 213.345,213.341,213.338,213.334,213.329 ,213.325,213.321,213.318,213.316, 213.313,213.312,213.311,213.309,213.31, 213.308,213.307,213.306,213.305,213.306 ,213.306,213.305,213.304,213.303, 213.303,213.302,213.301,213.3,213.237)
ORBIT_NUMBER = 24271
ORBITAL_ECCENTRICITY = 0.569
ORBITAL_INCLINATION = 87.08
ORBITAL_SEMIMAJOR_AXIS = 8778.84
PERIAPSIS_ALTITUDE = 397.88
PERIAPSIS_ARGUMENT_ANGLE = 122.59
PERIAPSIS_TIME = 2023-03-21T19:21:29.000Z
SPACECRAFT_ORIENTATION = (0.0,-1.0,0.0)
^MEX_ORIENTATION_DESC = "MEX_ORIENTATION_DESC.TXT"
SPACECRAFT_POINTING_MODE = ACROSSTRACK
^MEX_POINTING_DESC = "MEX_POINTING_DESC.TXT"
RIGHT_ASCENSION = -1e+32
DECLINATION = -1e+32
OFFSET_ANGLE = 1.078
SPACECRAFT_SOLAR_DISTANCE = 2.45636e+08
TARGET_NAME = MARS
/* CAMERA DATA ELEMENTS */
DETECTOR_TEMPERATURE = 18.7783
FOCAL_PLANE_TEMPERATURE = 8.7872
INST_CMPRS_NAME = "DISCRETE COSINE TRANSFORMATION (DCT)"
INST_CMPRS_RATIO = 11.2953
INST_CMPRS_QUALITY = 0
INST_CMPRS_QUANTZ_TBL_ID = 0
INSTRUMENT_TEMPERATURE = 10.8262
LENS_TEMPERATURE = 8.7872
MACROPIXEL_SIZE = 2
MISSING_FRAMES = 0
PIXEL_SUBSAMPLING_FLAG = N
SIGNAL_CHAIN_ID = 1
/* RADIOMETRIC DATA ELEMENTS */
BANDWIDTH = 178.0
CENTER_FILTER_WAVELENGTH = 679.0
RADIANCE_OFFSET = 6.20147
RADIANCE_SCALING_FACTOR = 0.0184039
REFLECTANCE_SCALING_FACTOR = 0.000588066
MEX:REFLECTANCE_OFFSET = 0.198157
/* IMAGE OBJECT DEFINITIONS */
OBJECT = IMAGE
  INTERCHANGE_FORMAT = BINARY
  LINES = 30838
  LINE_SAMPLES = 3664
  SAMPLE_TYPE = UNSIGNED_INTEGER
  SAMPLE_BITS = 8
  BANDS = 1
  BAND_STORAGE_TYPE = BAND_SEQUENTIAL
  MAXIMUM = 255
  MEAN = 133.167
  MINIMUM = 1
  STANDARD_DEVIATION = 29.0211
END_OBJECT = IMAGE
/* MAP OBJECT DEFINITIONS */
OBJECT = IMAGE_MAP_PROJECTION
  ^DATA_SET_MAP_PROJECTION_CATALOG= "DSMAP.CAT"
  A_AXIS_RADIUS = 3396.0
  B_AXIS_RADIUS = 3396.0
  C_AXIS_RADIUS = 3396.0
  CENTER_LATITUDE = 0.0
  CENTER_LONGITUDE = 212.0
  COORDINATE_SYSTEM_NAME = PLANETOGRAPHIC
  COORDINATE_SYSTEM_TYPE = "BODY-FIXED ROTATING"
  EASTERNMOST_LONGITUDE = 213.487
  FIRST_STANDARD_PARALLEL = "N/A"
  LINE_FIRST_PIXEL = 1
  LINE_LAST_PIXEL = 30838
  LINE_PROJECTION_OFFSET = 43490.25
  MAP_PROJECTION_ROTATION = 0.0
  MAP_PROJECTION_TYPE = SINUSOIDAL
  MAP_RESOLUTION = 1185.42760773333
  MAP_SCALE = 0.05
  MAXIMUM_LATITUDE = 36.7123
  MINIMUM_LATITUDE = 10.7457
  POSITIVE_LONGITUDE_DIRECTION = EAST
  REFERENCE_LATITUDE = "N/A"
  REFERENCE_LONGITUDE = "N/A"
  SAMPLE_FIRST_PIXEL = 1
  SAMPLE_LAST_PIXEL = 3664
  SAMPLE_PROJECTION_OFFSET = 2333.25
  SECOND_STANDARD_PARALLEL = "N/A"
  WESTERNMOST_LONGITUDE = 209.742
END_OBJECT = IMAGE_MAP_PROJECTION
END
