PDS_VERSION_ID = PDS3
/* FILE DATA ELEMENTS */
RECORD_TYPE = UNDEFINED
/* POINTERS TO DATA OBJECTS */
^IMAGE = ("HO292_0000_P24.TIF")
/* IDENTIFICATION DATA ELEMENTS */
DATA_SET_ID = "MEX-M-HRSC-4-REFDR-MAPPROJECT-EXT9-V4.0"
DATA_SET_NAME = "MARS EXPRESS HRSC MAP PROJECTED REFDR EXTENSION9 V4.0"
DETECTOR_ID = MEX_HRSC_P2
EVENT_TYPE = "MARS-REGIONAL-CARTOGRAPHY-Vo-Mw-Ls"
INSTRUMENT_HOST_ID = MEX
INSTRUMENT_HOST_NAME = "MARS EXPRESS"
INSTRUMENT_ID = HRSC
INSTRUMENT_NAME = "HIGH RESOLUTION STEREO CAMERA"
MISSION_NAME = "MARS EXPRESS"
MISSION_PHASE_NAME = ME_Phase_47
PROCESSING_LEVEL_ID = 4
PRODUCT_CREATION_TIME = 2023-11-15T01:26:02.000Z
PRODUCT_ID = "HO292_0000_P24.TIF"
RELEASE_ID = 0003
REVISION_ID = 0000
/* QUALITY DATA ELEMENTS */
DATA_QUALITY_ID = 1
DATA_QUALITY_DESC = "Data calculated based on original SPICE kernels"
/* TIME DATA ELEMENTS */
SPACECRAFT_CLOCK_START_COUNT = "1/0628034747.25691"
SPACECRAFT_CLOCK_STOP_COUNT = "1/0628035570.53934"
START_TIME = 2023-03-27T22:07:42.335Z
STOP_TIME = 2023-03-27T22:18:51.263Z
/* ORBITAL DATA ELEMENTS */
ASCENDING_NODE_LONGITUDE = 122.33
MAXIMUM_RESOLUTION = 0.043
FOOTPRINT_POINT_LATITUDE = (38.4878,38.4832,38.4719,38.4716, 38.5036,37.4448,36.732,36.0077,35.2731, 34.5322,33.4222,32.6903,31.9611,31.239, 30.1607,29.4475,28.7439,28.0431,27.3487 ,26.662,25.9814,24.9658,24.2949,23.6291 ,22.9479,21.9481,20.9721,20.3284, 19.6896,19.056,18.4325,17.8164,17.2082, 16.6085,16.0173,15.4323,14.8556,14.0099 ,13.4438,12.88,12.3176,11.7588,11.2057, 10.1145,9.0432,7.99161,6.95941,6.70435, 6.68784,6.63494,6.59355,6.56015,6.50567 ,6.5041,6.504,7.80514,8.86605,9.94734, 11.0484,11.6067,12.1699,13.0248,13.5972 ,14.1586,15.0206,15.5958,16.178,16.7662 ,17.3698,17.9956,18.9307,19.5763, 20.2309,20.8817,21.5363,22.193,22.8729, 23.562,24.2315,24.9058,25.5821,26.2658, 26.9531,27.6467,28.3456,29.0539,29.7656 ,30.4823,31.2045,31.9316,32.6627, 33.3984,34.136,34.8801,35.6202,36.3526, 37.0765,38.1475,38.4993,38.4878)
FOOTPRINT_POINT_LONGITUDE = (226.971,225.814,224.701,224.679, 224.652,224.658,224.657,224.656,224.654 ,224.648,224.639,224.629,224.619, 224.606,224.587,224.573,224.555,224.537 ,224.516,224.494,224.47,224.434,224.409 ,224.383,224.366,224.332,224.291, 224.262,224.232,224.202,224.169,224.134 ,224.097,224.058,224.017,223.975, 223.931,223.86,223.816,223.773,223.73, 223.688,223.644,223.557,223.467,223.375 ,223.282,223.259,223.257,224.371, 225.277,226.06,227.462,227.503,227.518, 227.493,227.473,227.453,227.433,227.424 ,227.414,227.4,227.389,227.369,227.345, 227.326,227.308,227.29,227.277,227.273, 227.26,227.259,227.26,227.256,227.251, 227.245,227.248,227.252,227.244,227.235 ,227.224,227.214,227.203,227.192, 227.181,227.172,227.161,227.15,227.139, 227.128,227.115,227.102,227.086,227.071 ,227.055,227.04,227.024,227.001,226.991 ,226.971)
ORBIT_NUMBER = 24292
ORBITAL_ECCENTRICITY = 0.569
ORBITAL_INCLINATION = 87.08
ORBITAL_SEMIMAJOR_AXIS = 8775.02
PERIAPSIS_ALTITUDE = 399.23
PERIAPSIS_ARGUMENT_ANGLE = 118.98
PERIAPSIS_TIME = 2023-03-27T22:01:10.000Z
SPACECRAFT_ORIENTATION = (0.0,-1.0,0.0)
^MEX_ORIENTATION_DESC = "MEX_ORIENTATION_DESC.TXT"
SPACECRAFT_POINTING_MODE = NADIR
^MEX_POINTING_DESC = "MEX_POINTING_DESC.TXT"
RIGHT_ASCENSION = -1e+32
DECLINATION = -1e+32
OFFSET_ANGLE = -1e+32
SPACECRAFT_SOLAR_DISTANCE = 2.46224e+08
TARGET_NAME = MARS
/* CAMERA DATA ELEMENTS */
DETECTOR_TEMPERATURE = 18.5744
FOCAL_PLANE_TEMPERATURE = 8.7872
INST_CMPRS_NAME = "DISCRETE COSINE TRANSFORMATION (DCT)"
INST_CMPRS_RATIO = 7.58892
INST_CMPRS_QUALITY = 0
INST_CMPRS_QUANTZ_TBL_ID = 0
INSTRUMENT_TEMPERATURE = 11.0301
LENS_TEMPERATURE = 9.195
MACROPIXEL_SIZE = 2
MISSING_FRAMES = 0
PIXEL_SUBSAMPLING_FLAG = N
SIGNAL_CHAIN_ID = 3
/* RADIOMETRIC DATA ELEMENTS */
BANDWIDTH = 177.0
CENTER_FILTER_WAVELENGTH = 676.5
RADIANCE_OFFSET = 5.08997
RADIANCE_SCALING_FACTOR = 0.0241629
REFLECTANCE_SCALING_FACTOR = 0.000776729
MEX:REFLECTANCE_OFFSET = 0.16362
/* IMAGE OBJECT DEFINITIONS */
OBJECT = IMAGE
  INTERCHANGE_FORMAT = BINARY
  LINES = 37930
  LINE_SAMPLES = 4410
  SAMPLE_TYPE = UNSIGNED_INTEGER
  SAMPLE_BITS = 8
  BANDS = 1
  BAND_STORAGE_TYPE = BAND_SEQUENTIAL
  MAXIMUM = 255
  MEAN = 137.467
  MINIMUM = 1
  STANDARD_DEVIATION = 24.2726
END_OBJECT = IMAGE
/* MAP OBJECT DEFINITIONS */
OBJECT = IMAGE_MAP_PROJECTION
  ^DATA_SET_MAP_PROJECTION_CATALOG= "DSMAP.CAT"
  A_AXIS_RADIUS = 3396.0
  B_AXIS_RADIUS = 3396.0
  C_AXIS_RADIUS = 3396.0
  CENTER_LATITUDE = 0.0
  CENTER_LONGITUDE = 226.0
  COORDINATE_SYSTEM_NAME = PLANETOGRAPHIC
  COORDINATE_SYSTEM_TYPE = "BODY-FIXED ROTATING"
  EASTERNMOST_LONGITUDE = 227.518
  FIRST_STANDARD_PARALLEL = "N/A"
  LINE_FIRST_PIXEL = 1
  LINE_LAST_PIXEL = 37930
  LINE_PROJECTION_OFFSET = 45664.75
  MAP_PROJECTION_ROTATION = 0.0
  MAP_PROJECTION_TYPE = SINUSOIDAL
  MAP_RESOLUTION = 1185.42760773333
  MAP_SCALE = 0.05
  MAXIMUM_LATITUDE = 38.5036
  MINIMUM_LATITUDE = 6.504
  POSITIVE_LONGITUDE_DIRECTION = EAST
  REFERENCE_LATITUDE = "N/A"
  REFERENCE_LONGITUDE = "N/A"
  SAMPLE_FIRST_PIXEL = 1
  SAMPLE_LAST_PIXEL = 4410
  SAMPLE_PROJECTION_OFFSET = 2939.25
  SECOND_STANDARD_PARALLEL = "N/A"
  WESTERNMOST_LONGITUDE = 223.257
END_OBJECT = IMAGE_MAP_PROJECTION
END
