PDS_VERSION_ID = PDS3
/* FILE DATA ELEMENTS */
RECORD_TYPE = UNDEFINED
/* POINTERS TO DATA OBJECTS */
^IMAGE = ("HO328_0000_IR4.TIF")
/* IDENTIFICATION DATA ELEMENTS */
DATA_SET_ID = "MEX-M-HRSC-4-REFDR-MAPPROJECT-EXT9-V4.0"
DATA_SET_NAME = "MARS EXPRESS HRSC MAP PROJECTED REFDR EXTENSION9 V4.0"
DETECTOR_ID = MEX_HRSC_IR
EVENT_TYPE = "MARS-LOCAL-CARTOGRAPHY-Te-Pf-La"
INSTRUMENT_HOST_ID = MEX
INSTRUMENT_HOST_NAME = "MARS EXPRESS"
INSTRUMENT_ID = HRSC
INSTRUMENT_NAME = "HIGH RESOLUTION STEREO CAMERA"
MISSION_NAME = "MARS EXPRESS"
MISSION_PHASE_NAME = ME_Phase_47
PROCESSING_LEVEL_ID = 4
PRODUCT_CREATION_TIME = 2023-11-15T01:26:02.000Z
PRODUCT_ID = "HO328_0000_IR4.TIF"
RELEASE_ID = 0003
REVISION_ID = 0000
/* QUALITY DATA ELEMENTS */
DATA_QUALITY_ID = 1
DATA_QUALITY_DESC = "Data calculated based on original SPICE kernels"
/* TIME DATA ELEMENTS */
SPACECRAFT_CLOCK_START_COUNT = "1/0628939326.23971"
SPACECRAFT_CLOCK_STOP_COUNT = "1/0628939657.13710"
START_TIME = 2023-04-07T09:22:49.986Z
STOP_TIME = 2023-04-07T09:27:02.638Z
/* ORBITAL DATA ELEMENTS */
ASCENDING_NODE_LONGITUDE = 121.69
MAXIMUM_RESOLUTION = 0.0679
FOOTPRINT_POINT_LATITUDE = (81.2943,81.1942,81.0405,80.7552,80.749 ,80.6152,80.3144,80.0155,79.7141, 79.4104,79.1055,78.8053,78.5033,78.1994 ,77.8937,77.5882,77.2873,76.9849, 76.6817,76.2241,75.918,75.6182,75.3173, 75.0155,74.7128,74.4093,74.1049,73.8009 ,73.5029,73.2041,72.9044,72.6036, 72.3035,72.0018,71.6996,71.3969,70.9444 ,70.3515,69.7567,69.16,68.5615,68.1114, 67.5101,67.2089,66.757,66.453,66.0017, 65.6972,65.5456,65.5436,65.6322,65.6812 ,65.7114,65.7126,65.714,66.1729,66.4786 ,66.7838,67.0889,67.3936,67.6982, 68.0023,68.3062,68.6098,68.9132,69.2161 ,69.9722,70.5755,71.1777,71.4836, 71.9424,72.2531,72.5603,72.8664,73.1725 ,73.4782,73.7835,74.0882,74.5554, 74.8667,75.3329,75.6429,75.9524,76.2613 ,76.5768,77.0497,77.3639,77.6775, 77.9905,78.3087,78.6276,78.9457,79.2628 ,79.5792,79.901,80.2229,80.5437,81.0233 ,81.1862,81.2943)
FOOTPRINT_POINT_LONGITUDE = (138.371,136.191,133.358,129.121, 129.039,129.017,129.85,130.622,131.349, 132.034,132.679,133.276,133.842,134.379 ,134.888,135.368,135.817,136.245, 136.653,137.231,137.594,137.933,138.258 ,138.569,138.868,139.154,139.43,139.693 ,139.941,140.179,140.409,140.63,140.843 ,141.049,141.247,141.439,141.712, 142.048,142.363,142.658,142.934,143.13, 143.378,143.497,143.668,143.776,143.937 ,144.037,144.087,144.088,145.657, 146.715,147.484,147.516,147.526,147.438 ,147.376,147.314,147.249,147.183, 147.114,147.044,146.971,146.896,146.819 ,146.74,146.53,146.35,146.158,146.055, 145.897,145.78,145.663,145.543,145.417, 145.286,145.151,145.01,144.782,144.623, 144.37,144.193,144.008,143.814,143.607, 143.276,143.042,142.796,142.537,142.258 ,141.964,141.652,141.322,140.971, 140.592,140.186,139.753,139.045,138.785 ,138.371)
ORBIT_NUMBER = 24328
ORBITAL_ECCENTRICITY = 0.569
ORBITAL_INCLINATION = 87.06
ORBITAL_SEMIMAJOR_AXIS = 8768.99
PERIAPSIS_ALTITUDE = 403.59
PERIAPSIS_ARGUMENT_ANGLE = 112.83
PERIAPSIS_TIME = 2023-04-07T09:27:12.000Z
SPACECRAFT_ORIENTATION = (0.0,-1.0,0.0)
^MEX_ORIENTATION_DESC = "MEX_ORIENTATION_DESC.TXT"
SPACECRAFT_POINTING_MODE = ACROSSTRACK
^MEX_POINTING_DESC = "MEX_POINTING_DESC.TXT"
RIGHT_ASCENSION = -1e+32
DECLINATION = -1e+32
OFFSET_ANGLE = -0.2
SPACECRAFT_SOLAR_DISTANCE = 2.47116e+08
TARGET_NAME = MARS
/* CAMERA DATA ELEMENTS */
DETECTOR_TEMPERATURE = 18.1666
FOCAL_PLANE_TEMPERATURE = 9.6028
INST_CMPRS_NAME = "DISCRETE COSINE TRANSFORMATION (DCT)"
INST_CMPRS_RATIO = 9.03592
INST_CMPRS_QUALITY = 0
INST_CMPRS_QUANTZ_TBL_ID = 0
INSTRUMENT_TEMPERATURE = 12.0496
LENS_TEMPERATURE = 10.0106
MACROPIXEL_SIZE = 4
MISSING_FRAMES = 0
PIXEL_SUBSAMPLING_FLAG = N
SIGNAL_CHAIN_ID = 2
/* RADIOMETRIC DATA ELEMENTS */
BANDWIDTH = 81.0
CENTER_FILTER_WAVELENGTH = 955.5
RADIANCE_OFFSET = 0.767208
RADIANCE_SCALING_FACTOR = 0.0103799
REFLECTANCE_SCALING_FACTOR = 0.00136748
MEX:REFLECTANCE_OFFSET = 0.101075
/* IMAGE OBJECT DEFINITIONS */
OBJECT = IMAGE
  INTERCHANGE_FORMAT = BINARY
  LINES = 18512
  LINE_SAMPLES = 4887
  SAMPLE_TYPE = UNSIGNED_INTEGER
  SAMPLE_BITS = 8
  BANDS = 1
  BAND_STORAGE_TYPE = BAND_SEQUENTIAL
  MAXIMUM = 255
  MEAN = 134.641
  MINIMUM = 1
  STANDARD_DEVIATION = 42.1023
END_OBJECT = IMAGE
/* MAP OBJECT DEFINITIONS */
OBJECT = IMAGE_MAP_PROJECTION
  ^DATA_SET_MAP_PROJECTION_CATALOG= "DSMAP.CAT"
  A_AXIS_RADIUS = 3396.0
  B_AXIS_RADIUS = 3396.0
  C_AXIS_RADIUS = 3396.0
  CENTER_LATITUDE = 0.0
  CENTER_LONGITUDE = 143.0
  COORDINATE_SYSTEM_NAME = PLANETOGRAPHIC
  COORDINATE_SYSTEM_TYPE = "BODY-FIXED ROTATING"
  EASTERNMOST_LONGITUDE = 147.526
  FIRST_STANDARD_PARALLEL = "N/A"
  LINE_FIRST_PIXEL = 1
  LINE_LAST_PIXEL = 18512
  LINE_PROJECTION_OFFSET = 96233.375
  MAP_PROJECTION_ROTATION = 0.0
  MAP_PROJECTION_TYPE = SINUSOIDAL
  MAP_RESOLUTION = 1185.42760773333
  MAP_SCALE = 0.05
  MAXIMUM_LATITUDE = 81.29430000000001
  MINIMUM_LATITUDE = 65.5436
  POSITIVE_LONGITUDE_DIRECTION = EAST
  REFERENCE_LATITUDE = "N/A"
  REFERENCE_LONGITUDE = "N/A"
  SAMPLE_FIRST_PIXEL = 1
  SAMPLE_LAST_PIXEL = 4887
  SAMPLE_PROJECTION_OFFSET = 2685.125
  SECOND_STANDARD_PARALLEL = "N/A"
  WESTERNMOST_LONGITUDE = 129.017
END_OBJECT = IMAGE_MAP_PROJECTION
END
