PDS_VERSION_ID = PDS3
/* FILE DATA ELEMENTS */
RECORD_TYPE = UNDEFINED
/* POINTERS TO DATA OBJECTS */
^IMAGE = ("HO548_0000_RE4.TIF")
/* IDENTIFICATION DATA ELEMENTS */
DATA_SET_ID = "MEX-M-HRSC-4-REFDR-MAPPROJECT-EXT9-V4.0"
DATA_SET_NAME = "MARS EXPRESS HRSC MAP PROJECTED REFDR EXTENSION9 V4.0"
DETECTOR_ID = MEX_HRSC_RED
EVENT_TYPE = "MARS-TERMINATOR-CALIBRATION-Tc"
INSTRUMENT_HOST_ID = MEX
INSTRUMENT_HOST_NAME = "MARS EXPRESS"
INSTRUMENT_ID = HRSC
INSTRUMENT_NAME = "HIGH RESOLUTION STEREO CAMERA"
MISSION_NAME = "MARS EXPRESS"
MISSION_PHASE_NAME = ME_Phase_47
PROCESSING_LEVEL_ID = 4
PRODUCT_CREATION_TIME = 2023-11-15T19:24:46.000Z
PRODUCT_ID = "HO548_0000_RE4.TIF"
RELEASE_ID = 0004
REVISION_ID = 0000
/* QUALITY DATA ELEMENTS */
DATA_QUALITY_ID = 1
DATA_QUALITY_DESC = "Data calculated based on original SPICE kernels"
/* TIME DATA ELEMENTS */
SPACECRAFT_CLOCK_START_COUNT = "1/0634478223.25671"
SPACECRAFT_CLOCK_STOP_COUNT = "1/0634478656.25377"
START_TIME = 2023-06-10T12:01:11.384Z
STOP_TIME = 2023-06-10T12:04:50.411Z
/* ORBITAL DATA ELEMENTS */
ASCENDING_NODE_LONGITUDE = 117.85
MAXIMUM_RESOLUTION = 0.7054
FOOTPRINT_POINT_LATITUDE = (-7.89602,-3.52196,-0.279886,1.35588, 1.75618,2.85322,5.45438,5.96641,8.77557 ,11.3445,9.5183,12.7635,14.4027,14.333, 17.6247,15.7752,15.1931,15.975,19.9438, 17.4746,19.8587,18.1872,21.4828,19.1392 ,19.0747,20.6766,23.3769,20.1123, 20.5417,24.267,20.3624,19.7705,22.3013, 20.3508,23.413,19.534,20.0672,17.4262, 20.8412,19.1704,15.0494,16.2946,18.4562 ,14.9953,14.9912,12.1399,12.0725, 13.9655,9.96147,9.97345,8.44322,5.38759 ,2.5909,2.83625,-0.391052,-2.38608, -2.89888,-5.90555,-4.50122,-6.53923, -9.72501,-12.5774,-13.1925,-13.4241, -16.2489,-18.332,-20.0304,-21.4672, -23.8324,-25.7482,-27.3074,-28.6452, -29.7727,-30.7524,-32.351,-33.5329, -34.4013,-34.9807,-35.3182,-35.4562, -35.326,-35.001,-34.4877,-33.775, -32.8594,-31.7253,-30.3461,-28.68, -26.6811,-25.5083,-24.2181,-22.7806, -21.1439,-19.2683,-17.0438,-14.3186, -12.6824,-10.7211,-8.26153,-7.89602)
FOOTPRINT_POINT_LONGITUDE = (392.114,393.148,394.444,395.296, 395.453,393.261,392.172,387.775,387.115 ,384.411,379.742,379.503,376.836, 373.577,373.418,371.072,367.931,365.393 ,362.516,360.476,359.801,358.08,357.589 ,354.507,349.631,347.446,345.305, 343.828,339.181,338.042,334.541,329.943 ,326.094,323.979,322.206,321.72,319.17, 317.306,315.195,310.457,310.453,307.416 ,305.218,305.15,302.33,299.082,296.01, 293.379,293.758,290.287,287.394,285.182 ,282.507,279.998,276.886,275.238, 272.399,270.717,269.481,270.756,272.143 ,272.847,272.943,272.99,276.141,278.669 ,280.883,282.885,286.491,289.761, 292.757,295.606,298.303,300.909,305.913 ,310.672,315.277,319.738,324.099,329.45 ,333.648,337.795,341.903,345.989,350.07 ,354.166,358.306,362.531,366.879, 369.142,371.464,373.868,376.399,379.086 ,382.019,385.317,387.171,389.277, 391.775,392.114)
ORBIT_NUMBER = 24548
ORBITAL_ECCENTRICITY = 0.568
ORBITAL_INCLINATION = 87.08
ORBITAL_SEMIMAJOR_AXIS = 8759.16
PERIAPSIS_ALTITUDE = 408.35
PERIAPSIS_ARGUMENT_ANGLE = 75.16
PERIAPSIS_TIME = 2023-06-10T10:00:01.000Z
SPACECRAFT_ORIENTATION = (0.0,-1.0,0.0)
^MEX_ORIENTATION_DESC = "MEX_ORIENTATION_DESC.TXT"
SPACECRAFT_POINTING_MODE = FIXED
^MEX_POINTING_DESC = "MEX_POINTING_DESC.TXT"
RIGHT_ASCENSION = -1e+32
DECLINATION = -1e+32
OFFSET_ANGLE = -1e+32
SPACECRAFT_SOLAR_DISTANCE = 2.49138e+08
TARGET_NAME = MARS
/* CAMERA DATA ELEMENTS */
DETECTOR_TEMPERATURE = 16.5354
FOCAL_PLANE_TEMPERATURE = 8.3794
INST_CMPRS_NAME = "DISCRETE COSINE TRANSFORMATION (DCT)"
INST_CMPRS_RATIO = 13.9569
INST_CMPRS_QUALITY = 0
INST_CMPRS_QUANTZ_TBL_ID = 0
INSTRUMENT_TEMPERATURE = 10.8262
LENS_TEMPERATURE = 8.7872
MACROPIXEL_SIZE = 2
MISSING_FRAMES = 0
PIXEL_SUBSAMPLING_FLAG = N
SIGNAL_CHAIN_ID = 3
/* RADIOMETRIC DATA ELEMENTS */
BANDWIDTH = 48.0
CENTER_FILTER_WAVELENGTH = 748.0
RADIANCE_OFFSET = 0.0
RADIANCE_SCALING_FACTOR = 0.0112273
REFLECTANCE_SCALING_FACTOR = 0.00159029
MEX:REFLECTANCE_OFFSET = 0.0
/* IMAGE OBJECT DEFINITIONS */
OBJECT = IMAGE
  INTERCHANGE_FORMAT = BINARY
  LINES = 3208
  LINE_SAMPLES = 7464
  SAMPLE_TYPE = UNSIGNED_INTEGER
  SAMPLE_BITS = 8
  BANDS = 1
  BAND_STORAGE_TYPE = BAND_SEQUENTIAL
  MAXIMUM = 255
  MEAN = 117.824
  MINIMUM = 23
  STANDARD_DEVIATION = 43.9975
END_OBJECT = IMAGE
/* MAP OBJECT DEFINITIONS */
OBJECT = IMAGE_MAP_PROJECTION
  ^DATA_SET_MAP_PROJECTION_CATALOG= "DSMAP.CAT"
  A_AXIS_RADIUS = 3396.0
  B_AXIS_RADIUS = 3396.0
  C_AXIS_RADIUS = 3396.0
  CENTER_LATITUDE = -16.3461
  CENTER_LONGITUDE = 335.274
  COORDINATE_SYSTEM_NAME = PLANETOGRAPHIC
  COORDINATE_SYSTEM_TYPE = "BODY-FIXED ROTATING"
  EASTERNMOST_LONGITUDE = 35.453
  FIRST_STANDARD_PARALLEL = "N/A"
  LINE_FIRST_PIXEL = 1
  LINE_LAST_PIXEL = 3208
  LINE_PROJECTION_OFFSET = 1926.25
  MAP_PROJECTION_ROTATION = 0.0
  MAP_PROJECTION_TYPE = ORTHOGRAPHIC
  MAP_RESOLUTION = 74.08922548333329
  MAP_SCALE = 0.8
  MAXIMUM_LATITUDE = 24.267
  MINIMUM_LATITUDE = -35.4562
  POSITIVE_LONGITUDE_DIRECTION = EAST
  REFERENCE_LATITUDE = "N/A"
  REFERENCE_LONGITUDE = "N/A"
  SAMPLE_FIRST_PIXEL = 1
  SAMPLE_LAST_PIXEL = 7464
  SAMPLE_PROJECTION_OFFSET = 3929.75
  SECOND_STANDARD_PARALLEL = "N/A"
  WESTERNMOST_LONGITUDE = -90.51900000000001
END_OBJECT = IMAGE_MAP_PROJECTION
END
