PDS_VERSION_ID = PDS3
/* FILE DATA ELEMENTS */
RECORD_TYPE = UNDEFINED
/* POINTERS TO DATA OBJECTS */
^IMAGE = ("HO600_0000_RE4.TIF")
/* IDENTIFICATION DATA ELEMENTS */
DATA_SET_ID = "MEX-M-HRSC-4-REFDR-MAPPROJECT-EXT9-V4.0"
DATA_SET_NAME = "MARS EXPRESS HRSC MAP PROJECTED REFDR EXTENSION9 V4.0"
DETECTOR_ID = MEX_HRSC_RED
EVENT_TYPE = "MARS-TERMINATOR-CALIBRATION-Tc"
INSTRUMENT_HOST_ID = MEX
INSTRUMENT_HOST_NAME = "MARS EXPRESS"
INSTRUMENT_ID = HRSC
INSTRUMENT_NAME = "HIGH RESOLUTION STEREO CAMERA"
MISSION_NAME = "MARS EXPRESS"
MISSION_PHASE_NAME = ME_Phase_47
PROCESSING_LEVEL_ID = 4
PRODUCT_CREATION_TIME = 2023-11-15T19:24:46.000Z
PRODUCT_ID = "HO600_0000_RE4.TIF"
RELEASE_ID = 0004
REVISION_ID = 0000
/* QUALITY DATA ELEMENTS */
DATA_QUALITY_ID = 1
DATA_QUALITY_DESC = "Data calculated based on original SPICE kernels"
/* TIME DATA ELEMENTS */
SPACECRAFT_CLOCK_START_COUNT = "1/0635785725.24919"
SPACECRAFT_CLOCK_STOP_COUNT = "1/0635786170.24535"
START_TIME = 2023-06-25T15:12:57.441Z
STOP_TIME = 2023-06-25T15:16:44.338Z
/* ORBITAL DATA ELEMENTS */
ASCENDING_NODE_LONGITUDE = 116.94
MAXIMUM_RESOLUTION = 0.6984
FOOTPRINT_POINT_LATITUDE = (-14.2858,-14.2489,-14.4098,-12.2988, -9.84321,-6.63526,-3.97899,-2.87033, -0.346911,-0.981937,-3.29007,-6.82784, -9.41443,-10.9929,-12.3253,-14.4697, -17.2279,-19.0274,-20.1695,-21.3826, -22.6726,-23.4772,-24.0998,-24.7644, -25.3293,-25.5609,-25.7129,-25.6392, -25.3813,-24.9206,-24.4611,-23.8995, -22.8793,-21.8789,-21.0448,-19.9689, -18.6858,-17.0019,-14.7536,-11.9263, -10.0909,-7.42565,-5.19169,-1.83471, 1.13871,3.20261,3.6282,0.61627,-3.16994 ,-3.08646,-4.29107,-5.1127,-7.34687, -7.17204,-7.48567,-11.1492,-13.5495, -15.5943,-18.6858,-19.1712,-22.1471, -24.925,-28.6118,-31.4539,-33.2829, -34.7474,-37.0486,-38.7866,-42.3883, -45.1603,-47.2294,-48.6151,-49.7135, -50.9574,-52.6448,-53.4647,-54.7416, -55.5662,-55.7849,-55.5392,-55.1663, -54.4914,-53.6438,-52.3026,-51.2835, -49.9123,-47.8104,-46.0752,-43.5881, -41.7363,-39.3696,-37.9206,-36.4499, -34.1895,-32.0579,-28.8882,-24.6528, -20.5554,-18.3132,-14.2858)
FOOTPRINT_POINT_LONGITUDE = (505.709,505.734,505.093,503.207, 500.976,497.57,497.179,493.77,493.366, 490.803,487.968,483.34,479.643,477.233, 475.093,471.378,465.981,461.93,459.041, 455.603,451.317,448.134,445.225,441.365 ,436.84,433.802,428.766,425.135,421.264 ,417.212,414.269,411.374,407.152, 403.758,401.259,398.394,395.323,391.751 ,387.538,382.885,380.148,376.469, 373.607,369.584,366.242,364.019,360.332 ,358.562,359.962,354.629,353.725, 352.629,351.14,350.662,350.542,348.431, 346.587,344.794,343.515,340.926,341.509 ,338.653,340.601,345.022,347.97,350.416 ,354.421,357.615,364.895,371.315, 376.805,380.934,384.531,389.143,396.628 ,401.112,410.319,420.74,429.447,438.904 ,444.333,450.882,457.023,464.415, 468.986,474.396,481.354,486.33,492.617, 496.861,501.822,504.666,507.456,511.499 ,515.151,514.125,512.274,509.143, 507.046,505.709)
ORBIT_NUMBER = 24600
ORBITAL_ECCENTRICITY = 0.568
ORBITAL_INCLINATION = 87.08
ORBITAL_SEMIMAJOR_AXIS = 8768.72
PERIAPSIS_ALTITUDE = 405.25
PERIAPSIS_ARGUMENT_ANGLE = 66.29
PERIAPSIS_TIME = 2023-06-25T13:11:30.000Z
SPACECRAFT_ORIENTATION = (0.0,-1.0,0.0)
^MEX_ORIENTATION_DESC = "MEX_ORIENTATION_DESC.TXT"
SPACECRAFT_POINTING_MODE = FIXED
^MEX_POINTING_DESC = "MEX_POINTING_DESC.TXT"
RIGHT_ASCENSION = -1e+32
DECLINATION = -1e+32
OFFSET_ANGLE = -1e+32
SPACECRAFT_SOLAR_DISTANCE = 2.48731e+08
TARGET_NAME = MARS
/* CAMERA DATA ELEMENTS */
DETECTOR_TEMPERATURE = 18.5744
FOCAL_PLANE_TEMPERATURE = 8.3794
INST_CMPRS_NAME = "DISCRETE COSINE TRANSFORMATION (DCT)"
INST_CMPRS_RATIO = 8.68641
INST_CMPRS_QUALITY = 0
INST_CMPRS_QUANTZ_TBL_ID = 0
INSTRUMENT_TEMPERATURE = 11.234
LENS_TEMPERATURE = 8.5833
MACROPIXEL_SIZE = 2
MISSING_FRAMES = 0
PIXEL_SUBSAMPLING_FLAG = N
SIGNAL_CHAIN_ID = 3
/* RADIOMETRIC DATA ELEMENTS */
BANDWIDTH = 48.0
CENTER_FILTER_WAVELENGTH = 748.0
RADIANCE_OFFSET = 0.0
RADIANCE_SCALING_FACTOR = 0.00668649
REFLECTANCE_SCALING_FACTOR = 0.000944001
MEX:REFLECTANCE_OFFSET = 0.0
/* IMAGE OBJECT DEFINITIONS */
OBJECT = IMAGE
  INTERCHANGE_FORMAT = BINARY
  LINES = 3326
  LINE_SAMPLES = 8132
  SAMPLE_TYPE = UNSIGNED_INTEGER
  SAMPLE_BITS = 8
  BANDS = 1
  BAND_STORAGE_TYPE = BAND_SEQUENTIAL
  MAXIMUM = 255
  MEAN = 104.16
  MINIMUM = 1
  STANDARD_DEVIATION = 47.0965
END_OBJECT = IMAGE
/* MAP OBJECT DEFINITIONS */
OBJECT = IMAGE_MAP_PROJECTION
  ^DATA_SET_MAP_PROJECTION_CATALOG= "DSMAP.CAT"
  A_AXIS_RADIUS = 3396.0
  B_AXIS_RADIUS = 3396.0
  C_AXIS_RADIUS = 3396.0
  CENTER_LATITUDE = -38.2065
  CENTER_LONGITUDE = 66.0899
  COORDINATE_SYSTEM_NAME = PLANETOGRAPHIC
  COORDINATE_SYSTEM_TYPE = "BODY-FIXED ROTATING"
  EASTERNMOST_LONGITUDE = 155.151
  FIRST_STANDARD_PARALLEL = "N/A"
  LINE_FIRST_PIXEL = 1
  LINE_LAST_PIXEL = 3326
  LINE_PROJECTION_OFFSET = 1674.25
  MAP_PROJECTION_ROTATION = 0.0
  MAP_PROJECTION_TYPE = ORTHOGRAPHIC
  MAP_RESOLUTION = 74.08922548333329
  MAP_SCALE = 0.8
  MAXIMUM_LATITUDE = 3.6282
  MINIMUM_LATITUDE = -55.7849
  POSITIVE_LONGITUDE_DIRECTION = EAST
  REFERENCE_LATITUDE = "N/A"
  REFERENCE_LONGITUDE = "N/A"
  SAMPLE_FIRST_PIXEL = 1
  SAMPLE_LAST_PIXEL = 8132
  SAMPLE_PROJECTION_OFFSET = 4078.25
  SECOND_STANDARD_PARALLEL = "N/A"
  WESTERNMOST_LONGITUDE = -21.347
END_OBJECT = IMAGE_MAP_PROJECTION
END
