PDS_VERSION_ID = PDS3
/* FILE DATA ELEMENTS */
RECORD_TYPE = UNDEFINED
/* POINTERS TO DATA OBJECTS */
^IMAGE = ("HO656_0000_ND4.TIF")
/* IDENTIFICATION DATA ELEMENTS */
DATA_SET_ID = "MEX-M-HRSC-4-REFDR-MAPPROJECT-EXT9-V4.0"
DATA_SET_NAME = "MARS EXPRESS HRSC MAP PROJECTED REFDR EXTENSION9 V4.0"
DETECTOR_ID = MEX_HRSC_NADIR
EVENT_TYPE = "MARS-TERMINATOR-CALIBRATION-Tc"
INSTRUMENT_HOST_ID = MEX
INSTRUMENT_HOST_NAME = "MARS EXPRESS"
INSTRUMENT_ID = HRSC
INSTRUMENT_NAME = "HIGH RESOLUTION STEREO CAMERA"
MISSION_NAME = "MARS EXPRESS"
MISSION_PHASE_NAME = ME_Phase_47
PROCESSING_LEVEL_ID = 4
PRODUCT_CREATION_TIME = 2023-11-15T19:58:29.000Z
PRODUCT_ID = "HO656_0000_ND4.TIF"
RELEASE_ID = 0005
REVISION_ID = 0000
/* QUALITY DATA ELEMENTS */
DATA_QUALITY_ID = 1
DATA_QUALITY_DESC = "Data calculated based on original SPICE kernels"
/* TIME DATA ELEMENTS */
SPACECRAFT_CLOCK_START_COUNT = "1/0637193753.24912"
SPACECRAFT_CLOCK_STOP_COUNT = "1/0637194205.24048"
START_TIME = 2023-07-11T22:18:18.430Z
STOP_TIME = 2023-07-11T22:22:11.395Z
/* ORBITAL DATA ELEMENTS */
ASCENDING_NODE_LONGITUDE = 115.97
MAXIMUM_RESOLUTION = 0.3443
FOOTPRINT_POINT_LATITUDE = (-21.4139,-21.3863,-21.8209,-22.9863, -24.0548,-25.6874,-27.0698,-27.8942, -28.7705,-29.7806,-30.3987,-31.1788, -31.6012,-31.9754,-32.1034,-32.0129, -31.8239,-31.3679,-30.9415,-30.4431, -29.6034,-28.5983,-26.9644,-25.5787, -24.3282,-22.262,-20.4527,-19.0559, -17.8992,-16.0947,-14.7833,-13.1956, -11.4917,-9.16224,-6.556,-5.20016, -3.15227,-1.14411,1.90883,3.2919,3.8156 ,3.99249,4.38056,4.44912,4.2948, 0.841294,-4.08334,-6.10257,-9.21392, -13.909,-17.3475,-19.0035,-22.0945, -25.8763,-27.5143,-30.0605,-32.7271, -32.9778,-35.2859,-36.7089,-38.5615, -40.2357,-42.8271,-44.2584,-46.3525, -49.0163,-50.7632,-52.3376,-54.7675, -57.335,-59.1218,-60.4062,-61.7762, -63.2609,-65.2373,-67.0468,-68.2136, -68.8315,-69.1154,-69.2324,-68.6316, -67.6412,-65.8958,-64.2899,-62.8141, -60.1176,-59.36,-56.7647,-53.0852, -51.5944,-48.8702,-45.8892,-43.2188, -39.9254,-35.8429,-32.4483,-29.4827, -25.4377,-24.4129,-21.4139)
FOOTPRINT_POINT_LONGITUDE = (187.839,187.885,185.95,182.965,180.053 ,175.195,170.556,167.473,163.833, 158.964,155.428,149.848,145.745,140.074 ,135.096,129.25,125.604,120.359,116.86, 113.532,108.941,104.415,98.3452,93.9733 ,90.4406,85.2152,81.0997,78.1442, 75.8154,72.3594,69.9609,67.1618,64.2634 ,60.4413,56.3076,54.2,51.0537,47.9941, 43.3505,41.2356,40.4309,40.1586,37.5398 ,37.2734,37.4304,34.7294,33.4084, 30.7315,29.5416,28.6919,26.7165,24.5139 ,23.305,22.5643,20.3212,19.0987,20.4221 ,17.4161,18.5893,21.861,26.4053,30.3979 ,36.3609,39.667,44.4716,50.5953,54.837, 58.781,65.2669,72.7802,78.4742,83.0755, 88.0812,94.4113,104.329,116.191,127.198 ,136.2,143.137,154.063,170.68,182.143, 195.164,203.797,209.235,211.433,206.139 ,204.206,205.326,200.789,199.309, 199.768,198.633,196.367,192.8,192.273, 191.162,189.133,188.464,187.839)
ORBIT_NUMBER = 24656
ORBITAL_ECCENTRICITY = 0.569
ORBITAL_INCLINATION = 87.08
ORBITAL_SEMIMAJOR_AXIS = 8780.61
PERIAPSIS_ALTITUDE = 402.67
PERIAPSIS_ARGUMENT_ANGLE = 56.67
PERIAPSIS_TIME = 2023-07-11T20:19:25.000Z
SPACECRAFT_ORIENTATION = (0.0,-1.0,0.0)
^MEX_ORIENTATION_DESC = "MEX_ORIENTATION_DESC.TXT"
SPACECRAFT_POINTING_MODE = FIXED
^MEX_POINTING_DESC = "MEX_POINTING_DESC.TXT"
RIGHT_ASCENSION = -1e+32
DECLINATION = -1e+32
OFFSET_ANGLE = -1e+32
SPACECRAFT_SOLAR_DISTANCE = 2.47917e+08
TARGET_NAME = MARS
/* CAMERA DATA ELEMENTS */
DETECTOR_TEMPERATURE = 18.5744
FOCAL_PLANE_TEMPERATURE = 8.5833
INST_CMPRS_NAME = "DISCRETE COSINE TRANSFORMATION (DCT)"
INST_CMPRS_RATIO = 6.70652
INST_CMPRS_QUALITY = 0
INST_CMPRS_QUANTZ_TBL_ID = 0
INSTRUMENT_TEMPERATURE = 11.4379
LENS_TEMPERATURE = 8.7872
MACROPIXEL_SIZE = 1
MISSING_FRAMES = 0
PIXEL_SUBSAMPLING_FLAG = N
SIGNAL_CHAIN_ID = 0
/* RADIOMETRIC DATA ELEMENTS */
BANDWIDTH = 177.0
CENTER_FILTER_WAVELENGTH = 677.5
RADIANCE_OFFSET = 0.0
RADIANCE_SCALING_FACTOR = 0.0251637
REFLECTANCE_SCALING_FACTOR = 0.000821592
MEX:REFLECTANCE_OFFSET = 0.0
/* IMAGE OBJECT DEFINITIONS */
OBJECT = IMAGE
  INTERCHANGE_FORMAT = BINARY
  LINES = 10099
  LINE_SAMPLES = 15781
  SAMPLE_TYPE = UNSIGNED_INTEGER
  SAMPLE_BITS = 8
  BANDS = 1
  BAND_STORAGE_TYPE = BAND_SEQUENTIAL
  MAXIMUM = 255
  MEAN = 72.6877
  MINIMUM = 1
  STANDARD_DEVIATION = 54.4672
END_OBJECT = IMAGE
/* MAP OBJECT DEFINITIONS */
OBJECT = IMAGE_MAP_PROJECTION
  ^DATA_SET_MAP_PROJECTION_CATALOG= "DSMAP.CAT"
  A_AXIS_RADIUS = 3396.0
  B_AXIS_RADIUS = 3396.0
  C_AXIS_RADIUS = 3396.0
  CENTER_LATITUDE = -43.5213
  CENTER_LONGITUDE = 99.2565
  COORDINATE_SYSTEM_NAME = PLANETOGRAPHIC
  COORDINATE_SYSTEM_TYPE = "BODY-FIXED ROTATING"
  EASTERNMOST_LONGITUDE = 211.433
  FIRST_STANDARD_PARALLEL = "N/A"
  LINE_FIRST_PIXEL = 1
  LINE_LAST_PIXEL = 10099
  LINE_PROJECTION_OFFSET = 3555.0
  MAP_PROJECTION_ROTATION = 0.0
  MAP_PROJECTION_TYPE = ORTHOGRAPHIC
  MAP_RESOLUTION = 148.178450966667
  MAP_SCALE = 0.4
  MAXIMUM_LATITUDE = 4.44912
  MINIMUM_LATITUDE = -69.2324
  POSITIVE_LONGITUDE_DIRECTION = EAST
  REFERENCE_LATITUDE = "N/A"
  REFERENCE_LONGITUDE = "N/A"
  SAMPLE_FIRST_PIXEL = 1
  SAMPLE_LAST_PIXEL = 15781
  SAMPLE_PROJECTION_OFFSET = 7866.0
  SECOND_STANDARD_PARALLEL = "N/A"
  WESTERNMOST_LONGITUDE = 17.4161
END_OBJECT = IMAGE_MAP_PROJECTION
END
