PDS_VERSION_ID = PDS3
/* FILE DATA ELEMENTS */
RECORD_TYPE = UNDEFINED
/* POINTERS TO DATA OBJECTS */
^IMAGE = ("HO671_0000_GR4.TIF")
/* IDENTIFICATION DATA ELEMENTS */
DATA_SET_ID = "MEX-M-HRSC-4-REFDR-MAPPROJECT-EXT9-V4.0"
DATA_SET_NAME = "MARS EXPRESS HRSC MAP PROJECTED REFDR EXTENSION9 V4.0"
DETECTOR_ID = MEX_HRSC_GREEN
EVENT_TYPE = "MARS-TERMINATOR-CALIBRATION-Tc"
INSTRUMENT_HOST_ID = MEX
INSTRUMENT_HOST_NAME = "MARS EXPRESS"
INSTRUMENT_ID = HRSC
INSTRUMENT_NAME = "HIGH RESOLUTION STEREO CAMERA"
MISSION_NAME = "MARS EXPRESS"
MISSION_PHASE_NAME = ME_Phase_47
PROCESSING_LEVEL_ID = 4
PRODUCT_CREATION_TIME = 2023-11-15T19:58:29.000Z
PRODUCT_ID = "HO671_0000_GR4.TIF"
RELEASE_ID = 0005
REVISION_ID = 0000
/* QUALITY DATA ELEMENTS */
DATA_QUALITY_ID = 1
DATA_QUALITY_DESC = "Data calculated based on original SPICE kernels"
/* TIME DATA ELEMENTS */
SPACECRAFT_CLOCK_START_COUNT = "1/0637573319.25716"
SPACECRAFT_CLOCK_STOP_COUNT = "1/0637573744.21838"
START_TIME = 2023-07-16T07:44:00.558Z
STOP_TIME = 2023-07-16T07:47:28.476Z
/* ORBITAL DATA ELEMENTS */
ASCENDING_NODE_LONGITUDE = 115.69
MAXIMUM_RESOLUTION = 0.7906
FOOTPRINT_POINT_LATITUDE = (-32.8491,-33.4547,-33.2153,-31.6217, -29.2746,-26.3866,-22.9075,-18.3961, -15.9649,-14.7872,-14.4592,-10.682, -8.39124,-5.9415,-3.79858,-8.62557, -10.8717,-12.4975,-14.881,-16.6126, -17.9539,-19.0171,-19.8887,-20.5957, -21.6316,-22.2871,-22.6237,-22.6997, -22.5605,-22.194,-21.7999,-21.279, -20.4195,-19.3627,-18.0812,-16.5617, -14.7654,-12.6323,-10.0744,-8.56451, -6.91026,-4.9786,-2.7756,-0.176319, 3.14501,5.35877,7.98065,12.2317,14.922, 12.3155,9.84017,8.41251,4.6063,1.96189, -3.06114,-5.36917,-6.83152,-6.39105, -5.32686,-5.86089,-10.1828,-13.3793, -15.9621,-20.112,-23.7151,-26.1, -29.6515,-32.429,-34.7674,-36.8271, -38.659,-40.3168,-41.8552,-44.6183, -47.0468,-49.2018,-51.1247,-52.8418, -54.3601,-55.6878,-56.572,-57.5381, -58.273,-58.7576,-58.9486,-58.7957, -58.2322,-57.1477,-56.3617,-55.3664, -54.106,-52.4916,-50.3599,-49.0002, -47.3244,-45.1485,-41.1901,-37.6343, -33.0333,-32.8491)
FOOTPRINT_POINT_LONGITUDE = (458.078,454.395,451.224,446.911, 444.071,442.301,441.559,442.343,443.642 ,444.566,444.758,441.744,438.87,436.898 ,435.211,428.61,425.082,422.281,417.685 ,413.831,410.412,407.298,404.385, 401.645,396.541,391.793,387.326,383.064 ,378.948,374.968,372.04,369.086,365.291 ,361.526,357.765,353.978,350.126, 346.155,341.989,339.779,337.483,335.009 ,332.348,329.402,325.915,323.746, 321.237,317.408,312.597,309.953,306.084 ,304.374,305.728,305.994,304.009, 301.606,298.197,293.095,291.159,291.558 ,289.234,286.176,284.318,286.739, 291.498,294.678,299.521,303.459,306.912 ,310.109,313.066,315.839,318.567, 323.861,329.105,334.327,339.631,345.076 ,350.733,356.643,361.389,367.865, 374.712,381.964,389.642,397.766,406.379 ,415.516,420.345,425.458,430.825, 436.597,442.982,446.542,450.53,455.177, 462.667,462.028,461.38,458.078)
ORBIT_NUMBER = 24671
ORBITAL_ECCENTRICITY = 0.569
ORBITAL_INCLINATION = 87.06
ORBITAL_SEMIMAJOR_AXIS = 8788.3
PERIAPSIS_ALTITUDE = 401.5
PERIAPSIS_ARGUMENT_ANGLE = 54.1
PERIAPSIS_TIME = 2023-07-16T05:05:26.000Z
SPACECRAFT_ORIENTATION = (0.0,-1.0,0.0)
^MEX_ORIENTATION_DESC = "MEX_ORIENTATION_DESC.TXT"
SPACECRAFT_POINTING_MODE = FIXED
^MEX_POINTING_DESC = "MEX_POINTING_DESC.TXT"
RIGHT_ASCENSION = -1e+32
DECLINATION = -1e+32
OFFSET_ANGLE = -1e+32
SPACECRAFT_SOLAR_DISTANCE = 2.47634e+08
TARGET_NAME = MARS
/* CAMERA DATA ELEMENTS */
DETECTOR_TEMPERATURE = 17.9627
FOCAL_PLANE_TEMPERATURE = 8.5833
INST_CMPRS_NAME = "DISCRETE COSINE TRANSFORMATION (DCT)"
INST_CMPRS_RATIO = 7.07977
INST_CMPRS_QUALITY = 0
INST_CMPRS_QUANTZ_TBL_ID = 0
INSTRUMENT_TEMPERATURE = 11.0301
LENS_TEMPERATURE = 8.7872
MACROPIXEL_SIZE = 2
MISSING_FRAMES = 1
PIXEL_SUBSAMPLING_FLAG = N
SIGNAL_CHAIN_ID = 2
/* RADIOMETRIC DATA ELEMENTS */
BANDWIDTH = 88.0
CENTER_FILTER_WAVELENGTH = 538.0
RADIANCE_OFFSET = 0.0
RADIANCE_SCALING_FACTOR = 0.0102096
REFLECTANCE_SCALING_FACTOR = 0.000539007
MEX:REFLECTANCE_OFFSET = 0.0
/* IMAGE OBJECT DEFINITIONS */
OBJECT = IMAGE
  INTERCHANGE_FORMAT = BINARY
  LINES = 5071
  LINE_SAMPLES = 8102
  SAMPLE_TYPE = UNSIGNED_INTEGER
  SAMPLE_BITS = 8
  BANDS = 1
  BAND_STORAGE_TYPE = BAND_SEQUENTIAL
  MAXIMUM = 255
  MEAN = 110.232
  MINIMUM = 1
  STANDARD_DEVIATION = 64.7751
END_OBJECT = IMAGE
/* MAP OBJECT DEFINITIONS */
OBJECT = IMAGE_MAP_PROJECTION
  ^DATA_SET_MAP_PROJECTION_CATALOG= "DSMAP.CAT"
  A_AXIS_RADIUS = 3396.0
  B_AXIS_RADIUS = 3396.0
  C_AXIS_RADIUS = 3396.0
  CENTER_LATITUDE = -39.1603
  CENTER_LONGITUDE = 4.72913
  COORDINATE_SYSTEM_NAME = PLANETOGRAPHIC
  COORDINATE_SYSTEM_TYPE = "BODY-FIXED ROTATING"
  EASTERNMOST_LONGITUDE = 102.667
  FIRST_STANDARD_PARALLEL = "N/A"
  LINE_FIRST_PIXEL = 1
  LINE_LAST_PIXEL = 5071
  LINE_PROJECTION_OFFSET = 2542.75
  MAP_PROJECTION_ROTATION = 0.0
  MAP_PROJECTION_TYPE = ORTHOGRAPHIC
  MAP_RESOLUTION = 74.08922548333329
  MAP_SCALE = 0.8
  MAXIMUM_LATITUDE = 14.922
  MINIMUM_LATITUDE = -58.9486
  POSITIVE_LONGITUDE_DIRECTION = EAST
  REFERENCE_LATITUDE = "N/A"
  REFERENCE_LONGITUDE = "N/A"
  SAMPLE_FIRST_PIXEL = 1
  SAMPLE_LAST_PIXEL = 8102
  SAMPLE_PROJECTION_OFFSET = 4055.25
  SECOND_STANDARD_PARALLEL = "N/A"
  WESTERNMOST_LONGITUDE = -75.682
END_OBJECT = IMAGE_MAP_PROJECTION
END
