PDS_VERSION_ID = PDS3
/* FILE DATA ELEMENTS */
RECORD_TYPE = UNDEFINED
/* POINTERS TO DATA OBJECTS */
^IMAGE = ("HO824_0000_BL4.TIF")
/* IDENTIFICATION DATA ELEMENTS */
DATA_SET_ID = "MEX-M-HRSC-4-REFDR-MAPPROJECT-EXT9-V4.0"
DATA_SET_NAME = "MARS EXPRESS HRSC MAP PROJECTED REFDR EXTENSION9 V4.0"
DETECTOR_ID = MEX_HRSC_BLUE
EVENT_TYPE = "MARS-TERMINATOR-CALIBRATION-Tc"
INSTRUMENT_HOST_ID = MEX
INSTRUMENT_HOST_NAME = "MARS EXPRESS"
INSTRUMENT_ID = HRSC
INSTRUMENT_NAME = "HIGH RESOLUTION STEREO CAMERA"
MISSION_NAME = "MARS EXPRESS"
MISSION_PHASE_NAME = ME_Phase_47
PROCESSING_LEVEL_ID = 4
PRODUCT_CREATION_TIME = 2024-01-15T10:01:10.000Z
PRODUCT_ID = "HO824_0000_BL4.TIF"
RELEASE_ID = 0006
REVISION_ID = 0000
/* QUALITY DATA ELEMENTS */
DATA_QUALITY_ID = 1
DATA_QUALITY_DESC = "Data calculated based on original SPICE kernels"
/* TIME DATA ELEMENTS */
SPACECRAFT_CLOCK_START_COUNT = "1/0641416116.25076"
SPACECRAFT_CLOCK_STOP_COUNT = "1/0641416467.32957"
START_TIME = 2023-08-29T19:11:52.539Z
STOP_TIME = 2023-08-29T19:13:08.654Z
/* ORBITAL DATA ELEMENTS */
ASCENDING_NODE_LONGITUDE = 113.02
MAXIMUM_RESOLUTION = 0.5596
FOOTPRINT_POINT_LATITUDE = (3.95539,4.74054,5.17842,5.60901,6.0328 ,6.45035,6.8619,7.26758,7.6677,8.06257, 8.45246,8.83745,9.21774,9.59334,9.96449 ,10.3314,10.6943,11.0536,11.4093, 11.7614,12.1102,12.4564,12.7995,13.1391 ,13.7252,13.8082,13.8361,15.0347, 16.6341,18.2396,19.046,19.856,20.6694, 21.4871,22.3098,23.1378,24.1821,25.0259 ,25.8782,26.7382,27.6082,28.4895, 29.3821,30.288,31.2079,32.1416,33.0929, 34.0619,35.0515,35.3022,35.3184,34.7695 ,34.3283,33.8837,33.4505,32.9163, 32.3684,31.9312,31.493,31.0552,30.6195, 30.0731,29.6312,29.0811,28.4185,27.6396 ,26.7472,25.958,25.5022,25.0401,24.5737 ,23.9838,23.8648,23.8205,22.547,21.7102 ,20.8821,20.0619,19.249,18.442,17.6408, 16.8452,16.0543,15.2675,14.4839,13.7031 ,12.9243,12.1474,11.3715,10.5965, 9.82125,9.04645,8.2703,7.49302,6.7122, 5.93019,5.14522,4.1588,3.96077,3.95539)
FOOTPRINT_POINT_LONGITUDE = (219.552,221.178,222.095,223.005, 223.908,224.806,225.699,226.589,227.475 ,228.358,229.241,230.121,231.002, 231.882,232.762,233.643,234.527,235.413 ,236.303,237.197,238.095,239.0,239.912, 240.829,242.45,242.684,242.748,242.212, 241.504,240.799,240.446,240.094,239.74, 239.385,239.028,238.67,238.218,237.853, 237.485,237.113,236.736,236.355,235.967 ,235.573,235.172,234.762,234.343, 233.913,233.472,233.36,233.353,231.961, 230.854,229.759,228.673,227.327,226.0, 224.945,223.898,222.856,221.816,220.519 ,219.487,218.193,216.636,214.815, 212.706,210.833,209.751,208.662,207.559 ,206.16,205.877,205.776,206.962,207.71, 208.427,209.116,209.779,210.421,211.042 ,211.641,212.22,212.779,213.322,213.85, 214.365,214.868,215.358,215.837,216.304 ,216.764,217.213,217.653,218.082, 218.506,218.923,219.435,219.536, 219.552)
ORBIT_NUMBER = 24824
ORBITAL_ECCENTRICITY = 0.572
ORBITAL_INCLINATION = 87.08
ORBITAL_SEMIMAJOR_AXIS = 8833.32
PERIAPSIS_ALTITUDE = 385.74
PERIAPSIS_ARGUMENT_ANGLE = 27.81
PERIAPSIS_TIME = 2023-08-29T17:42:14.000Z
SPACECRAFT_ORIENTATION = (0.0,1.0,0.0)
^MEX_ORIENTATION_DESC = "MEX_ORIENTATION_DESC.TXT"
SPACECRAFT_POINTING_MODE = FIXED
^MEX_POINTING_DESC = "MEX_POINTING_DESC.TXT"
RIGHT_ASCENSION = -1e+32
DECLINATION = -1e+32
OFFSET_ANGLE = -1e+32
SPACECRAFT_SOLAR_DISTANCE = 2.43272e+08
TARGET_NAME = MARS
/* CAMERA DATA ELEMENTS */
DETECTOR_TEMPERATURE = 18.1666
FOCAL_PLANE_TEMPERATURE = 8.7872
INST_CMPRS_NAME = "DISCRETE COSINE TRANSFORMATION (DCT)"
INST_CMPRS_RATIO = 4.50945
INST_CMPRS_QUALITY = 0
INST_CMPRS_QUANTZ_TBL_ID = 0
INSTRUMENT_TEMPERATURE = 11.6418
LENS_TEMPERATURE = 9.195
MACROPIXEL_SIZE = 2
MISSING_FRAMES = 0
PIXEL_SUBSAMPLING_FLAG = N
SIGNAL_CHAIN_ID = 2
/* RADIOMETRIC DATA ELEMENTS */
BANDWIDTH = 76.0
CENTER_FILTER_WAVELENGTH = 444.0
RADIANCE_OFFSET = 0.44721
RADIANCE_SCALING_FACTOR = 0.00448964
REFLECTANCE_SCALING_FACTOR = 0.000272976
MEX:REFLECTANCE_OFFSET = 0.027191
/* IMAGE OBJECT DEFINITIONS */
OBJECT = IMAGE
  INTERCHANGE_FORMAT = BINARY
  LINES = 4595
  LINE_SAMPLES = 5063
  SAMPLE_TYPE = UNSIGNED_INTEGER
  SAMPLE_BITS = 8
  BANDS = 1
  BAND_STORAGE_TYPE = BAND_SEQUENTIAL
  MAXIMUM = 253
  MEAN = 124.127
  MINIMUM = 1
  STANDARD_DEVIATION = 26.7454
END_OBJECT = IMAGE
/* MAP OBJECT DEFINITIONS */
OBJECT = IMAGE_MAP_PROJECTION
  ^DATA_SET_MAP_PROJECTION_CATALOG= "DSMAP.CAT"
  A_AXIS_RADIUS = 3396.0
  B_AXIS_RADIUS = 3396.0
  C_AXIS_RADIUS = 3396.0
  CENTER_LATITUDE = 19.2009
  CENTER_LONGITUDE = 226.433
  COORDINATE_SYSTEM_NAME = PLANETOGRAPHIC
  COORDINATE_SYSTEM_TYPE = "BODY-FIXED ROTATING"
  EASTERNMOST_LONGITUDE = 242.748
  FIRST_STANDARD_PARALLEL = "N/A"
  LINE_FIRST_PIXEL = 1
  LINE_LAST_PIXEL = 4595
  LINE_PROJECTION_OFFSET = 2403.0
  MAP_PROJECTION_ROTATION = 0.0
  MAP_PROJECTION_TYPE = ORTHOGRAPHIC
  MAP_RESOLUTION = 148.178450966667
  MAP_SCALE = 0.4
  MAXIMUM_LATITUDE = 35.3184
  MINIMUM_LATITUDE = 3.95539
  POSITIVE_LONGITUDE_DIRECTION = EAST
  REFERENCE_LATITUDE = "N/A"
  REFERENCE_LONGITUDE = "N/A"
  SAMPLE_FIRST_PIXEL = 1
  SAMPLE_LAST_PIXEL = 5063
  SAMPLE_PROJECTION_OFFSET = 2698.0
  SECOND_STANDARD_PARALLEL = "N/A"
  WESTERNMOST_LONGITUDE = 205.776
END_OBJECT = IMAGE_MAP_PROJECTION
END
