PDS_VERSION_ID = PDS3
/* FILE DATA ELEMENTS */
RECORD_TYPE = UNDEFINED
/* POINTERS TO DATA OBJECTS */
^IMAGE = ("HO824_0000_IR4.TIF")
/* IDENTIFICATION DATA ELEMENTS */
DATA_SET_ID = "MEX-M-HRSC-4-REFDR-MAPPROJECT-EXT9-V4.0"
DATA_SET_NAME = "MARS EXPRESS HRSC MAP PROJECTED REFDR EXTENSION9 V4.0"
DETECTOR_ID = MEX_HRSC_IR
EVENT_TYPE = "MARS-TERMINATOR-CALIBRATION-Tc"
INSTRUMENT_HOST_ID = MEX
INSTRUMENT_HOST_NAME = "MARS EXPRESS"
INSTRUMENT_ID = HRSC
INSTRUMENT_NAME = "HIGH RESOLUTION STEREO CAMERA"
MISSION_NAME = "MARS EXPRESS"
MISSION_PHASE_NAME = ME_Phase_47
PROCESSING_LEVEL_ID = 4
PRODUCT_CREATION_TIME = 2024-01-15T10:01:10.000Z
PRODUCT_ID = "HO824_0000_IR4.TIF"
RELEASE_ID = 0006
REVISION_ID = 0000
/* QUALITY DATA ELEMENTS */
DATA_QUALITY_ID = 1
DATA_QUALITY_DESC = "Data calculated based on original SPICE kernels"
/* TIME DATA ELEMENTS */
SPACECRAFT_CLOCK_START_COUNT = "1/0641416116.25076"
SPACECRAFT_CLOCK_STOP_COUNT = "1/0641416467.32957"
START_TIME = 2023-08-29T19:09:34.550Z
STOP_TIME = 2023-08-29T19:10:50.665Z
/* ORBITAL DATA ELEMENTS */
ASCENDING_NODE_LONGITUDE = 113.02
MAXIMUM_RESOLUTION = 0.5504
FOOTPRINT_POINT_LATITUDE = (5.5537,6.28509,6.69365,7.0957,7.49168, 7.88189,8.26661,8.64618,9.02078,9.39057 ,9.75575,10.1166,10.473,10.8251,11.1732 ,11.5175,11.8581,12.1947,12.5278, 12.8577,13.1845,13.5082,13.8287,14.1461 ,14.6941,14.7716,14.798,15.9725,16.7553 ,18.3232,19.1098,19.8988,20.6907, 21.4857,22.2845,23.0877,23.8961,24.7105 ,25.5316,26.3601,27.1959,28.0407, 28.8958,29.7611,30.6375,31.5264,32.43, 33.3478,34.2816,35.4758,35.7184,35.734, 35.3225,34.9069,34.4933,34.0781,33.6634 ,33.2619,32.5454,32.1317,31.7167, 31.2013,30.7846,30.368,29.9512,29.4223, 29.0051,28.5811,28.0515,27.3054,26.5499 ,26.1156,25.6753,25.0074,24.8948, 24.8528,23.2118,22.4052,21.6065,20.8142 ,20.0288,19.2485,18.4736,17.7034, 16.9373,16.1742,15.4141,14.0893,13.3342 ,12.3916,11.6382,10.8845,10.1301,9.3749 ,8.61784,7.85955,7.09901,5.75611, 5.56359,5.5537)
FOOTPRINT_POINT_LONGITUDE = (221.701,223.217,224.074,224.927, 225.774,226.619,227.46,228.3,229.137, 229.974,230.81,231.646,232.482,233.319, 234.157,234.997,235.84,236.685,237.534, 238.388,239.247,240.112,240.983,241.861 ,243.415,243.639,243.7,243.175,242.828, 242.135,241.791,241.446,241.102,240.756 ,240.409,240.06,239.71,239.357,239.002, 238.644,238.283,237.917,237.547,237.171 ,236.79,236.402,236.007,235.604,235.191 ,234.661,234.553,234.546,233.482,232.42 ,231.37,230.332,229.305,228.283,226.517 ,225.519,224.527,223.29,222.307,221.325 ,220.344,219.124,218.141,217.161,215.93 ,214.195,212.445,211.431,210.412, 208.863,208.603,208.51,209.983,210.673, 211.336,211.978,212.595,213.195,213.774 ,214.335,214.877,215.409,215.921, 216.797,217.276,217.862,218.32,218.768, 219.208,219.64,220.064,220.482,220.893, 221.593,221.692,221.701)
ORBIT_NUMBER = 24824
ORBITAL_ECCENTRICITY = 0.572
ORBITAL_INCLINATION = 87.08
ORBITAL_SEMIMAJOR_AXIS = 8833.32
PERIAPSIS_ALTITUDE = 385.74
PERIAPSIS_ARGUMENT_ANGLE = 27.81
PERIAPSIS_TIME = 2023-08-29T17:42:14.000Z
SPACECRAFT_ORIENTATION = (0.0,1.0,0.0)
^MEX_ORIENTATION_DESC = "MEX_ORIENTATION_DESC.TXT"
SPACECRAFT_POINTING_MODE = FIXED
^MEX_POINTING_DESC = "MEX_POINTING_DESC.TXT"
RIGHT_ASCENSION = -1e+32
DECLINATION = -1e+32
OFFSET_ANGLE = -1e+32
SPACECRAFT_SOLAR_DISTANCE = 2.43272e+08
TARGET_NAME = MARS
/* CAMERA DATA ELEMENTS */
DETECTOR_TEMPERATURE = 17.5549
FOCAL_PLANE_TEMPERATURE = 8.7872
INST_CMPRS_NAME = "DISCRETE COSINE TRANSFORMATION (DCT)"
INST_CMPRS_RATIO = 4.66168
INST_CMPRS_QUALITY = 0
INST_CMPRS_QUANTZ_TBL_ID = 0
INSTRUMENT_TEMPERATURE = 11.6418
LENS_TEMPERATURE = 9.195
MACROPIXEL_SIZE = 2
MISSING_FRAMES = 0
PIXEL_SUBSAMPLING_FLAG = N
SIGNAL_CHAIN_ID = 1
/* RADIOMETRIC DATA ELEMENTS */
BANDWIDTH = 81.0
CENTER_FILTER_WAVELENGTH = 955.5
RADIANCE_OFFSET = 1.11775
RADIANCE_SCALING_FACTOR = 0.00803611
REFLECTANCE_SCALING_FACTOR = 0.00102596
MEX:REFLECTANCE_OFFSET = 0.142702
/* IMAGE OBJECT DEFINITIONS */
OBJECT = IMAGE
  INTERCHANGE_FORMAT = BINARY
  LINES = 4595
  LINE_SAMPLES = 5063
  SAMPLE_TYPE = UNSIGNED_INTEGER
  SAMPLE_BITS = 8
  BANDS = 1
  BAND_STORAGE_TYPE = BAND_SEQUENTIAL
  MAXIMUM = 255
  MEAN = 133.006
  MINIMUM = 1
  STANDARD_DEVIATION = 42.1407
END_OBJECT = IMAGE
/* MAP OBJECT DEFINITIONS */
OBJECT = IMAGE_MAP_PROJECTION
  ^DATA_SET_MAP_PROJECTION_CATALOG= "DSMAP.CAT"
  A_AXIS_RADIUS = 3396.0
  B_AXIS_RADIUS = 3396.0
  C_AXIS_RADIUS = 3396.0
  CENTER_LATITUDE = 19.2009
  CENTER_LONGITUDE = 226.433
  COORDINATE_SYSTEM_NAME = PLANETOGRAPHIC
  COORDINATE_SYSTEM_TYPE = "BODY-FIXED ROTATING"
  EASTERNMOST_LONGITUDE = 243.7
  FIRST_STANDARD_PARALLEL = "N/A"
  LINE_FIRST_PIXEL = 1
  LINE_LAST_PIXEL = 4595
  LINE_PROJECTION_OFFSET = 2403.0
  MAP_PROJECTION_ROTATION = 0.0
  MAP_PROJECTION_TYPE = ORTHOGRAPHIC
  MAP_RESOLUTION = 148.178450966667
  MAP_SCALE = 0.4
  MAXIMUM_LATITUDE = 35.734
  MINIMUM_LATITUDE = 5.5537
  POSITIVE_LONGITUDE_DIRECTION = EAST
  REFERENCE_LATITUDE = "N/A"
  REFERENCE_LONGITUDE = "N/A"
  SAMPLE_FIRST_PIXEL = 1
  SAMPLE_LAST_PIXEL = 5063
  SAMPLE_PROJECTION_OFFSET = 2698.0
  SECOND_STANDARD_PARALLEL = "N/A"
  WESTERNMOST_LONGITUDE = 208.51
END_OBJECT = IMAGE_MAP_PROJECTION
END
