PDS_VERSION_ID = PDS3
/* FILE DATA ELEMENTS */
RECORD_TYPE = UNDEFINED
/* POINTERS TO DATA OBJECTS */
^IMAGE = ("HO970_0000_GR4.TIF")
/* IDENTIFICATION DATA ELEMENTS */
DATA_SET_ID = "MEX-M-HRSC-4-REFDR-MAPPROJECT-EXT9-V4.0"
DATA_SET_NAME = "MARS EXPRESS HRSC MAP PROJECTED REFDR EXTENSION9 V4.0"
DETECTOR_ID = MEX_HRSC_GREEN
EVENT_TYPE = "MARS-TERMINATOR-CALIBRATION-Tc"
INSTRUMENT_HOST_ID = MEX
INSTRUMENT_HOST_NAME = "MARS EXPRESS"
INSTRUMENT_ID = HRSC
INSTRUMENT_NAME = "HIGH RESOLUTION STEREO CAMERA"
MISSION_NAME = "MARS EXPRESS"
MISSION_PHASE_NAME = ME_Phase_47
PROCESSING_LEVEL_ID = 4
PRODUCT_CREATION_TIME = 2024-01-15T14:02:56.000Z
PRODUCT_ID = "HO970_0000_GR4.TIF"
RELEASE_ID = 0007
REVISION_ID = 0000
/* QUALITY DATA ELEMENTS */
DATA_QUALITY_ID = 1
DATA_QUALITY_DESC = "Data calculated based on original SPICE kernels"
/* TIME DATA ELEMENTS */
SPACECRAFT_CLOCK_START_COUNT = "1/0645085517.24917"
SPACECRAFT_CLOCK_STOP_COUNT = "1/0645086088.24424"
START_TIME = 2023-10-11T06:27:28.711Z
STOP_TIME = 2023-10-11T06:33:06.680Z
/* ORBITAL DATA ELEMENTS */
ASCENDING_NODE_LONGITUDE = 110.44
MAXIMUM_RESOLUTION = 0.4373
FOOTPRINT_POINT_LATITUDE = (-12.7875,-12.8071,-12.3361,-12.4653, -12.3409,-12.2473,-9.65536,-6.04398, -1.67138,1.23678,3.38404,6.08747, 9.44285,12.7199,15.4586,19.5068,22.7012 ,26.808,30.4156,33.1426,36.3923,39.9405 ,44.012,48.1696,50.7917,54.0747,56.4136 ,58.2867,60.4851,63.5271,66.7319, 69.1807,71.6829,73.3042,74.0726,74.4514 ,74.2518,73.3699,72.323,71.1386,69.392, 66.8633,65.0689,62.4814,60.4523,58.481, 59.8575,60.1783,61.5396,61.7778,61.8658 ,62.3708,62.6718,62.229,61.3895,64.0531 ,66.4618,69.5128,71.678,74.8217,77.2424 ,78.9184,80.1725,81.3458,81.4812,80.215 ,76.9014,75.0213,72.0722,69.9018, 66.9415,63.2532,59.619,57.3533,54.0657, 51.6809,47.7028,42.9012,38.6346,35.8887 ,33.379,30.1733,28.0675,24.374,21.7836, 18.4495,15.637,11.5876,5.85466,3.16772, -0.325033,-2.66555,-6.35475,-10.289, -9.58164,-11.6041,-12.0419,-11.8073, -12.7875)
FOOTPRINT_POINT_LONGITUDE = (79.3803,79.3902,80.9369,83.2169, 86.5827,91.0657,91.0006,90.8012,90.632, 90.5651,90.5404,90.5313,90.5566,90.6302 ,90.7309,90.9529,91.197,91.6169,92.1017 ,92.5528,93.2027,94.0799,95.3541, 97.0365,98.3547,100.369,102.119,103.761 ,106.034,110.002,115.754,121.978, 131.575,141.988,150.744,162.91,172.207, 183.757,191.319,197.332,203.806,210.479 ,214.065,218.173,220.775,226.617, 229.697,235.349,245.211,250.735,252.554 ,262.423,270.901,277.386,283.363, 284.864,286.636,289.608,292.447,298.382 ,305.612,313.44,322.549,338.885,4.94831 ,24.6287,43.1178,48.6137,54.3893, 57.3471,60.3169,62.9179,64.7123,65.5613 ,66.5207,67.0548,67.7114,68.1992, 68.4194,68.4752,68.4796,68.4217,68.3369 ,68.1405,67.958,67.6699,67.3883,66.9202 ,66.1198,65.6887,65.074,64.6279,63.8571 ,62.9395,66.2181,70.0119,75.0714, 76.3006,79.3803)
ORBIT_NUMBER = 24970
ORBITAL_ECCENTRICITY = 0.575
ORBITAL_INCLINATION = 87.06
ORBITAL_SEMIMAJOR_AXIS = 8854.3
PERIAPSIS_ALTITUDE = 371.19
PERIAPSIS_ARGUMENT_ANGLE = 2.73
PERIAPSIS_TIME = 2023-10-11T05:23:14.000Z
SPACECRAFT_ORIENTATION = (0.0,1.0,0.0)
^MEX_ORIENTATION_DESC = "MEX_ORIENTATION_DESC.TXT"
SPACECRAFT_POINTING_MODE = FIXED
^MEX_POINTING_DESC = "MEX_POINTING_DESC.TXT"
RIGHT_ASCENSION = -1e+32
DECLINATION = -1e+32
OFFSET_ANGLE = -1e+32
SPACECRAFT_SOLAR_DISTANCE = 2.36925e+08
TARGET_NAME = MARS
/* CAMERA DATA ELEMENTS */
DETECTOR_TEMPERATURE = 18.5744
FOCAL_PLANE_TEMPERATURE = 8.5833
INST_CMPRS_NAME = "DISCRETE COSINE TRANSFORMATION (DCT)"
INST_CMPRS_RATIO = 8.8358
INST_CMPRS_QUALITY = 0
INST_CMPRS_QUANTZ_TBL_ID = 0
INSTRUMENT_TEMPERATURE = 11.234
LENS_TEMPERATURE = 9.195
MACROPIXEL_SIZE = 2
MISSING_FRAMES = 0
PIXEL_SUBSAMPLING_FLAG = N
SIGNAL_CHAIN_ID = 2
/* RADIOMETRIC DATA ELEMENTS */
BANDWIDTH = 88.0
CENTER_FILTER_WAVELENGTH = 538.0
RADIANCE_OFFSET = 0.0
RADIANCE_SCALING_FACTOR = 0.0116949
REFLECTANCE_SCALING_FACTOR = 0.00056517
MEX:REFLECTANCE_OFFSET = 0.0
/* IMAGE OBJECT DEFINITIONS */
OBJECT = IMAGE
  INTERCHANGE_FORMAT = BINARY
  LINES = 15133
  LINE_SAMPLES = 5658
  SAMPLE_TYPE = UNSIGNED_INTEGER
  SAMPLE_BITS = 8
  BANDS = 1
  BAND_STORAGE_TYPE = BAND_SEQUENTIAL
  MAXIMUM = 255
  MEAN = 142.112
  MINIMUM = 23
  STANDARD_DEVIATION = 50.4211
END_OBJECT = IMAGE
/* MAP OBJECT DEFINITIONS */
OBJECT = IMAGE_MAP_PROJECTION
  ^DATA_SET_MAP_PROJECTION_CATALOG= "DSMAP.CAT"
  A_AXIS_RADIUS = 3396.0
  B_AXIS_RADIUS = 3396.0
  C_AXIS_RADIUS = 3396.0
  CENTER_LATITUDE = 50.7844
  CENTER_LONGITUDE = 82.8267
  COORDINATE_SYSTEM_NAME = PLANETOGRAPHIC
  COORDINATE_SYSTEM_TYPE = "BODY-FIXED ROTATING"
  EASTERNMOST_LONGITUDE = 360.0
  FIRST_STANDARD_PARALLEL = "N/A"
  LINE_FIRST_PIXEL = 1
  LINE_LAST_PIXEL = 15133
  LINE_PROJECTION_OFFSET = 7635.75
  MAP_PROJECTION_ROTATION = 0.0
  MAP_PROJECTION_TYPE = ORTHOGRAPHIC
  MAP_RESOLUTION = 148.178450966667
  MAP_SCALE = 0.4
  MAXIMUM_LATITUDE = 90.0
  MINIMUM_LATITUDE = -12.8071
  POSITIVE_LONGITUDE_DIRECTION = EAST
  REFERENCE_LATITUDE = "N/A"
  REFERENCE_LONGITUDE = "N/A"
  SAMPLE_FIRST_PIXEL = 1
  SAMPLE_LAST_PIXEL = 5658
  SAMPLE_PROJECTION_OFFSET = 2799.25
  SECOND_STANDARD_PARALLEL = "N/A"
  WESTERNMOST_LONGITUDE = 0.0
END_OBJECT = IMAGE_MAP_PROJECTION
END
