PDS_VERSION_ID = PDS3
/* FILE DATA ELEMENTS */
RECORD_TYPE = UNDEFINED
/* POINTERS TO DATA OBJECTS */
^IMAGE = ("HO982_0000_IR4.TIF")
/* IDENTIFICATION DATA ELEMENTS */
DATA_SET_ID = "MEX-M-HRSC-4-REFDR-MAPPROJECT-EXT9-V4.0"
DATA_SET_NAME = "MARS EXPRESS HRSC MAP PROJECTED REFDR EXTENSION9 V4.0"
DETECTOR_ID = MEX_HRSC_IR
EVENT_TYPE = "MARS-TERMINATOR-CALIBRATION-Tc"
INSTRUMENT_HOST_ID = MEX
INSTRUMENT_HOST_NAME = "MARS EXPRESS"
INSTRUMENT_ID = HRSC
INSTRUMENT_NAME = "HIGH RESOLUTION STEREO CAMERA"
MISSION_NAME = "MARS EXPRESS"
MISSION_PHASE_NAME = ME_Phase_47
PROCESSING_LEVEL_ID = 4
PRODUCT_CREATION_TIME = 2024-01-15T14:02:56.000Z
PRODUCT_ID = "HO982_0000_IR4.TIF"
RELEASE_ID = 0007
REVISION_ID = 0000
/* QUALITY DATA ELEMENTS */
DATA_QUALITY_ID = 1
DATA_QUALITY_DESC = "Data calculated based on original SPICE kernels"
/* TIME DATA ELEMENTS */
SPACECRAFT_CLOCK_START_COUNT = "1/0645395635.25705"
SPACECRAFT_CLOCK_STOP_COUNT = "1/0645396059.21574"
START_TIME = 2023-10-14T20:34:31.663Z
STOP_TIME = 2023-10-14T20:37:53.775Z
/* ORBITAL DATA ELEMENTS */
ASCENDING_NODE_LONGITUDE = 110.23
MAXIMUM_RESOLUTION = 0.8397
FOOTPRINT_POINT_LATITUDE = (-64.793,-64.8313,-62.127,-61.7475, -57.9356,-53.756,-50.8582,-48.0853, -45.5096,-42.2011,-39.9059,-38.2737, -35.7722,-34.1934,-31.4034,-28.9189, -24.9808,-22.9061,-17.9268,-14.1562, -11.867,-6.97536,-3.20724,-0.754903, 2.14509,5.882,10.6033,13.7814,16.8428, 21.3639,24.5007,28.2677,33.926,38.0223, 40.628,44.0141,49.6192,53.5377,58.3365, 61.3937,65.4062,70.2628,73.4591,73.6902 ,75.4426,73.0007,72.2677,69.479,67.78, 62.7952,58.7461,56.1186,53.4976,51.5829 ,47.7097,44.1736,42.6105,40.3822, 38.5766,35.8272,33.1324,30.679,28.4233, 26.3046,24.0584,20.3198,16.8246,13.5133 ,10.3317,7.62326,4.68608,0.307457, -2.65363,-5.34265,-7.67809,-10.6173, -13.8177,-16.6072,-20.4452,-24.2887, -26.72,-30.0098,-33.8607,-36.3426, -40.476,-43.3433,-46.9057,-49.5604, -53.5068,-55.9833,-58.5121,-62.6676, -68.5881,-71.4905,-73.1447,-72.7476, -70.6717,-69.0367,-67.1025,-64.793)
FOOTPRINT_POINT_LONGITUDE = (319.902,320.09,319.575,324.948,328.012 ,331.809,330.655,332.318,333.128, 332.887,326.239,322.575,317.922,315.42, 311.597,308.676,304.686,302.834,298.977 ,296.533,295.163,292.528,290.661, 289.584,288.402,287.01,285.428,284.455, 283.591,282.434,281.714,280.929,279.947 ,279.38,279.071,278.767,278.53,278.592, 278.981,279.495,280.624,283.096,283.612 ,269.828,255.343,247.525,233.834, 223.104,218.747,212.52,206.983,204.57, 205.807,202.225,200.584,203.922,209.147 ,214.796,218.471,223.13,226.897,229.867 ,232.283,234.337,236.318,239.259, 241.682,243.731,245.515,246.916,248.323 ,250.235,251.407,252.405,253.219, 254.172,255.138,255.928,256.927,257.834 ,258.364,259.037,259.729,260.11,260.678 ,260.995,261.326,261.516,261.638, 261.625,261.515,261.065,259.567,258.223 ,273.348,286.232,299.034,310.307, 312.502,319.902)
ORBIT_NUMBER = 24982
ORBITAL_ECCENTRICITY = 0.574
ORBITAL_INCLINATION = 87.05
ORBITAL_SEMIMAJOR_AXIS = 8850.32
PERIAPSIS_ALTITUDE = 370.58
PERIAPSIS_ARGUMENT_ANGLE = 0.68
PERIAPSIS_TIME = 2023-10-14T17:11:51.000Z
SPACECRAFT_ORIENTATION = (0.0,1.0,0.0)
^MEX_ORIENTATION_DESC = "MEX_ORIENTATION_DESC.TXT"
SPACECRAFT_POINTING_MODE = FIXED
^MEX_POINTING_DESC = "MEX_POINTING_DESC.TXT"
RIGHT_ASCENSION = -1e+32
DECLINATION = -1e+32
OFFSET_ANGLE = -1e+32
SPACECRAFT_SOLAR_DISTANCE = 2.36328e+08
TARGET_NAME = MARS
/* CAMERA DATA ELEMENTS */
DETECTOR_TEMPERATURE = 17.351
FOCAL_PLANE_TEMPERATURE = 8.5833
INST_CMPRS_NAME = "DISCRETE COSINE TRANSFORMATION (DCT)"
INST_CMPRS_RATIO = 6.97381
INST_CMPRS_QUALITY = 0
INST_CMPRS_QUANTZ_TBL_ID = 0
INSTRUMENT_TEMPERATURE = 11.234
LENS_TEMPERATURE = 9.195
MACROPIXEL_SIZE = 2
MISSING_FRAMES = 0
PIXEL_SUBSAMPLING_FLAG = N
SIGNAL_CHAIN_ID = 3
/* RADIOMETRIC DATA ELEMENTS */
BANDWIDTH = 81.0
CENTER_FILTER_WAVELENGTH = 955.5
RADIANCE_OFFSET = 0.0
RADIANCE_SCALING_FACTOR = 0.00774187
REFLECTANCE_SCALING_FACTOR = 0.000932639
MEX:REFLECTANCE_OFFSET = 0.0
/* IMAGE OBJECT DEFINITIONS */
OBJECT = IMAGE
  INTERCHANGE_FORMAT = BINARY
  LINES = 8046
  LINE_SAMPLES = 5708
  SAMPLE_TYPE = UNSIGNED_INTEGER
  SAMPLE_BITS = 8
  BANDS = 1
  BAND_STORAGE_TYPE = BAND_SEQUENTIAL
  MAXIMUM = 255
  MEAN = 104.797
  MINIMUM = 1
  STANDARD_DEVIATION = 70.8821
END_OBJECT = IMAGE
/* MAP OBJECT DEFINITIONS */
OBJECT = IMAGE_MAP_PROJECTION
  ^DATA_SET_MAP_PROJECTION_CATALOG= "DSMAP.CAT"
  A_AXIS_RADIUS = 3396.0
  B_AXIS_RADIUS = 3396.0
  C_AXIS_RADIUS = 3396.0
  CENTER_LATITUDE = 0.352397
  CENTER_LONGITUDE = 268.504
  COORDINATE_SYSTEM_NAME = PLANETOGRAPHIC
  COORDINATE_SYSTEM_TYPE = "BODY-FIXED ROTATING"
  EASTERNMOST_LONGITUDE = 333.128
  FIRST_STANDARD_PARALLEL = "N/A"
  LINE_FIRST_PIXEL = 1
  LINE_LAST_PIXEL = 8046
  LINE_PROJECTION_OFFSET = 4044.75
  MAP_PROJECTION_ROTATION = 0.0
  MAP_PROJECTION_TYPE = ORTHOGRAPHIC
  MAP_RESOLUTION = 74.08922548333329
  MAP_SCALE = 0.8
  MAXIMUM_LATITUDE = 75.4426
  MINIMUM_LATITUDE = -73.1447
  POSITIVE_LONGITUDE_DIRECTION = EAST
  REFERENCE_LATITUDE = "N/A"
  REFERENCE_LONGITUDE = "N/A"
  SAMPLE_FIRST_PIXEL = 1
  SAMPLE_LAST_PIXEL = 5708
  SAMPLE_PROJECTION_OFFSET = 2854.25
  SECOND_STANDARD_PARALLEL = "N/A"
  WESTERNMOST_LONGITUDE = 200.584
END_OBJECT = IMAGE_MAP_PROJECTION
END
