PDS_VERSION_ID = PDS3
/* FILE DATA ELEMENTS */
RECORD_TYPE = UNDEFINED
/* POINTERS TO DATA OBJECTS */
^IMAGE = ("HO985_0000_RE4.TIF")
/* IDENTIFICATION DATA ELEMENTS */
DATA_SET_ID = "MEX-M-HRSC-4-REFDR-MAPPROJECT-EXT9-V4.0"
DATA_SET_NAME = "MARS EXPRESS HRSC MAP PROJECTED REFDR EXTENSION9 V4.0"
DETECTOR_ID = MEX_HRSC_RED
EVENT_TYPE = "MARS-TERMINATOR-CALIBRATION-Tc"
INSTRUMENT_HOST_ID = MEX
INSTRUMENT_HOST_NAME = "MARS EXPRESS"
INSTRUMENT_ID = HRSC
INSTRUMENT_NAME = "HIGH RESOLUTION STEREO CAMERA"
MISSION_NAME = "MARS EXPRESS"
MISSION_PHASE_NAME = ME_Phase_47
PROCESSING_LEVEL_ID = 4
PRODUCT_CREATION_TIME = 2024-01-15T14:02:56.000Z
PRODUCT_ID = "HO985_0000_RE4.TIF"
RELEASE_ID = 0007
REVISION_ID = 0000
/* QUALITY DATA ELEMENTS */
DATA_QUALITY_ID = 1
DATA_QUALITY_DESC = "Data calculated based on original SPICE kernels"
/* TIME DATA ELEMENTS */
SPACECRAFT_CLOCK_START_COUNT = "1/0645451163.25683"
SPACECRAFT_CLOCK_STOP_COUNT = "1/0645451618.22164"
START_TIME = 2023-10-15T12:03:40.115Z
STOP_TIME = 2023-10-15T12:07:33.041Z
/* ORBITAL DATA ELEMENTS */
ASCENDING_NODE_LONGITUDE = 110.19
MAXIMUM_RESOLUTION = 0.6993
FOOTPRINT_POINT_LATITUDE = (-63.9325,-60.533,-60.4562,-57.622, -56.5616,-57.4743,-58.0639,-58.1581, -57.8074,-57.1248,-55.5685,-53.3205, -51.2767,-47.8879,-45.8448,-43.5746, -41.5929,-37.9489,-36.0416,-33.4415, -29.6867,-26.8851,-24.3048,-21.9353, -19.7777,-15.3366,-10.6503,-6.74405, -4.3842,-1.89383,0.753734,3.59406, 6.67518,10.1183,14.0239,16.2578,18.7416 ,21.549,24.8875,29.1884,32.3475,36.883, 40.5558,40.6844,37.2946,35.8738,36.5152 ,36.9689,36.586,34.4172,31.1956,29.3998 ,27.221,24.9137,21.952,20.4335,17.651, 15.1823,12.2451,10.4938,8.08685,4.663, 1.97532,-0.313631,-4.23301,-7.64468, -11.0949,-13.911,-16.5705,-20.9344, -23.6189,-25.9414,-28.2272,-32.7352, -36.6713,-41.5375,-47.8251,-52.0194, -54.7433,-58.7658,-64.0709,-67.7858, -71.9867,-74.3332,-76.887,-79.6259, -82.2098,-82.7391,-81.0852,-81.7098, -80.1876,-81.9652,-78.8421,-80.1588, -76.9269,-73.5771,-70.0894,-67.2702, -63.9325)
FOOTPRINT_POINT_LONGITUDE = (151.503,147.74,148.006,144.664,137.643 ,131.142,123.26,117.808,109.245,102.851 ,94.1892,86.0662,80.6067,73.5979,70.177 ,66.8556,64.2832,60.1554,58.2458, 55.8579,52.7584,50.6782,48.9124,47.3901 ,46.0738,43.5572,41.1246,39.2357, 38.1404,37.0183,35.856,34.6364,33.3361, 31.9056,30.2898,29.3655,28.3306,27.1435 ,25.7,23.765,22.2769,19.9759,16.5314, 15.2492,14.6082,12.1238,7.87533,7.26451 ,6.86295,3.28671,0.0100332,356.922, 355.266,352.675,350.23,347.995,346.658, 344.179,345.412,347.494,350.1,353.394, 355.711,357.519,0.328308,2.54499,4.6009 ,6.13975,7.50643,9.53593,10.7018, 11.6291,12.4969,14.0468,15.2299,16.4413 ,17.6257,18.0406,18.1654,18.0098, 16.9993,15.4093,12.1153,9.076,3.9633, 354.245,331.227,308.718,276.726,252.427 ,230.259,206.216,195.862,183.294, 175.025,164.05,156.157,151.995,151.503)
ORBIT_NUMBER = 24985
ORBITAL_ECCENTRICITY = 0.574
ORBITAL_INCLINATION = 87.06
ORBITAL_SEMIMAJOR_AXIS = 8845.41
PERIAPSIS_ALTITUDE = 370.17
PERIAPSIS_ARGUMENT_ANGLE = 0.14
PERIAPSIS_TIME = 2023-10-15T14:09:02.000Z
SPACECRAFT_ORIENTATION = (0.0,1.0,0.0)
^MEX_ORIENTATION_DESC = "MEX_ORIENTATION_DESC.TXT"
SPACECRAFT_POINTING_MODE = FIXED
^MEX_POINTING_DESC = "MEX_POINTING_DESC.TXT"
RIGHT_ASCENSION = -1e+32
DECLINATION = -1e+32
OFFSET_ANGLE = -1e+32
SPACECRAFT_SOLAR_DISTANCE = 2.36177e+08
TARGET_NAME = MARS
/* CAMERA DATA ELEMENTS */
DETECTOR_TEMPERATURE = 18.5744
FOCAL_PLANE_TEMPERATURE = 8.5833
INST_CMPRS_NAME = "DISCRETE COSINE TRANSFORMATION (DCT)"
INST_CMPRS_RATIO = 8.78145
INST_CMPRS_QUALITY = 0
INST_CMPRS_QUANTZ_TBL_ID = 0
INSTRUMENT_TEMPERATURE = 11.0301
LENS_TEMPERATURE = 8.7872
MACROPIXEL_SIZE = 2
MISSING_FRAMES = 0
PIXEL_SUBSAMPLING_FLAG = N
SIGNAL_CHAIN_ID = 3
/* RADIOMETRIC DATA ELEMENTS */
BANDWIDTH = 48.0
CENTER_FILTER_WAVELENGTH = 748.0
RADIANCE_OFFSET = 0.0
RADIANCE_SCALING_FACTOR = 0.00247286
REFLECTANCE_SCALING_FACTOR = 0.000314816
MEX:REFLECTANCE_OFFSET = 0.0
/* IMAGE OBJECT DEFINITIONS */
OBJECT = IMAGE
  INTERCHANGE_FORMAT = BINARY
  LINES = 7825
  LINE_SAMPLES = 5676
  SAMPLE_TYPE = UNSIGNED_INTEGER
  SAMPLE_BITS = 8
  BANDS = 1
  BAND_STORAGE_TYPE = BAND_SEQUENTIAL
  MAXIMUM = 255
  MEAN = 70.0297
  MINIMUM = 1
  STANDARD_DEVIATION = 89.5633
END_OBJECT = IMAGE
/* MAP OBJECT DEFINITIONS */
OBJECT = IMAGE_MAP_PROJECTION
  ^DATA_SET_MAP_PROJECTION_CATALOG= "DSMAP.CAT"
  A_AXIS_RADIUS = 3396.0
  B_AXIS_RADIUS = 3396.0
  C_AXIS_RADIUS = 3396.0
  CENTER_LATITUDE = -29.8072
  CENTER_LONGITUDE = 35.0362
  COORDINATE_SYSTEM_NAME = PLANETOGRAPHIC
  COORDINATE_SYSTEM_TYPE = "BODY-FIXED ROTATING"
  EASTERNMOST_LONGITUDE = 360.0
  FIRST_STANDARD_PARALLEL = "N/A"
  LINE_FIRST_PIXEL = 1
  LINE_LAST_PIXEL = 7825
  LINE_PROJECTION_OFFSET = 3943.75
  MAP_PROJECTION_ROTATION = 0.0
  MAP_PROJECTION_TYPE = ORTHOGRAPHIC
  MAP_RESOLUTION = 74.08922548333329
  MAP_SCALE = 0.8
  MAXIMUM_LATITUDE = 40.6844
  MINIMUM_LATITUDE = -90.0
  POSITIVE_LONGITUDE_DIRECTION = EAST
  REFERENCE_LATITUDE = "N/A"
  REFERENCE_LONGITUDE = "N/A"
  SAMPLE_FIRST_PIXEL = 1
  SAMPLE_LAST_PIXEL = 5676
  SAMPLE_PROJECTION_OFFSET = 3288.75
  SECOND_STANDARD_PARALLEL = "N/A"
  WESTERNMOST_LONGITUDE = 0.0
END_OBJECT = IMAGE_MAP_PROJECTION
END
